{"text_format":"1","workbook":"xlsx","n_sheets":5,"sheets":["Recipe to Formula (1)","Recipe to Formula (2)","Recipe to Formula (3)","%Analysis","Revisions"],"not_rendered":{"charts":0,"images":6,"macros":1,"external_links":0,"defined_names":46,"comments":0,"pivot_tables":0},"unopened":[],"bounds":{"document_bytes":16777216,"sheet_cells":100000,"rows_first":2000,"rows_last":500,"rows_between":2000,"halvings":0,"cell_chars":16384,"cell_head_chars":4096},"cells_cut":0,"cells_raw":0,"read":"whole","date_system":"1900"}

{"sheet":"Recipe to Formula (1)","index":0,"n_rows":164,"n_cols":26,"rows_kept":164,"cut":false,"hidden":false,"merged":[[2,5,2,12],[4,1,4,3],[8,5,8,12],[14,5,14,12]]}
[]
[null,"EuCal",null,"version 1.91",null,null,null,null,null,true,null,null,false]
[null,null,null,"Recipe to Formula",null,"Formula - Standard Molecular Unity",null,null,null,null,null,null,null,null,null,null,null,null,null,null,null,null,null,null,null,{"$f":"+'%Analysis'!A5","v":"Al2O3"}]
[null,null,null,null,"Batch","K2O",{"$f":"C92","v":7.2127597393417342E-2},"CaO",{"$f":"F92","v":0.53555772613829533},"Al2O3",{"$f":"L92","v":0.26972573355632778},"SiO2",{"$f":"M92","v":1.7786566926264971},null,null,null,null,null,null,null,null,null,null,null,null,{"$f":"+'%Analysis'!A6","v":"Albany Slip"}]
[null,"Recipe",null,null,"Size","Na2O",{"$f":"D92","v":7.4939339910883376E-2},"MgO",{"$f":"G92","v":0.31603303179764558},"B2O3",{"$f":"+K92","v":0.14362745236998892},"SiO2/Al2O3",{"$f":"M4/K4","v":6.5943158970223132},null,null,null,null,null,null,null,null,null,null,null,null,{"$f":"+'%Analysis'!A7","v":"Alumina Hydrate"}]
[null,"Mineral","%","Fit 100%",106,"Li2O",{"$f":"E92","v":0},"SrO",{"$f":"I92","v":1.3423047597585429E-3},"Fe2O3",{"$f":"Q155/$H$156","v":2.3641433483927487E-3},null,null,null,null,null,null,null,null,null,null,null,null,null,null,{"$f":"+'%Analysis'!A8","v":"B2O3"}]
[null,"Dolomite",12,{"$f":"IF(C7>0,C7/SUM($C$7:$C$18)*100,\"\")","v":11.320754716981133},{"$f":"IF(C7>0,D7*$E$6*0.01,\"\")","v":12},"R2O",{"$f":"SUM(G4:G6)","v":0.1470669373043007},"ZnO",{"$f":"J92","v":0},null,null,null,null,null,null,null,null,null,null,null,null,null,null,null,null,{"$f":"+'%Analysis'!A9","v":"BaCarb"}]
[null,"Gillespie Borate",14,13.20754716981132,{"$f":"IF(C8>0,D8*$E$6*0.01,\"\")","v":14},"RO",{"$f":"SUM(I4:I8)","v":0.85293306269569946},"BaO",{"$f":"H92","v":0},null,null,null,null,null,null,null,null,null,null,null,null,null,null,null,null,{"$f":"+'%Analysis'!A10","v":"BaO"}]
[null,"Wollastonite",10,9.433962264150944,10.000000000000002,"Formula - Eutectics Only",null,null,null,null,null,null,null,null,null,null,null,null,null,null,null,null,null,null,null,{"$f":"+'%Analysis'!A11","v":"Barnard Slip"}]
[null,"Ferro3124",8,7.5471698113207548,8,"K2O",{"$f":"C89","v":0.10545479642531227},"CaO",{"$f":"F89","v":0.78301694531518407},"Al2O3",{"$f":"L89","v":0.30626308934760171},"SiO2",{"$f":"M89","v":2.5261632655356498},null,null,null,null,null,null,null,null,null,null,null,null,{"$f":"+'%Analysis'!A12","v":"Bentone MA"}]
[null,"Cornwall",46,43.39622641509434,46,"Na2O",{"$f":"D89","v":0.10956572962557491},"MgO",{"$f":"G89","v":0},"B2O3",{"$f":"K89","v":0.20999179645689572},"SiO2/Al2O3",{"$f":"M10/K10","v":8.2483438370482549},null,null,null,null,null,null,null,null,null,null,null,null,{"$f":"+'%Analysis'!A13","v":"Bentonite"}]
[null,"EPK",10,9.433962264150944,10.000000000000002,"Li2O",{"$f":"E89","v":0},"SrO",{"$f":"I89","v":1.9625286339287314E-3},null,null,null,null,null,null,null,null,null,null,null,null,null,null,null,null,{"$f":"+'%Analysis'!A14","v":"BoneAsh"}]
[null,null,null,"","","R2O",{"$f":"SUM(G10:G12)","v":0.21502052605088717},"ZnO",{"$f":"J89","v":0},null,null,null,null,null,null,null,null,null,null,null,null,null,null,null,null,{"$f":"+'%Analysis'!A15","v":"Borax"}]
[null,"MgCarb",6,5.6603773584905666,6,"RO",{"$f":"SUM(I10:I14)","v":0.78497947394911283},"BaO",{"$f":"H89","v":0},null,null,null,null,null,null,null,null,null,null,null,null,null,null,null,null,{"$f":"+'%Analysis'!A16","v":"CaO"}]
[null,null,null,"","","Oxides Excess to the Eutectics",null,null,null,null,null,null,null,null,null,null,null,null,null,null,null,null,null,null,null,{"$f":"+'%Analysis'!A17","v":"ChromeOxide"}]
[null,null,null,"","","K2O","Na2O","Li2O","CaO","MgO","BaO","SrO","ZnO",null,null,null,null,null,null,null,null,null,null,null,null,{"$f":"+'%Analysis'!A18","v":"CMC Gum"}]
[null,null,null,"","",{"$f":"C90","v":0},0,0,0,0.46205890999131677,0,0,0,null,null,null,null,null,null,null,null,null,null,null,null,{"$f":"+'%Analysis'!A19","v":"CoCarb"}]
[null,null,null,"","","Al2O3","SiO2",null,null,null,null,"B2O3","Fe2O3",null,null,null,null,null,null,null,null,null,null,null,null,{"$f":"+'%Analysis'!A20","v":"Coleman"}]
[null,null,{"$f":"SUM(C7:C18)","v":106},{"$f":"SUM(D7:D18)","v":100},{"$f":"SUM(E7:E18)","v":106},{"$f":"L90","v":8.8091822652371102E-2},{"$f":"M90","v":7.4337599734606741E-2},null,null,null,null,{"$f":"+K90","v":0},{"$f":"(Q153/Q154)/$B$88","v":3.4565168470143239E-3},null,null,null,null,null,null,null,null,null,null,null,null,{"$f":"+'%Analysis'!A21","v":"CoOxide"}]
[null,null,null,null,null,null,null,null,null,null,null,null,null,null,null,null,null,null,null,null,null,null,null,null,null,{"$f":"+'%Analysis'!A22","v":"Corn Old"}]
[null,null,null,null,null,null,null,null,null,null,null,null,null,null,null,null,null,null,null,null,null,null,null,null,null,{"$f":"+'%Analysis'!A23","v":"Cornwall"}]
[null,null,null,null,null,null,null,null,null,null,null,null,null,null,null,null,null,null,null,null,null,null,null,null,null,{"$f":"+'%Analysis'!A24","v":"Cu2O"}]
[null,null,null,null,null,null,null,null,null,null,null,null,null,null,null,null,null,null,null,null,null,null,null,null,null,{"$f":"+'%Analysis'!A25","v":"CuCarb"}]
[null,null,null,null,null,null,null,null,null,null,null,null,null,null,null,null,null,null,null,null,null,null,null,null,null,{"$f":"+'%Analysis'!A26","v":"Custer"}]
[null,null,null,null,null,null,null,null,null,null,null,null,null,null,null,null,null,null,null,null,null,null,null,null,null,{"$f":"+'%Analysis'!A27","v":"Custer - Old"}]
[null,null,null,null,null,null,null,null,null,null,null,null,null,null,null,null,null,null,null,null,null,null,null,null,null,{"$f":"+'%Analysis'!A28","v":"Dolomite"}]
[null,null,null,null,null,null,null,null,null,null,null,null,null,null,null,null,null,null,null,null,null,null,null,null,null,{"$f":"+'%Analysis'!A29","v":"EPK"}]
[null,null,"The Eutectics",null,null,null,null,null,null,null,null,null,null,null,null,null,null,null,null,null,null,null,null,null,null,{"$f":"+'%Analysis'!A30","v":"EPK - Calcined"}]
[null,"#","K2O","Na2O","Li2O","CaO","MgO","BaO","SrO","ZnO","B2O3","Al2O3","SiO2","MP°C",null,null,null,null,null,null,null,null,null,null,null,{"$f":"+'%Analysis'!A31","v":"Fe2O3"}]
[null,1,1,null,null,null,null,null,null,null,2.1190000000000002,null,2.8530000000000002,630,null,null,null,null,null,null,null,null,null,null,null,{"$f":"+'%Analysis'!A32","v":"Ferro3110"}]
[null,2,1,null,null,null,null,null,null,null,null,9.7199999999999995E-2,3.4243000000000001,695,null,null,null,null,null,null,null,null,null,null,null,{"$f":"+'%Analysis'!A33","v":"Ferro3124"}]
[null,3,null,1,null,null,null,null,null,null,null,0.29220000000000002,2.44,732,null,null,null,null,null,null,null,null,null,null,null,{"$f":"+'%Analysis'!A34","v":"Ferro3134"}]
[null,4,null,1,null,null,null,null,null,null,1.3,null,1.73,790,null,null,null,null,null,null,null,null,null,null,null,{"$f":"+'%Analysis'!A35","v":"Ferro3195"}]
[null,5,null,null,1,null,null,null,null,null,0.7,null,0.3,802,null,null,null,null,null,null,null,null,null,null,null,{"$f":"+'%Analysis'!A36","v":"Flint"}]
[null,6,null,null,null,1,null,null,null,null,1.51,null,0,990,null,null,null,null,null,null,null,null,null,null,null,{"$f":"+'%Analysis'!A37","v":"G-200"}]
[null,7,null,null,1,null,null,null,null,null,null,0.22800000000000001,1.6838,1026,"CaO/ZnO","ZnO/CaO",null,null,null,null,null,null,null,null,null,{"$f":"+'%Analysis'!A38","v":"G200 HP"}]
[null,8,null,null,null,0.54400000000000004,null,null,null,0.45600000000000002,null,0.1326,1.3943000000000001,1030,{"$f":"+F37/J37","v":1.1929824561403508},{"$f":"+J37/F37","v":0.83823529411764708},null,null,null,null,null,null,null,null,null,{"$f":"+'%Analysis'!A39","v":"Gerstley Borate"}]
[null,9,null,null,null,null,null,1,null,null,null,0.40579999999999999,4.0090000000000003,1122,null,null,null,null,null,null,null,null,null,null,null,{"$f":"+'%Analysis'!A40","v":"Gerstley Borate - 1999"}]
[null,10,null,null,null,1,null,null,null,null,null,0.34889999999999999,2.4887999999999999,1165,null,null,null,null,null,null,null,null,null,null,null,{"$f":"+'%Analysis'!A41","v":"Gillespie Borate"}]
[null,11,null,null,null,null,null,null,1,null,null,0.21440000000000001,2.8,1176,null,null,null,null,null,null,null,null,null,null,null,{"$f":"+'%Analysis'!A42","v":"Goldart"}]
[null,12,null,null,null,null,1,null,null,null,null,0.33739999999999998,2.0287000000000002,1350,null,null,null,null,null,null,null,null,null,null,null,{"$f":"+'%Analysis'!A43","v":"Grolleg"}]
[null,null,null,null,null,null,null,null,null,null,null,null,null,null,null,null,null,null,null,null,null,null,null,null,null,{"$f":"+'%Analysis'!A44","v":"K2CO3"}]
[null,null,"The Eutectics by Weight",null,null,null,null,null,null,null,null,null,null,null,null,null,null,null,null,null,null,null,null,null,null,{"$f":"+'%Analysis'!A45","v":"K2O"}]
[null,"#","K2O","Na2O","Li2O","CaO","MgO","BaO","SrO","ZnO","B2O3","Al2O3","SiO2","MP°C",null,null,null,null,null,null,null,null,null,null,null,{"$f":"+'%Analysis'!A46","v":"Kaolin"}]
[null,1,22.8,null,null,null,null,null,null,null,35.700000000000003,null,41.5,630,{"$f":"SUM(C45:M45)","v":100},null,null,null,null,null,null,null,null,null,null,{"$f":"+'%Analysis'!A47","v":"KFeld"}]
[null,2,30.4,null,null,null,null,null,null,null,null,3.2,66.400000000000006,695,100,null,null,null,null,null,null,null,null,null,null,{"$f":"+'%Analysis'!A48","v":"Kingman"}]
[null,3,null,26,null,null,null,null,null,null,null,12.5,61.5,732,100,null,null,null,null,null,null,null,null,null,null,{"$f":"+'%Analysis'!A49","v":"KonaF-4"}]
[null,4,null,24.2,null,null,null,null,null,null,35.200000000000003,null,40.6,790,100,null,null,null,null,null,null,null,null,null,null,{"$f":"+'%Analysis'!A50","v":"Leucite"}]
[null,5,null,null,30.9,null,null,null,null,null,50.4,null,18.7,802,100,null,null,null,null,null,null,null,null,null,null,{"$f":"+'%Analysis'!A51","v":"Li2O"}]
[null,6,null,null,null,65.209999999999994,null,null,null,null,34.79,null,null,990,100,null,null,null,null,null,null,null,null,null,null,{"$f":"+'%Analysis'!A52","v":"LiCarb"}]
[null,7,null,null,19.366,null,null,null,null,null,null,15.067,65.566999999999993,1026,100,null,null,null,null,null,null,null,null,null,null,{"$f":"+'%Analysis'!A53","v":"LiSilicate"}]
[null,8,null,null,null,18.5,null,null,null,22.5,null,8.1999999999999993,50.8,1030,100,null,null,null,null,null,null,null,null,null,null,{"$f":"+'%Analysis'!A54","v":"Macaloid"}]
[null,9,null,null,null,null,null,35.200000000000003,null,null,null,9.5,55.3,1122,100,null,null,null,null,null,null,null,null,null,null,{"$f":"+'%Analysis'!A55","v":"MgCarb"}]
[null,10,null,null,null,23.25,null,null,null,null,null,14.75,62,1165,100,null,null,null,null,null,null,null,null,null,null,{"$f":"+'%Analysis'!A56","v":"MgO"}]
[null,11,null,null,null,null,null,null,35.277999999999999,null,null,7.4429999999999996,57.277999999999999,1176,99.998999999999995,null,null,null,null,null,null,null,null,null,null,{"$f":"+'%Analysis'!A57","v":"Mahavir Feldspar"}]
[null,12,null,null,null,null,20.5,null,null,null,null,17.5,62,1350,100,null,null,null,null,null,null,null,null,null,null,{"$f":"+'%Analysis'!A58","v":"Minspar 200"}]
[null,null,null,null,null,null,null,null,null,null,null,null,null,null,null,null,null,null,null,null,null,null,null,null,null,{"$f":"+'%Analysis'!A59","v":"MnCarb"}]
[null,null,null,null,null,null,null,null,null,null,null,null,null,null,null,null,null,null,null,null,null,null,null,null,null,{"$f":"+'%Analysis'!A60","v":"MnO2"}]
[null,null,"WHAT'S LEFT AFTER EACH EUTECTIC - BY WEIGHT",null,null,null,null,null,null,null,null,null,null,null,"NEEDED",null,null,"AVAILABLE",null,"Ratios",null,"Possible",null,"AVAILABLE",null,{"$f":"+'%Analysis'!A61","v":"Na2CO3"}]
["#",null,"K2O","Na2O","Li2O","CaO","MgO","BaO","SrO","ZnO","B2O3","Al2O3","SiO2","B2O3","Al2O3","SiO2","B2O3","Al2O3","SiO2","CaO/","ZnO","CaO","ZnO","CaO","ZnO",{"$f":"+'%Analysis'!A62","v":"Na2O"}]
["Start",null,{"$f":"+H153","v":307.74},{"$f":"+I153","v":210.38},{"$f":"+J153","v":0},{"$f":"+K153","v":1360.32},{"$f":"+M153","v":576.94000000000005},{"$f":"+O153","v":0},{"$f":"+L153","v":6.3},{"$f":"+N153","v":0},{"$f":"+R153","v":452.92},{"$f":"+P153","v":1245.6799999999998},{"$f":"+S153","v":4840.62},null,null,null,null,null,null,null,null,null,null,null,null,{"$f":"+'%Analysis'!A63","v":"NaFeld"}]
[1,"Used",{"$f":"IF(AND(N62<=Q62,P62<=S62),C61,MIN(Q62/N62,S62/P62)*C61)","v":289.25983193277307},null,null,null,null,null,null,null,{"$f":"C62*(K45/C45)","v":452.91999999999996},null,{"$f":"C62*(M45/C45)","v":526.5036414565825},{"$f":"(K45/C45)*C61","v":481.85605263157902},null,{"$f":"(M45/C45)*C61","v":560.14078947368421},{"$f":"+K61","v":452.92},null,{"$f":"M61","v":4840.62},null,null,null,null,null,null,{"$f":"+'%Analysis'!A64","v":"NephelineSyenite"}]
[1,"Remaining",{"$f":"C61-C62","v":18.480168067226941},{"$f":"D61-D62","v":210.38},0,1360.32,576.94000000000005,0,6.3,0,0,1245.6799999999998,4314.1163585434169,null,null,null,null,null,null,null,null,null,null,null,null,{"$f":"+'%Analysis'!A65","v":"NiCarb"}]
[2,"Used",{"$f":"IF(AND(O64<=R64,P64<=S64),C63,MIN(R64/O64,S64/P64)*C63)","v":18.480168067226941},null,null,null,null,null,null,null,null,{"$f":"(L46/C46)*C64","v":1.9452808491817835},{"$f":"(M46/C46)*C64","v":40.364577620522013},null,{"$f":"(L46/C46)*C63","v":1.9452808491817835},{"$f":"(M46/C46)*C63","v":40.364577620522013},{"$f":"+K63","v":0},{"$f":"L63","v":1245.6799999999998},{"$f":"M63","v":4314.1163585434169},null,null,null,null,null,null,{"$f":"+'%Analysis'!A66","v":"OldHick"}]
[2,"Remaining",{"$f":"C63-C64","v":0},{"$f":"D63-D64","v":210.38},0,1360.32,576.94000000000005,0,6.3,0,0,1243.7347191508181,4273.7517809228948,null,null,null,{"$f":"+K64","v":0},null,null,null,null,null,null,null,null,{"$f":"+'%Analysis'!A67","v":"OM4"}]
[3,"Used",null,{"$f":"IF(AND(P66<=S66,O66<=R66),D65,MIN(S66/P66,R66/O66)*D65)","v":210.38},null,null,null,null,null,null,null,{"$f":"D66*(L47/D47)","v":101.14423076923077},{"$f":"D66*(M47/D47)","v":497.62961538461536},null,{"$f":"D65*(L47/D47)","v":101.14423076923077},{"$f":"D65*(M47/D47)","v":497.62961538461536},{"$f":"+K65","v":0},{"$f":"L65","v":1243.7347191508181},{"$f":"M65","v":4273.7517809228948},null,null,null,null,null,null,{"$f":"+'%Analysis'!A68","v":"P2O5"}]
[3,"Remaining",{"$f":"C65-C66","v":0},{"$f":"D65-D66","v":0},0,1360.32,576.94000000000005,0,6.3,0,0,1142.5904883815874,3776.1221655382797,null,null,null,null,null,null,null,null,null,null,null,null,{"$f":"+'%Analysis'!A69","v":"Petalite"}]
[4,"Used",null,{"$f":"IF(AND(P68<=S68,N68<=Q68),D67,MIN(S68/P68,Q68/N68)*D67)","v":0},null,null,null,null,null,null,{"$f":"D68*(K48/D48)","v":0},null,{"$f":"D68*(M48/D48)","v":0},{"$f":"+D67*(K48/D48)","v":0},null,{"$f":"D67*(M48/D48)","v":0},{"$f":"K67","v":0},null,{"$f":"M67","v":3776.1221655382797},null,null,null,null,null,null,{"$f":"+'%Analysis'!A70","v":"PlVit"}]
[4,"Remaining",{"$f":"C67-C68","v":0},{"$f":"D67-D68","v":0},0,1360.32,576.94000000000005,0,6.3,0,0,1142.5904883815874,3776.1221655382797,null,null,null,null,null,null,null,null,null,null,null,null,{"$f":"+'%Analysis'!A71","v":"Redart"}]
[5,"Used",null,null,{"$f":"IF(AND(P70<=S70,N70<=Q70),E69,MIN(S70/P70,Q70/N70)*E69)","v":0},null,null,null,null,null,{"$f":"E70*(K49/E49)","v":0},null,{"$f":"E70*(M49/E49)","v":0},{"$f":"E69*(K49/E49)","v":0},null,{"$f":"E69*(M49/E49)","v":0},{"$f":"K69","v":0},null,{"$f":"M69","v":3776.1221655382797},null,null,null,null,null,null,{"$f":"+'%Analysis'!A72","v":"Rutile"}]
[5,"Remaining",{"$f":"C69-C70","v":0},{"$f":"D69-D70","v":0},0,1360.32,576.94000000000005,0,6.3,0,0,1142.5904883815874,3776.1221655382797,null,null,null,null,null,null,null,null,"Used",null,null,null,{"$f":"+'%Analysis'!A73","v":"Silica"}]
[6,"Used",null,null,null,{"$f":"IF((N72<=K71),F71,(F50/K50)*K71)","v":0},null,null,null,null,{"$f":"F72*(K50/F50)","v":0},null,null,{"$f":"F71*(K50/F50)","v":725.74042018095383},null,null,null,null,null,null,null,null,null,null,null,{"$f":"+'%Analysis'!A74","v":"SiO2"}]
[6,"Remaining",{"$f":"C71-C72","v":0},0,0,1360.32,576.94000000000005,0,6.3,0,0,1142.5904883815874,3776.1221655382797,null,null,null,null,null,null,null,null,null,null,null,null,{"$f":"+'%Analysis'!A75","v":"Spodumene"}]
[7,"Used",null,null,{"$f":"IF(AND(O74<=R74,P74<=S74),E71,(MIN(R74/O74,S74/P74)*E71))","v":0},null,null,null,null,null,null,{"$f":"E74*(L51/E51)","v":0},{"$f":"E74*(M51/E51)","v":0},null,{"$f":"E71*(L51/E51)","v":0},{"$f":"E71*(M51/E51)","v":0},null,{"$f":"L71","v":1142.5904883815874},{"$f":"M71","v":3776.1221655382797},"eutectic","available","if not limited by",null,null,null,{"$f":"+'%Analysis'!A76","v":"SrCarb"}]
[7,"Remaining",{"$f":"C73-C74","v":0},0,0,1360.32,576.94000000000005,0,6.3,0,0,1142.5904883815874,3776.1221655382797,null,null,null,null,{"$f":"L75","v":1142.5904883815874},{"$f":"M75","v":3776.1221655382797},"ratio","ratio","Al2O3 or SiO2",null,null,null,{"$f":"+'%Analysis'!A77","v":"SrO"}]
[8,"Used",null,null,null,{"$f":"IF(U76=0,0,IF(AND(O76<=R76,P76<=S76),V76,(MIN(R76/O76,S76/P76)*V76)))","v":0},null,null,null,{"$f":"IF(U76=0,0,IF(AND(O76<R76,P76<S76),W76,(MIN(R76/O76,S76/P76)*W76)))","v":0},null,{"$f":"J76*(L52/J52)","v":0},{"$f":"J76*(M52/J52)","v":0},null,{"$f":"V76*(L52/F52)","v":602.95264864864862},{"$f":"V76*(M52/F52)","v":3735.3651891891891},null,{"$f":"R75","v":1142.5904883815874},{"$f":"S75","v":3776.1221655382797},{"$f":"F52/J52","v":0.82222222222222219},{"$f":"IF(OR(J61=0,F61=0),0,F75/J75)","v":0},{"$f":"IF(U76<T76,F75,(J75*T76))","v":1360.32},{"$f":"IF(U76>T76,J75,F75/T76)","v":1654.4432432432432},null,null,{"$f":"+'%Analysis'!A78","v":"Superpax"}]
[8,"Remaining",0,0,0,1360.32,576.94000000000005,0,6.3,{"$f":"J75-J76","v":0},{"$f":"K75-K76","v":0},{"$f":"L75-L76","v":1142.5904883815874},{"$f":"M75-M76","v":3776.1221655382797},null,null,null,null,{"$f":"L77","v":1142.5904883815874},{"$f":"M77","v":3776.1221655382797},null,null,null,null,null,null,{"$f":"+'%Analysis'!A79","v":"Talc - NYTAL"}]
[9,"Used",null,null,null,null,null,{"$f":"IF(AND(O78<=R78,P78<=S78),H77,MIN(R78/O78,S78/P78)*H77)","v":0},null,null,null,{"$f":"H78*(L53/H53)","v":0},{"$f":"H78*(M53/H53)","v":0},null,{"$f":"H77*(L53/H53)","v":0},{"$f":"H77*(M53/H53)","v":0},null,{"$f":"R77","v":1142.5904883815874},{"$f":"S77","v":3776.1221655382797},null,null,null,null,null,null,{"$f":"+'%Analysis'!A80","v":"Talc - Texas"}]
[9,"Remaining",{"$f":"C77-C78","v":0},0,0,1360.32,576.94000000000005,0,6.3,{"$f":"J77-J78","v":0},{"$f":"K77-K78","v":0},{"$f":"L77-L78","v":1142.5904883815874},{"$f":"M77-M78","v":3776.1221655382797},null,null,null,null,null,null,null,null,null,null,null,null,{"$f":"+'%Analysis'!A81","v":"TinOxide"}]
[10,"Used",null,null,null,{"$f":"IF(AND(P80<=S80,O80<=R80),F79,MIN(S80/P80,R80/O80)*F79)","v":1360.32},null,null,null,null,null,{"$f":"F80*(L54/F54)","v":862.99870967741936},{"$f":"F80*(M54/F54)","v":3627.5199999999995},null,{"$f":"F79*(L54/F54)","v":862.99870967741936},{"$f":"F79*(M54/F54)","v":3627.5199999999995},null,{"$f":"L79","v":1142.5904883815874},{"$f":"M79","v":3776.1221655382797},null,null,null,null,null,null,{"$f":"+'%Analysis'!A82","v":"TiO2"}]
[10,"Remaining",{"$f":"C79-C80","v":0},{"$f":"D79-D80","v":0},0,0,576.94000000000005,0,6.3,0,0,279.59177870416806,148.60216553828013,null,null,null,null,{"$f":"L81","v":279.59177870416806},{"$f":"M81","v":148.60216553828013},null,null,null,null,null,null,{"$f":"+'%Analysis'!A83","v":"Ultrox"}]
[11,"Used",null,null,null,null,null,null,{"$f":"IF(J2=TRUE,IF(AND(O82<=R82,P82<=S82),I81,MIN(R82/O82,S82/P82)*I81),0)","v":6.3},null,null,{"$f":"I82*(L55/I55)","v":1.3291824933386245},{"$f":"I82*(M55/I55)","v":10.228794149328193},null,{"$f":"I81*(L55/I55)","v":1.3291824933386245},{"$f":"I81*(M55/I55)","v":10.228794149328193},null,{"$f":"R81","v":279.59177870416806},{"$f":"S81","v":148.60216553828013},null,null,null,null,null,null,{"$f":"+'%Analysis'!A84","v":"Veegum"}]
[11,"Remaining",{"$f":"C81-C82","v":0},{"$f":"D81-D82","v":0},0,0,576.94000000000005,0,0,0,0,278.26259621082943,138.37337138895194,null,null,null,null,{"$f":"L83","v":278.26259621082943},{"$f":"M83","v":138.37337138895194},null,null,null,null,null,null,{"$f":"+'%Analysis'!A85","v":"VolAsh"}]
[12,"Used",null,null,null,null,{"$f":"IF(M2=TRUE,IF(AND(O84<=R84,P84<=S84),G83,MIN(R84/O84,S84/P84)*G83),0)","v":0},null,null,null,null,{"$f":"G84*(L56/G56)","v":0},{"$f":"G84*(M56/G56)","v":0},null,{"$f":"G83*(L56/G56)","v":492.50975609756102},{"$f":"G83*(M56/G56)","v":1744.8917073170733},null,{"$f":"R83","v":278.26259621082943},{"$f":"S83","v":138.37337138895194},null,null,null,null,null,null,{"$f":"+'%Analysis'!A86","v":"Westex Talc"}]
[12,"Remaining",{"$f":"C83-C84","v":0},{"$f":"D83-D84","v":0},0,0,576.94000000000005,0,0,0,0,278.26259621082943,138.37337138895194,null,null,null,null,null,null,null,null,null,null,null,null,{"$f":"+'%Analysis'!A87","v":"Whiting"}]
[null,"Used in Eutectics",{"$f":"C61-C85","v":307.74},210.38,0,1360.32,0,0,6.3,{"$f":"J61-J85","v":0},452.92,{"$f":"L61-L85","v":967.41740378917041},{"$f":"M61-M85","v":4702.2466286110475},null,null,null,null,null,null,null,null,null,null,null,null,{"$f":"+'%Analysis'!A88","v":"Wollastonite"}]
[null,"MW",94.195999999999998,61.978999999999999,29.881,56.076999999999998,40.304000000000002,153.32599999999999,103.619,81.379000000000005,69.62,101.961,60.084000000000003,null,null,null,null,null,null,null,null,null,null,null,null,{"$f":"+'%Analysis'!A89","v":"Yellow Ochre"}]
[null,{"$f":"SUM(C88:J88)","v":30.980266602402832},{"$f":"C86/C87","v":3.2670177077582916},{"$f":"D86/D87","v":3.3943755142870971},{"$f":"E86/E87","v":0},{"$f":"F86/F87","v":24.258073720063482},{"$f":"IF(M2=TRUE,G86/G87,0)","v":0},{"$f":"H86/H87","v":0},{"$f":"IF(J2=TRUE,I86/I87,0)","v":6.0799660293961527E-2},{"$f":"J86/J87","v":0},{"$f":"K86/K87","v":6.5056018385521401},{"$f":"L86/L87","v":9.4881121584642205},{"$f":"M86/M87","v":78.261211447490965},null,null,null,null,null,null,null,null,{"$f":"V76/W76","v":0.82222222222222219},null,null,null,{"$f":"+'%Analysis'!A90","v":"Zircopax"}]
[null,"Used in Eutectics",{"$f":"C88/$B$88","v":0.10545479642531227},0.10956572962557491,0,0.78301694531518407,0,0,1.9625286339287314E-3,0,{"$f":"K88/$B$88","v":0.20999179645689572},{"$f":"L88/$B$88","v":0.30626308934760171},{"$f":"M88/$B$88","v":2.5261632655356498},null,null,null,null,null,null,null,null,null,null,null,null,{"$f":"+'%Analysis'!A91","v":"ZnO"}]
[null,"Excess",{"$f":"(C85/C87)/$B$88","v":0},0,0,0,0.46205890999131677,0,0,{"$f":"(J85/J87)/$B$88","v":0},{"$f":"(K85/K87)/$B$88","v":0},{"$f":"(L85/L87)/$B$88","v":8.8091822652371102E-2},{"$f":"(M85/M87)/$B$88","v":7.4337599734606741E-2},null,null,null,null,null,null,null,null,null,null,null,null,{"$f":"+'%Analysis'!A92","v":0}]
[null,"UMF",{"$f":"C61/C87","v":3.2670177077582916},3.3943755142870971,0,24.258073720063482,14.314708217546647,0,6.0799660293961527E-2,{"$f":"J61/J87","v":0},{"$f":"K61/K87","v":6.5056018385521401},{"$f":"L61/L87","v":12.217220309726267},{"$f":"M61/M87","v":80.564210105851799},null,null,null,null,null,null,null,null,null,null,null,null,{"$f":"+'%Analysis'!A93","v":0}]
[null,{"$f":"SUM(C91:J91)","v":45.294974819949473},{"$f":"C91/$B$92","v":7.2127597393417342E-2},7.4939339910883376E-2,0,0.53555772613829533,0.31603303179764558,0,1.3423047597585429E-3,0,{"$f":"K91/$B$92","v":0.14362745236998892},{"$f":"L91/$B$92","v":0.26972573355632778},{"$f":"M91/$B$92","v":1.7786566926264971},null,null,null,null,null,null,null,null,null,null,null,null,{"$f":"+'%Analysis'!A94","v":0}]
[null,null,null,null,null,null,null,null,null,null,null,null,null,null,null,null,null,null,null,null,null,null,null,null,null,{"$f":"+'%Analysis'!A95","v":0}]
[null,null,"K2O","Na2O","Li2O","CaO","MgO","BaO","SrO","ZnO","Al2O3","SiO2","Fe2O3",null,"B2O3","TiO2",null,null,null,null,null,null,null,null,null,{"$f":"+'%Analysis'!A96","v":0}]
[null,"Weight %",{"$f":"+C86/(SUM($C$86:$M$86))","v":3.8432315059910731E-2},2.6273446553272305E-2,0,0.16988447007960539,0,0,7.8677969999817242E-4,0,{"$f":"+L86/(SUM($C$86:$M$86))","v":0.12081656741686576},{"$f":"+M86/(SUM($C$86:$M$86))","v":0.58724320504381233},{"$f":"+O86/(SUM($C$86:$M$86))","v":0},null,{"$f":"+P86/(SUM($C$86:$M$86))","v":0},{"$f":"+R86/(SUM($C$86:$M$86))","v":0},null,null,null,null,null,null,null,null,null,{"$f":"+'%Analysis'!A97","v":0}]
[null,null,null,null,null,null,null,null,null,null,null,null,null,null,null,null,null,null,null,null,null,null,null,null,null,{"$f":"+'%Analysis'!A98","v":0}]
[null,null,null,null,null,null,null,null,null,null,null,null,null,null,null,null,null,null,null,null,null,null,null,null,null,{"$f":"+'%Analysis'!A99","v":0}]
[null,"Mineral","Percent",null,null,"Tot %",null,"K2O","Na2O","Li2O","CaO","SrO","MgO",null,"ZnO","BaO","Al2O3","Fe2O3","B2O3","SiO2","TiO2","CO2","H2O",null,null,{"$f":"+'%Analysis'!A100","v":0}]
[null,null,"Weight Totals",null,null,0.92672503195620193,null,408.9,170.5,0,1904.387201518633,0,1.4000000000000001,null,0,0,1124.7,16.299999999999997,280,5482.7,0,1319.1127984813668,280,null,null,{"$f":"+'%Analysis'!A101","v":0}]
[null,null,null,null,null,null,null,null,null,null,null,null,null,null,null,null,null,null,null,null,null,null,null,null,null,{"$f":"+'%Analysis'!A102","v":0}]
[null,null,null,null,null,null,null,null,null,null,null,null,null,null,null,null,null,null,null,null,null,null,null,null,null,{"$f":"+'%Analysis'!A103","v":0}]
[null,null,null,null,null,null,null,null,null,null,null,null,null,null,null,null,null,null,null,null,null,null,null,null,null,{"$f":"+'%Analysis'!A104","v":0}]
[null,null,null,null,null,null,null,null,null,null,null,null,null,null,null,null,null,null,null,null,null,null,null,null,null,{"$f":"+'%Analysis'!A105","v":0}]
[null,null,null,null,null,null,null,null,null,null,null,null,null,null,null,null,null,null,null,null,null,null,null,null,null,{"$f":"+'%Analysis'!A106","v":0}]
[null,null,null,null,null,null,null,null,null,null,null,null,null,null,null,null,null,null,null,null,null,null,null,null,null,{"$f":"+'%Analysis'!A107","v":0}]
[null,null,null,null,null,null,null,null,null,null,null,null,null,null,null,null,null,null,null,null,null,null,null,null,null,{"$f":"+'%Analysis'!A108","v":0}]
[null,null,null,null,null,null,null,null,null,null,null,null,null,null,null,null,null,null,null,null,null,null,null,null,null,{"$f":"+'%Analysis'!A109","v":0}]
[null,null,null,null,null,null,null,null,null,null,null,null,null,null,null,null,null,null,null,null,null,null,null,null,null,{"$f":"+'%Analysis'!A110","v":0}]
[null,null,null,null,null,null,null,null,null,null,null,null,null,null,null,null,null,null,null,null,null,null,null,null,null,{"$f":"+'%Analysis'!A111","v":0}]
[null,null,null,null,null,null,null,null,null,null,null,null,null,null,null,null,null,null,null,null,null,null,null,null,null,{"$f":"+'%Analysis'!A112","v":0}]
[null,null,null,null,null,null,null,null,null,null,null,null,null,null,null,null,null,null,null,null,null,null,null,null,null,{"$f":"+'%Analysis'!A113","v":0}]
[null,null,null,null,null,null,null,null,null,null,null,null,null,null,null,null,null,null,null,null,null,null,null,null,null,{"$f":"+'%Analysis'!A114","v":0}]
[null,null,null,null,null,null,null,null,null,null,null,null,null,null,null,null,null,null,null,null,null,null,null,null,null,{"$f":"+'%Analysis'!A115","v":0}]
[null,null,null,null,null,null,null,null,null,null,null,null,null,null,null,null,null,null,null,null,null,null,null,null,null,{"$f":"+'%Analysis'!A116","v":0}]
[null,null,null,null,null,null,null,null,null,null,null,null,null,null,null,null,null,null,null,null,null,null,null,null,null,{"$f":"+'%Analysis'!A117","v":0}]
[null,null,null,null,null,null,null,null,null,null,null,null,null,null,null,null,null,null,null,null,null,null,null,null,null,{"$f":"+'%Analysis'!A118","v":0}]
[null,null,null,null,null,null,null,null,null,null,null,null,null,null,null,null,null,null,null,null,null,null,null,null,null,{"$f":"+'%Analysis'!A119","v":0}]
[null,null,null,null,null,null,null,null,null,null,null,null,null,null,null,null,null,null,null,null,null,null,null,null,null,{"$f":"+'%Analysis'!A120","v":0}]
[null,null,null,null,null,null,null,null,null,null,null,null,null,null,null,null,null,null,null,null,null,null,null,null,null,{"$f":"+'%Analysis'!A121","v":0}]
[null,null,null,null,null,null,null,null,null,null,null,null,null,null,null,null,null,null,null,null,null,null,null,null,null,{"$f":"+'%Analysis'!A122","v":0}]
[null,null,null,null,null,null,null,null,null,null,null,null,null,null,null,null,null,null,null,null,null,null,null,null,null,{"$f":"+'%Analysis'!A123","v":0}]
[null,null,null,null,null,null,null,null,null,null,null,null,null,null,null,null,null,null,null,null,null,null,null,null,null,{"$f":"+'%Analysis'!A124","v":0}]
[null,null,null,null,null,null,null,null,null,null,null,null,null,null,null,null,null,null,null,null,null,null,null,null,null,{"$f":"+'%Analysis'!A125","v":0}]
[null,null,null,null,null,null,null,null,null,null,null,null,null,null,null,null,null,null,null,null,null,null,null,null,null,{"$f":"+'%Analysis'!A126","v":0}]
[null,null,null,null,null,null,null,null,null,null,null,null,null,null,null,null,null,null,null,null,null,null,null,null,null,{"$f":"+'%Analysis'!A127","v":0}]
[null,null,null,null,null,null,null,null,null,null,null,null,null,null,null,null,null,null,null,null,null,null,null,null,null,{"$f":"+'%Analysis'!A128","v":0}]
[null,null,null,null,null,null,null,null,null,null,null,null,null,null,null,null,null,null,null,null,null,null,null,null,null,{"$f":"+'%Analysis'!A129","v":0}]
[null,null,null,null,null,null,null,null,null,null,null,null,null,null,null,null,null,null,null,null,null,null,null,null,null,{"$f":"+'%Analysis'!A130","v":0}]
[null,null,null,null,null,null,null,null,null,null,null,null,null,null,null,null,null,null,null,null,null,null,null,null,null,{"$f":"+'%Analysis'!A131","v":0}]
[null,null,null,null,null,null,null,null,null,null,null,null,null,null,null,null,null,null,null,null,null,null,null,null,null,{"$f":"+'%Analysis'!A132","v":0}]
[null,null,null,null,null,null,null,null,null,null,null,null,null,null,null,null,null,null,null,null,null,null,null,null,null,{"$f":"+'%Analysis'!A133","v":0}]
[null,null,null,null,null,null,null,null,null,null,null,null,null,null,null,null,null,null,null,null,null,null,null,null,null,{"$f":"+'%Analysis'!A134","v":0}]
[null,null,null,null,null,null,null,null,null,null,null,null,null,null,null,null,null,null,null,null,null,null,null,null,null,{"$f":"+'%Analysis'!A135","v":0}]
[null,null,null,null,null,null,null,null,null,null,null,null,null,null,null,null,null,null,null,null,null,null,null,null,null,{"$f":"+'%Analysis'!A136","v":0}]
[null,"Mineral","Percent",null,null,"Tot %",null,"K2O","Na2O","Li2O","CaO","SrO","MgO","ZnO","BaO","Al2O3","Fe2O3","B2O3","SiO2","TiO2","CO2","H2O",null,null,null,{"$f":"+'%Analysis'!A137","v":0}]
[null,{"$f":"B7","v":"Dolomite"},12,null,null,null,null,{"$f":"IF(ISERROR(+$C136*+VLOOKUP($B136,'%Analysis'!$A$4:$S$204,4,0)),\"\",+$C136*+VLOOKUP($B136,'%Analysis'!$A$4:$S$204,4,0))","v":0},{"$f":"IF(ISERROR(+$C136*+VLOOKUP($B136,'%Analysis'!$A$4:$S$204,5,0)),\"\",+$C136*+VLOOKUP($B136,'%Analysis'!$A$4:$S$204,5,0))","v":0},{"$f":"IF(ISERROR(+$C136*+VLOOKUP($B136,'%Analysis'!$A$4:$S$204,6,0)),\"\",+$C136*+VLOOKUP($B136,'%Analysis'!$A$4:$S$204,6,0))","v":0},{"$f":"IF(ISERROR(+$C136*+VLOOKUP($B136,'%Analysis'!$A$4:$S$204,7,0)),\"\",+$C136*+VLOOKUP($B136,'%Analysis'!$A$4:$S$204,7,0))","v":365.88},{"$f":"IF(ISERROR(+$C136*+VLOOKUP($B136,'%Analysis'!$A$4:$S$204,8,0)),\"\",+$C136*+VLOOKUP($B136,'%Analysis'!$A$4:$S$204,8,0))","v":0},{"$f":"IF(ISERROR(+$C136*+VLOOKUP($B136,'%Analysis'!$A$4:$S$204,9,0)),\"\",+$C136*+VLOOKUP($B136,'%Analysis'!$A$4:$S$204,9,0))","v":262.79999999999995},{"$f":"IF(ISERROR(+$C136*+VLOOKUP($B136,'%Analysis'!$A$4:$S$204,10,0)),\"\",+$C136*+VLOOKUP($B136,'%Analysis'!$A$4:$S$204,10,0))","v":0},{"$f":"IF(ISERROR(+$C136*+VLOOKUP($B136,'%Analysis'!$A$4:$S$204,11,0)),\"\",+$C136*+VLOOKUP($B136,'%Analysis'!$A$4:$S$204,11,0))","v":0},{"$f":"IF(ISERROR(+$C136*+VLOOKUP($B136,'%Analysis'!$A$4:$S$204,12,0)),\"\",+$C136*+VLOOKUP($B136,'%Analysis'!$A$4:$S$204,12,0))","v":0},{"$f":"IF(ISERROR(+$C136*+VLOOKUP($B136,'%Analysis'!$A$4:$S$204,13,0)),\"\",+$C136*+VLOOKUP($B136,'%Analysis'!$A$4:$S$204,13,0))","v":0},{"$f":"IF(ISERROR(+$C136*+VLOOKUP($B136,'%Analysis'!$A$4:$S$204,14,0)),\"\",+$C136*+VLOOKUP($B136,'%Analysis'!$A$4:$S$204,14,0))","v":0},{"$f":"IF(ISERROR(+$C136*+VLOOKUP($B136,'%Analysis'!$A$4:$S$204,15,0)),\"\",+$C136*+VLOOKUP($B136,'%Analysis'!$A$4:$S$204,15,0))","v":0},{"$f":"IF(ISERROR(+$C136*+VLOOKUP($B136,'%Analysis'!$A$4:$S$204,16,0)),\"\",+$C136*+VLOOKUP($B136,'%Analysis'!$A$4:$S$204,16,0))","v":0},{"$f":"IF(ISERROR(+$C136*+VLOOKUP($B136,'%Analysis'!$A$4:$S$204,17,0)),\"\",+$C136*+VLOOKUP($B136,'%Analysis'!$A$4:$S$204,17,0))","v":571.31999999999994},{"$f":"IF(ISERROR(+$C136*+VLOOKUP($B136,'%Analysis'!$A$4:$S$204,18,0)),\"\",+$C136*+VLOOKUP($B136,'%Analysis'!$A$4:$S$204,18,0))","v":0},null,null,null,{"$f":"+'%Analysis'!A138","v":0}]
[null,"Gillespie Borate",14,null,null,null,null,{"$f":"IF(ISERROR(+$C137*+VLOOKUP($B137,'%Analysis'!$A$4:$S$204,4,0)),\"\",+$C137*+VLOOKUP($B137,'%Analysis'!$A$4:$S$204,4,0))","v":0},{"$f":"IF(ISERROR(+$C137*+VLOOKUP($B137,'%Analysis'!$A$4:$S$204,5,0)),\"\",+$C137*+VLOOKUP($B137,'%Analysis'!$A$4:$S$204,5,0))","v":52.78},{"$f":"IF(ISERROR(+$C137*+VLOOKUP($B137,'%Analysis'!$A$4:$S$204,6,0)),\"\",+$C137*+VLOOKUP($B137,'%Analysis'!$A$4:$S$204,6,0))","v":0},{"$f":"IF(ISERROR(+$C137*+VLOOKUP($B137,'%Analysis'!$A$4:$S$204,7,0)),\"\",+$C137*+VLOOKUP($B137,'%Analysis'!$A$4:$S$204,7,0))","v":322},{"$f":"IF(ISERROR(+$C137*+VLOOKUP($B137,'%Analysis'!$A$4:$S$204,8,0)),\"\",+$C137*+VLOOKUP($B137,'%Analysis'!$A$4:$S$204,8,0))","v":6.3},{"$f":"IF(ISERROR(+$C137*+VLOOKUP($B137,'%Analysis'!$A$4:$S$204,9,0)),\"\",+$C137*+VLOOKUP($B137,'%Analysis'!$A$4:$S$204,9,0))","v":54.6},{"$f":"IF(ISERROR(+$C137*+VLOOKUP($B137,'%Analysis'!$A$4:$S$204,10,0)),\"\",+$C137*+VLOOKUP($B137,'%Analysis'!$A$4:$S$204,10,0))","v":0},{"$f":"IF(ISERROR(+$C137*+VLOOKUP($B137,'%Analysis'!$A$4:$S$204,11,0)),\"\",+$C137*+VLOOKUP($B137,'%Analysis'!$A$4:$S$204,11,0))","v":0},{"$f":"IF(ISERROR(+$C137*+VLOOKUP($B137,'%Analysis'!$A$4:$S$204,12,0)),\"\",+$C137*+VLOOKUP($B137,'%Analysis'!$A$4:$S$204,12,0))","v":23.8},{"$f":"IF(ISERROR(+$C137*+VLOOKUP($B137,'%Analysis'!$A$4:$S$204,13,0)),\"\",+$C137*+VLOOKUP($B137,'%Analysis'!$A$4:$S$204,13,0))","v":0},{"$f":"IF(ISERROR(+$C137*+VLOOKUP($B137,'%Analysis'!$A$4:$S$204,14,0)),\"\",+$C137*+VLOOKUP($B137,'%Analysis'!$A$4:$S$204,14,0))","v":343},{"$f":"IF(ISERROR(+$C137*+VLOOKUP($B137,'%Analysis'!$A$4:$S$204,15,0)),\"\",+$C137*+VLOOKUP($B137,'%Analysis'!$A$4:$S$204,15,0))","v":165.20000000000002},{"$f":"IF(ISERROR(+$C137*+VLOOKUP($B137,'%Analysis'!$A$4:$S$204,16,0)),\"\",+$C137*+VLOOKUP($B137,'%Analysis'!$A$4:$S$204,16,0))","v":0},{"$f":"IF(ISERROR(+$C137*+VLOOKUP($B137,'%Analysis'!$A$4:$S$204,17,0)),\"\",+$C137*+VLOOKUP($B137,'%Analysis'!$A$4:$S$204,17,0))","v":432.59999999999997},{"$f":"IF(ISERROR(+$C137*+VLOOKUP($B137,'%Analysis'!$A$4:$S$204,18,0)),\"\",+$C137*+VLOOKUP($B137,'%Analysis'!$A$4:$S$204,18,0))","v":0},null,null,null,{"$f":"+'%Analysis'!A139","v":0}]
[null,"Wollastonite",10,null,null,null,null,{"$f":"IF(ISERROR(+$C138*+VLOOKUP($B138,'%Analysis'!$A$4:$S$204,4,0)),\"\",+$C138*+VLOOKUP($B138,'%Analysis'!$A$4:$S$204,4,0))","v":0},{"$f":"IF(ISERROR(+$C138*+VLOOKUP($B138,'%Analysis'!$A$4:$S$204,5,0)),\"\",+$C138*+VLOOKUP($B138,'%Analysis'!$A$4:$S$204,5,0))","v":0},{"$f":"IF(ISERROR(+$C138*+VLOOKUP($B138,'%Analysis'!$A$4:$S$204,6,0)),\"\",+$C138*+VLOOKUP($B138,'%Analysis'!$A$4:$S$204,6,0))","v":0},{"$f":"IF(ISERROR(+$C138*+VLOOKUP($B138,'%Analysis'!$A$4:$S$204,7,0)),\"\",+$C138*+VLOOKUP($B138,'%Analysis'!$A$4:$S$204,7,0))","v":482.8},{"$f":"IF(ISERROR(+$C138*+VLOOKUP($B138,'%Analysis'!$A$4:$S$204,8,0)),\"\",+$C138*+VLOOKUP($B138,'%Analysis'!$A$4:$S$204,8,0))","v":0},{"$f":"IF(ISERROR(+$C138*+VLOOKUP($B138,'%Analysis'!$A$4:$S$204,9,0)),\"\",+$C138*+VLOOKUP($B138,'%Analysis'!$A$4:$S$204,9,0))","v":0},{"$f":"IF(ISERROR(+$C138*+VLOOKUP($B138,'%Analysis'!$A$4:$S$204,10,0)),\"\",+$C138*+VLOOKUP($B138,'%Analysis'!$A$4:$S$204,10,0))","v":0},{"$f":"IF(ISERROR(+$C138*+VLOOKUP($B138,'%Analysis'!$A$4:$S$204,11,0)),\"\",+$C138*+VLOOKUP($B138,'%Analysis'!$A$4:$S$204,11,0))","v":0},{"$f":"IF(ISERROR(+$C138*+VLOOKUP($B138,'%Analysis'!$A$4:$S$204,12,0)),\"\",+$C138*+VLOOKUP($B138,'%Analysis'!$A$4:$S$204,12,0))","v":0},{"$f":"IF(ISERROR(+$C138*+VLOOKUP($B138,'%Analysis'!$A$4:$S$204,13,0)),\"\",+$C138*+VLOOKUP($B138,'%Analysis'!$A$4:$S$204,13,0))","v":0},{"$f":"IF(ISERROR(+$C138*+VLOOKUP($B138,'%Analysis'!$A$4:$S$204,14,0)),\"\",+$C138*+VLOOKUP($B138,'%Analysis'!$A$4:$S$204,14,0))","v":0},{"$f":"IF(ISERROR(+$C138*+VLOOKUP($B138,'%Analysis'!$A$4:$S$204,15,0)),\"\",+$C138*+VLOOKUP($B138,'%Analysis'!$A$4:$S$204,15,0))","v":517.20000000000005},{"$f":"IF(ISERROR(+$C138*+VLOOKUP($B138,'%Analysis'!$A$4:$S$204,16,0)),\"\",+$C138*+VLOOKUP($B138,'%Analysis'!$A$4:$S$204,16,0))","v":0},{"$f":"IF(ISERROR(+$C138*+VLOOKUP($B138,'%Analysis'!$A$4:$S$204,17,0)),\"\",+$C138*+VLOOKUP($B138,'%Analysis'!$A$4:$S$204,17,0))","v":0},{"$f":"IF(ISERROR(+$C138*+VLOOKUP($B138,'%Analysis'!$A$4:$S$204,18,0)),\"\",+$C138*+VLOOKUP($B138,'%Analysis'!$A$4:$S$204,18,0))","v":0},null,null,null,{"$f":"+'%Analysis'!A140","v":0}]
[null,"Ferro3124",8,null,null,null,null,{"$f":"IF(ISERROR(+$C139*+VLOOKUP($B139,'%Analysis'!$A$4:$S$204,4,0)),\"\",+$C139*+VLOOKUP($B139,'%Analysis'!$A$4:$S$204,4,0))","v":5.44},{"$f":"IF(ISERROR(+$C139*+VLOOKUP($B139,'%Analysis'!$A$4:$S$204,5,0)),\"\",+$C139*+VLOOKUP($B139,'%Analysis'!$A$4:$S$204,5,0))","v":51.2},{"$f":"IF(ISERROR(+$C139*+VLOOKUP($B139,'%Analysis'!$A$4:$S$204,6,0)),\"\",+$C139*+VLOOKUP($B139,'%Analysis'!$A$4:$S$204,6,0))","v":0},{"$f":"IF(ISERROR(+$C139*+VLOOKUP($B139,'%Analysis'!$A$4:$S$204,7,0)),\"\",+$C139*+VLOOKUP($B139,'%Analysis'!$A$4:$S$204,7,0))","v":114.24},{"$f":"IF(ISERROR(+$C139*+VLOOKUP($B139,'%Analysis'!$A$4:$S$204,8,0)),\"\",+$C139*+VLOOKUP($B139,'%Analysis'!$A$4:$S$204,8,0))","v":0},{"$f":"IF(ISERROR(+$C139*+VLOOKUP($B139,'%Analysis'!$A$4:$S$204,9,0)),\"\",+$C139*+VLOOKUP($B139,'%Analysis'!$A$4:$S$204,9,0))","v":0},{"$f":"IF(ISERROR(+$C139*+VLOOKUP($B139,'%Analysis'!$A$4:$S$204,10,0)),\"\",+$C139*+VLOOKUP($B139,'%Analysis'!$A$4:$S$204,10,0))","v":0},{"$f":"IF(ISERROR(+$C139*+VLOOKUP($B139,'%Analysis'!$A$4:$S$204,11,0)),\"\",+$C139*+VLOOKUP($B139,'%Analysis'!$A$4:$S$204,11,0))","v":0},{"$f":"IF(ISERROR(+$C139*+VLOOKUP($B139,'%Analysis'!$A$4:$S$204,12,0)),\"\",+$C139*+VLOOKUP($B139,'%Analysis'!$A$4:$S$204,12,0))","v":80.08},{"$f":"IF(ISERROR(+$C139*+VLOOKUP($B139,'%Analysis'!$A$4:$S$204,13,0)),\"\",+$C139*+VLOOKUP($B139,'%Analysis'!$A$4:$S$204,13,0))","v":0},{"$f":"IF(ISERROR(+$C139*+VLOOKUP($B139,'%Analysis'!$A$4:$S$204,14,0)),\"\",+$C139*+VLOOKUP($B139,'%Analysis'!$A$4:$S$204,14,0))","v":109.92},{"$f":"IF(ISERROR(+$C139*+VLOOKUP($B139,'%Analysis'!$A$4:$S$204,15,0)),\"\",+$C139*+VLOOKUP($B139,'%Analysis'!$A$4:$S$204,15,0))","v":439.52},{"$f":"IF(ISERROR(+$C139*+VLOOKUP($B139,'%Analysis'!$A$4:$S$204,16,0)),\"\",+$C139*+VLOOKUP($B139,'%Analysis'!$A$4:$S$204,16,0))","v":0},{"$f":"IF(ISERROR(+$C139*+VLOOKUP($B139,'%Analysis'!$A$4:$S$204,17,0)),\"\",+$C139*+VLOOKUP($B139,'%Analysis'!$A$4:$S$204,17,0))","v":0},{"$f":"IF(ISERROR(+$C139*+VLOOKUP($B139,'%Analysis'!$A$4:$S$204,18,0)),\"\",+$C139*+VLOOKUP($B139,'%Analysis'!$A$4:$S$204,18,0))","v":0},null,null,null,{"$f":"+'%Analysis'!A141","v":0}]
[null,"Cornwall",46,null,null,null,null,{"$f":"IF(ISERROR(+$C140*+VLOOKUP($B140,'%Analysis'!$A$4:$S$204,4,0)),\"\",+$C140*+VLOOKUP($B140,'%Analysis'!$A$4:$S$204,4,0))","v":299},{"$f":"IF(ISERROR(+$C140*+VLOOKUP($B140,'%Analysis'!$A$4:$S$204,5,0)),\"\",+$C140*+VLOOKUP($B140,'%Analysis'!$A$4:$S$204,5,0))","v":105.8},{"$f":"IF(ISERROR(+$C140*+VLOOKUP($B140,'%Analysis'!$A$4:$S$204,6,0)),\"\",+$C140*+VLOOKUP($B140,'%Analysis'!$A$4:$S$204,6,0))","v":0},{"$f":"IF(ISERROR(+$C140*+VLOOKUP($B140,'%Analysis'!$A$4:$S$204,7,0)),\"\",+$C140*+VLOOKUP($B140,'%Analysis'!$A$4:$S$204,7,0))","v":73.600000000000009},{"$f":"IF(ISERROR(+$C140*+VLOOKUP($B140,'%Analysis'!$A$4:$S$204,8,0)),\"\",+$C140*+VLOOKUP($B140,'%Analysis'!$A$4:$S$204,8,0))","v":0},{"$f":"IF(ISERROR(+$C140*+VLOOKUP($B140,'%Analysis'!$A$4:$S$204,9,0)),\"\",+$C140*+VLOOKUP($B140,'%Analysis'!$A$4:$S$204,9,0))","v":0},{"$f":"IF(ISERROR(+$C140*+VLOOKUP($B140,'%Analysis'!$A$4:$S$204,10,0)),\"\",+$C140*+VLOOKUP($B140,'%Analysis'!$A$4:$S$204,10,0))","v":0},{"$f":"IF(ISERROR(+$C140*+VLOOKUP($B140,'%Analysis'!$A$4:$S$204,11,0)),\"\",+$C140*+VLOOKUP($B140,'%Analysis'!$A$4:$S$204,11,0))","v":0},{"$f":"IF(ISERROR(+$C140*+VLOOKUP($B140,'%Analysis'!$A$4:$S$204,12,0)),\"\",+$C140*+VLOOKUP($B140,'%Analysis'!$A$4:$S$204,12,0))","v":768.19999999999993},{"$f":"IF(ISERROR(+$C140*+VLOOKUP($B140,'%Analysis'!$A$4:$S$204,13,0)),\"\",+$C140*+VLOOKUP($B140,'%Analysis'!$A$4:$S$204,13,0))","v":9.2000000000000011},{"$f":"IF(ISERROR(+$C140*+VLOOKUP($B140,'%Analysis'!$A$4:$S$204,14,0)),\"\",+$C140*+VLOOKUP($B140,'%Analysis'!$A$4:$S$204,14,0))","v":0},{"$f":"IF(ISERROR(+$C140*+VLOOKUP($B140,'%Analysis'!$A$4:$S$204,15,0)),\"\",+$C140*+VLOOKUP($B140,'%Analysis'!$A$4:$S$204,15,0))","v":3261.4},{"$f":"IF(ISERROR(+$C140*+VLOOKUP($B140,'%Analysis'!$A$4:$S$204,16,0)),\"\",+$C140*+VLOOKUP($B140,'%Analysis'!$A$4:$S$204,16,0))","v":23},{"$f":"IF(ISERROR(+$C140*+VLOOKUP($B140,'%Analysis'!$A$4:$S$204,17,0)),\"\",+$C140*+VLOOKUP($B140,'%Analysis'!$A$4:$S$204,17,0))","v":0},{"$f":"IF(ISERROR(+$C140*+VLOOKUP($B140,'%Analysis'!$A$4:$S$204,18,0)),\"\",+$C140*+VLOOKUP($B140,'%Analysis'!$A$4:$S$204,18,0))","v":0},null,null,null,{"$f":"+'%Analysis'!A142","v":0}]
[null,"EPK",10,null,null,null,null,{"$f":"IF(ISERROR(+$C141*+VLOOKUP($B141,'%Analysis'!$A$4:$S$204,4,0)),\"\",+$C141*+VLOOKUP($B141,'%Analysis'!$A$4:$S$204,4,0))","v":3.3000000000000003},{"$f":"IF(ISERROR(+$C141*+VLOOKUP($B141,'%Analysis'!$A$4:$S$204,5,0)),\"\",+$C141*+VLOOKUP($B141,'%Analysis'!$A$4:$S$204,5,0))","v":0.6},{"$f":"IF(ISERROR(+$C141*+VLOOKUP($B141,'%Analysis'!$A$4:$S$204,6,0)),\"\",+$C141*+VLOOKUP($B141,'%Analysis'!$A$4:$S$204,6,0))","v":0},{"$f":"IF(ISERROR(+$C141*+VLOOKUP($B141,'%Analysis'!$A$4:$S$204,7,0)),\"\",+$C141*+VLOOKUP($B141,'%Analysis'!$A$4:$S$204,7,0))","v":1.7999999999999998},{"$f":"IF(ISERROR(+$C141*+VLOOKUP($B141,'%Analysis'!$A$4:$S$204,8,0)),\"\",+$C141*+VLOOKUP($B141,'%Analysis'!$A$4:$S$204,8,0))","v":0},{"$f":"IF(ISERROR(+$C141*+VLOOKUP($B141,'%Analysis'!$A$4:$S$204,9,0)),\"\",+$C141*+VLOOKUP($B141,'%Analysis'!$A$4:$S$204,9,0))","v":1},{"$f":"IF(ISERROR(+$C141*+VLOOKUP($B141,'%Analysis'!$A$4:$S$204,10,0)),\"\",+$C141*+VLOOKUP($B141,'%Analysis'!$A$4:$S$204,10,0))","v":0},{"$f":"IF(ISERROR(+$C141*+VLOOKUP($B141,'%Analysis'!$A$4:$S$204,11,0)),\"\",+$C141*+VLOOKUP($B141,'%Analysis'!$A$4:$S$204,11,0))","v":0},{"$f":"IF(ISERROR(+$C141*+VLOOKUP($B141,'%Analysis'!$A$4:$S$204,12,0)),\"\",+$C141*+VLOOKUP($B141,'%Analysis'!$A$4:$S$204,12,0))","v":373.6},{"$f":"IF(ISERROR(+$C141*+VLOOKUP($B141,'%Analysis'!$A$4:$S$204,13,0)),\"\",+$C141*+VLOOKUP($B141,'%Analysis'!$A$4:$S$204,13,0))","v":7.9},{"$f":"IF(ISERROR(+$C141*+VLOOKUP($B141,'%Analysis'!$A$4:$S$204,14,0)),\"\",+$C141*+VLOOKUP($B141,'%Analysis'!$A$4:$S$204,14,0))","v":0},{"$f":"IF(ISERROR(+$C141*+VLOOKUP($B141,'%Analysis'!$A$4:$S$204,15,0)),\"\",+$C141*+VLOOKUP($B141,'%Analysis'!$A$4:$S$204,15,0))","v":457.29999999999995},{"$f":"IF(ISERROR(+$C141*+VLOOKUP($B141,'%Analysis'!$A$4:$S$204,16,0)),\"\",+$C141*+VLOOKUP($B141,'%Analysis'!$A$4:$S$204,16,0))","v":3.7},{"$f":"IF(ISERROR(+$C141*+VLOOKUP($B141,'%Analysis'!$A$4:$S$204,17,0)),\"\",+$C141*+VLOOKUP($B141,'%Analysis'!$A$4:$S$204,17,0))","v":117.99999999999999},{"$f":"IF(ISERROR(+$C141*+VLOOKUP($B141,'%Analysis'!$A$4:$S$204,18,0)),\"\",+$C141*+VLOOKUP($B141,'%Analysis'!$A$4:$S$204,18,0))","v":14},null,null,null,{"$f":"+'%Analysis'!A143","v":0}]
[null,0,0,null,null,null,null,{"$f":"IF(ISERROR(+$C142*+VLOOKUP($B142,'%Analysis'!$A$4:$S$204,4,0)),\"\",+$C142*+VLOOKUP($B142,'%Analysis'!$A$4:$S$204,4,0))","v":""},{"$f":"IF(ISERROR(+$C142*+VLOOKUP($B142,'%Analysis'!$A$4:$S$204,5,0)),\"\",+$C142*+VLOOKUP($B142,'%Analysis'!$A$4:$S$204,5,0))","v":""},{"$f":"IF(ISERROR(+$C142*+VLOOKUP($B142,'%Analysis'!$A$4:$S$204,6,0)),\"\",+$C142*+VLOOKUP($B142,'%Analysis'!$A$4:$S$204,6,0))","v":""},{"$f":"IF(ISERROR(+$C142*+VLOOKUP($B142,'%Analysis'!$A$4:$S$204,7,0)),\"\",+$C142*+VLOOKUP($B142,'%Analysis'!$A$4:$S$204,7,0))","v":""},{"$f":"IF(ISERROR(+$C142*+VLOOKUP($B142,'%Analysis'!$A$4:$S$204,8,0)),\"\",+$C142*+VLOOKUP($B142,'%Analysis'!$A$4:$S$204,8,0))","v":""},{"$f":"IF(ISERROR(+$C142*+VLOOKUP($B142,'%Analysis'!$A$4:$S$204,9,0)),\"\",+$C142*+VLOOKUP($B142,'%Analysis'!$A$4:$S$204,9,0))","v":""},{"$f":"IF(ISERROR(+$C142*+VLOOKUP($B142,'%Analysis'!$A$4:$S$204,10,0)),\"\",+$C142*+VLOOKUP($B142,'%Analysis'!$A$4:$S$204,10,0))","v":""},{"$f":"IF(ISERROR(+$C142*+VLOOKUP($B142,'%Analysis'!$A$4:$S$204,11,0)),\"\",+$C142*+VLOOKUP($B142,'%Analysis'!$A$4:$S$204,11,0))","v":""},{"$f":"IF(ISERROR(+$C142*+VLOOKUP($B142,'%Analysis'!$A$4:$S$204,12,0)),\"\",+$C142*+VLOOKUP($B142,'%Analysis'!$A$4:$S$204,12,0))","v":""},{"$f":"IF(ISERROR(+$C142*+VLOOKUP($B142,'%Analysis'!$A$4:$S$204,13,0)),\"\",+$C142*+VLOOKUP($B142,'%Analysis'!$A$4:$S$204,13,0))","v":""},{"$f":"IF(ISERROR(+$C142*+VLOOKUP($B142,'%Analysis'!$A$4:$S$204,14,0)),\"\",+$C142*+VLOOKUP($B142,'%Analysis'!$A$4:$S$204,14,0))","v":""},{"$f":"IF(ISERROR(+$C142*+VLOOKUP($B142,'%Analysis'!$A$4:$S$204,15,0)),\"\",+$C142*+VLOOKUP($B142,'%Analysis'!$A$4:$S$204,15,0))","v":""},{"$f":"IF(ISERROR(+$C142*+VLOOKUP($B142,'%Analysis'!$A$4:$S$204,16,0)),\"\",+$C142*+VLOOKUP($B142,'%Analysis'!$A$4:$S$204,16,0))","v":""},{"$f":"IF(ISERROR(+$C142*+VLOOKUP($B142,'%Analysis'!$A$4:$S$204,17,0)),\"\",+$C142*+VLOOKUP($B142,'%Analysis'!$A$4:$S$204,17,0))","v":""},{"$f":"IF(ISERROR(+$C142*+VLOOKUP($B142,'%Analysis'!$A$4:$S$204,18,0)),\"\",+$C142*+VLOOKUP($B142,'%Analysis'!$A$4:$S$204,18,0))","v":""},null,null,null,{"$f":"+'%Analysis'!A144","v":0}]
[null,"MgCarb",6,null,null,null,null,{"$f":"IF(ISERROR(+$C143*+VLOOKUP($B143,'%Analysis'!$A$4:$S$204,4,0)),\"\",+$C143*+VLOOKUP($B143,'%Analysis'!$A$4:$S$204,4,0))","v":0},{"$f":"IF(ISERROR(+$C143*+VLOOKUP($B143,'%Analysis'!$A$4:$S$204,5,0)),\"\",+$C143*+VLOOKUP($B143,'%Analysis'!$A$4:$S$204,5,0))","v":0},{"$f":"IF(ISERROR(+$C143*+VLOOKUP($B143,'%Analysis'!$A$4:$S$204,6,0)),\"\",+$C143*+VLOOKUP($B143,'%Analysis'!$A$4:$S$204,6,0))","v":0},{"$f":"IF(ISERROR(+$C143*+VLOOKUP($B143,'%Analysis'!$A$4:$S$204,7,0)),\"\",+$C143*+VLOOKUP($B143,'%Analysis'!$A$4:$S$204,7,0))","v":0},{"$f":"IF(ISERROR(+$C143*+VLOOKUP($B143,'%Analysis'!$A$4:$S$204,8,0)),\"\",+$C143*+VLOOKUP($B143,'%Analysis'!$A$4:$S$204,8,0))","v":0},{"$f":"IF(ISERROR(+$C143*+VLOOKUP($B143,'%Analysis'!$A$4:$S$204,9,0)),\"\",+$C143*+VLOOKUP($B143,'%Analysis'!$A$4:$S$204,9,0))","v":258.54000000000002},{"$f":"IF(ISERROR(+$C143*+VLOOKUP($B143,'%Analysis'!$A$4:$S$204,10,0)),\"\",+$C143*+VLOOKUP($B143,'%Analysis'!$A$4:$S$204,10,0))","v":0},{"$f":"IF(ISERROR(+$C143*+VLOOKUP($B143,'%Analysis'!$A$4:$S$204,11,0)),\"\",+$C143*+VLOOKUP($B143,'%Analysis'!$A$4:$S$204,11,0))","v":0},{"$f":"IF(ISERROR(+$C143*+VLOOKUP($B143,'%Analysis'!$A$4:$S$204,12,0)),\"\",+$C143*+VLOOKUP($B143,'%Analysis'!$A$4:$S$204,12,0))","v":0},{"$f":"IF(ISERROR(+$C143*+VLOOKUP($B143,'%Analysis'!$A$4:$S$204,13,0)),\"\",+$C143*+VLOOKUP($B143,'%Analysis'!$A$4:$S$204,13,0))","v":0},{"$f":"IF(ISERROR(+$C143*+VLOOKUP($B143,'%Analysis'!$A$4:$S$204,14,0)),\"\",+$C143*+VLOOKUP($B143,'%Analysis'!$A$4:$S$204,14,0))","v":0},{"$f":"IF(ISERROR(+$C143*+VLOOKUP($B143,'%Analysis'!$A$4:$S$204,15,0)),\"\",+$C143*+VLOOKUP($B143,'%Analysis'!$A$4:$S$204,15,0))","v":0},{"$f":"IF(ISERROR(+$C143*+VLOOKUP($B143,'%Analysis'!$A$4:$S$204,16,0)),\"\",+$C143*+VLOOKUP($B143,'%Analysis'!$A$4:$S$204,16,0))","v":0},{"$f":"IF(ISERROR(+$C143*+VLOOKUP($B143,'%Analysis'!$A$4:$S$204,17,0)),\"\",+$C143*+VLOOKUP($B143,'%Analysis'!$A$4:$S$204,17,0))","v":225.84},{"$f":"IF(ISERROR(+$C143*+VLOOKUP($B143,'%Analysis'!$A$4:$S$204,18,0)),\"\",+$C143*+VLOOKUP($B143,'%Analysis'!$A$4:$S$204,18,0))","v":115.56},null,null,null,{"$f":"+'%Analysis'!A145","v":0}]
[null,0,0,null,null,null,null,{"$f":"IF(ISERROR(+$C144*+VLOOKUP($B144,'%Analysis'!$A$4:$S$204,4,0)),\"\",+$C144*+VLOOKUP($B144,'%Analysis'!$A$4:$S$204,4,0))","v":""},{"$f":"IF(ISERROR(+$C144*+VLOOKUP($B144,'%Analysis'!$A$4:$S$204,5,0)),\"\",+$C144*+VLOOKUP($B144,'%Analysis'!$A$4:$S$204,5,0))","v":""},{"$f":"IF(ISERROR(+$C144*+VLOOKUP($B144,'%Analysis'!$A$4:$S$204,6,0)),\"\",+$C144*+VLOOKUP($B144,'%Analysis'!$A$4:$S$204,6,0))","v":""},{"$f":"IF(ISERROR(+$C144*+VLOOKUP($B144,'%Analysis'!$A$4:$S$204,7,0)),\"\",+$C144*+VLOOKUP($B144,'%Analysis'!$A$4:$S$204,7,0))","v":""},{"$f":"IF(ISERROR(+$C144*+VLOOKUP($B144,'%Analysis'!$A$4:$S$204,8,0)),\"\",+$C144*+VLOOKUP($B144,'%Analysis'!$A$4:$S$204,8,0))","v":""},{"$f":"IF(ISERROR(+$C144*+VLOOKUP($B144,'%Analysis'!$A$4:$S$204,9,0)),\"\",+$C144*+VLOOKUP($B144,'%Analysis'!$A$4:$S$204,9,0))","v":""},{"$f":"IF(ISERROR(+$C144*+VLOOKUP($B144,'%Analysis'!$A$4:$S$204,10,0)),\"\",+$C144*+VLOOKUP($B144,'%Analysis'!$A$4:$S$204,10,0))","v":""},{"$f":"IF(ISERROR(+$C144*+VLOOKUP($B144,'%Analysis'!$A$4:$S$204,11,0)),\"\",+$C144*+VLOOKUP($B144,'%Analysis'!$A$4:$S$204,11,0))","v":""},{"$f":"IF(ISERROR(+$C144*+VLOOKUP($B144,'%Analysis'!$A$4:$S$204,12,0)),\"\",+$C144*+VLOOKUP($B144,'%Analysis'!$A$4:$S$204,12,0))","v":""},{"$f":"IF(ISERROR(+$C144*+VLOOKUP($B144,'%Analysis'!$A$4:$S$204,13,0)),\"\",+$C144*+VLOOKUP($B144,'%Analysis'!$A$4:$S$204,13,0))","v":""},{"$f":"IF(ISERROR(+$C144*+VLOOKUP($B144,'%Analysis'!$A$4:$S$204,14,0)),\"\",+$C144*+VLOOKUP($B144,'%Analysis'!$A$4:$S$204,14,0))","v":""},{"$f":"IF(ISERROR(+$C144*+VLOOKUP($B144,'%Analysis'!$A$4:$S$204,15,0)),\"\",+$C144*+VLOOKUP($B144,'%Analysis'!$A$4:$S$204,15,0))","v":""},{"$f":"IF(ISERROR(+$C144*+VLOOKUP($B144,'%Analysis'!$A$4:$S$204,16,0)),\"\",+$C144*+VLOOKUP($B144,'%Analysis'!$A$4:$S$204,16,0))","v":""},{"$f":"IF(ISERROR(+$C144*+VLOOKUP($B144,'%Analysis'!$A$4:$S$204,17,0)),\"\",+$C144*+VLOOKUP($B144,'%Analysis'!$A$4:$S$204,17,0))","v":""},{"$f":"IF(ISERROR(+$C144*+VLOOKUP($B144,'%Analysis'!$A$4:$S$204,18,0)),\"\",+$C144*+VLOOKUP($B144,'%Analysis'!$A$4:$S$204,18,0))","v":""},null,null,null,{"$f":"+'%Analysis'!A146","v":0}]
[null,0,0,null,null,null,null,{"$f":"IF(ISERROR(+$C145*+VLOOKUP($B145,'%Analysis'!$A$4:$S$204,4,0)),\"\",+$C145*+VLOOKUP($B145,'%Analysis'!$A$4:$S$204,4,0))","v":""},{"$f":"IF(ISERROR(+$C145*+VLOOKUP($B145,'%Analysis'!$A$4:$S$204,5,0)),\"\",+$C145*+VLOOKUP($B145,'%Analysis'!$A$4:$S$204,5,0))","v":""},{"$f":"IF(ISERROR(+$C145*+VLOOKUP($B145,'%Analysis'!$A$4:$S$204,6,0)),\"\",+$C145*+VLOOKUP($B145,'%Analysis'!$A$4:$S$204,6,0))","v":""},{"$f":"IF(ISERROR(+$C145*+VLOOKUP($B145,'%Analysis'!$A$4:$S$204,7,0)),\"\",+$C145*+VLOOKUP($B145,'%Analysis'!$A$4:$S$204,7,0))","v":""},{"$f":"IF(ISERROR(+$C145*+VLOOKUP($B145,'%Analysis'!$A$4:$S$204,8,0)),\"\",+$C145*+VLOOKUP($B145,'%Analysis'!$A$4:$S$204,8,0))","v":""},{"$f":"IF(ISERROR(+$C145*+VLOOKUP($B145,'%Analysis'!$A$4:$S$204,9,0)),\"\",+$C145*+VLOOKUP($B145,'%Analysis'!$A$4:$S$204,9,0))","v":""},{"$f":"IF(ISERROR(+$C145*+VLOOKUP($B145,'%Analysis'!$A$4:$S$204,10,0)),\"\",+$C145*+VLOOKUP($B145,'%Analysis'!$A$4:$S$204,10,0))","v":""},{"$f":"IF(ISERROR(+$C145*+VLOOKUP($B145,'%Analysis'!$A$4:$S$204,11,0)),\"\",+$C145*+VLOOKUP($B145,'%Analysis'!$A$4:$S$204,11,0))","v":""},{"$f":"IF(ISERROR(+$C145*+VLOOKUP($B145,'%Analysis'!$A$4:$S$204,12,0)),\"\",+$C145*+VLOOKUP($B145,'%Analysis'!$A$4:$S$204,12,0))","v":""},{"$f":"IF(ISERROR(+$C145*+VLOOKUP($B145,'%Analysis'!$A$4:$S$204,13,0)),\"\",+$C145*+VLOOKUP($B145,'%Analysis'!$A$4:$S$204,13,0))","v":""},{"$f":"IF(ISERROR(+$C145*+VLOOKUP($B145,'%Analysis'!$A$4:$S$204,14,0)),\"\",+$C145*+VLOOKUP($B145,'%Analysis'!$A$4:$S$204,14,0))","v":""},{"$f":"IF(ISERROR(+$C145*+VLOOKUP($B145,'%Analysis'!$A$4:$S$204,15,0)),\"\",+$C145*+VLOOKUP($B145,'%Analysis'!$A$4:$S$204,15,0))","v":""},{"$f":"IF(ISERROR(+$C145*+VLOOKUP($B145,'%Analysis'!$A$4:$S$204,16,0)),\"\",+$C145*+VLOOKUP($B145,'%Analysis'!$A$4:$S$204,16,0))","v":""},{"$f":"IF(ISERROR(+$C145*+VLOOKUP($B145,'%Analysis'!$A$4:$S$204,17,0)),\"\",+$C145*+VLOOKUP($B145,'%Analysis'!$A$4:$S$204,17,0))","v":""},{"$f":"IF(ISERROR(+$C145*+VLOOKUP($B145,'%Analysis'!$A$4:$S$204,18,0)),\"\",+$C145*+VLOOKUP($B145,'%Analysis'!$A$4:$S$204,18,0))","v":""},null,null,null,{"$f":"+'%Analysis'!A147","v":0}]
[null,0,0,null,null,null,null,{"$f":"IF(ISERROR(+$C146*+VLOOKUP($B146,'%Analysis'!$A$4:$S$204,4,0)),\"\",+$C146*+VLOOKUP($B146,'%Analysis'!$A$4:$S$204,4,0))","v":""},{"$f":"IF(ISERROR(+$C146*+VLOOKUP($B146,'%Analysis'!$A$4:$S$204,5,0)),\"\",+$C146*+VLOOKUP($B146,'%Analysis'!$A$4:$S$204,5,0))","v":""},{"$f":"IF(ISERROR(+$C146*+VLOOKUP($B146,'%Analysis'!$A$4:$S$204,6,0)),\"\",+$C146*+VLOOKUP($B146,'%Analysis'!$A$4:$S$204,6,0))","v":""},{"$f":"IF(ISERROR(+$C146*+VLOOKUP($B146,'%Analysis'!$A$4:$S$204,7,0)),\"\",+$C146*+VLOOKUP($B146,'%Analysis'!$A$4:$S$204,7,0))","v":""},{"$f":"IF(ISERROR(+$C146*+VLOOKUP($B146,'%Analysis'!$A$4:$S$204,8,0)),\"\",+$C146*+VLOOKUP($B146,'%Analysis'!$A$4:$S$204,8,0))","v":""},{"$f":"IF(ISERROR(+$C146*+VLOOKUP($B146,'%Analysis'!$A$4:$S$204,9,0)),\"\",+$C146*+VLOOKUP($B146,'%Analysis'!$A$4:$S$204,9,0))","v":""},{"$f":"IF(ISERROR(+$C146*+VLOOKUP($B146,'%Analysis'!$A$4:$S$204,10,0)),\"\",+$C146*+VLOOKUP($B146,'%Analysis'!$A$4:$S$204,10,0))","v":""},{"$f":"IF(ISERROR(+$C146*+VLOOKUP($B146,'%Analysis'!$A$4:$S$204,11,0)),\"\",+$C146*+VLOOKUP($B146,'%Analysis'!$A$4:$S$204,11,0))","v":""},{"$f":"IF(ISERROR(+$C146*+VLOOKUP($B146,'%Analysis'!$A$4:$S$204,12,0)),\"\",+$C146*+VLOOKUP($B146,'%Analysis'!$A$4:$S$204,12,0))","v":""},{"$f":"IF(ISERROR(+$C146*+VLOOKUP($B146,'%Analysis'!$A$4:$S$204,13,0)),\"\",+$C146*+VLOOKUP($B146,'%Analysis'!$A$4:$S$204,13,0))","v":""},{"$f":"IF(ISERROR(+$C146*+VLOOKUP($B146,'%Analysis'!$A$4:$S$204,14,0)),\"\",+$C146*+VLOOKUP($B146,'%Analysis'!$A$4:$S$204,14,0))","v":""},{"$f":"IF(ISERROR(+$C146*+VLOOKUP($B146,'%Analysis'!$A$4:$S$204,15,0)),\"\",+$C146*+VLOOKUP($B146,'%Analysis'!$A$4:$S$204,15,0))","v":""},{"$f":"IF(ISERROR(+$C146*+VLOOKUP($B146,'%Analysis'!$A$4:$S$204,16,0)),\"\",+$C146*+VLOOKUP($B146,'%Analysis'!$A$4:$S$204,16,0))","v":""},{"$f":"IF(ISERROR(+$C146*+VLOOKUP($B146,'%Analysis'!$A$4:$S$204,17,0)),\"\",+$C146*+VLOOKUP($B146,'%Analysis'!$A$4:$S$204,17,0))","v":""},{"$f":"IF(ISERROR(+$C146*+VLOOKUP($B146,'%Analysis'!$A$4:$S$204,18,0)),\"\",+$C146*+VLOOKUP($B146,'%Analysis'!$A$4:$S$204,18,0))","v":""},null,null,null,{"$f":"+'%Analysis'!A148","v":0}]
[null,0,0,null,null,null,null,{"$f":"IF(ISERROR(+$C147*+VLOOKUP($B147,'%Analysis'!$A$4:$S$204,4,0)),\"\",+$C147*+VLOOKUP($B147,'%Analysis'!$A$4:$S$204,4,0))","v":""},{"$f":"IF(ISERROR(+$C147*+VLOOKUP($B147,'%Analysis'!$A$4:$S$204,5,0)),\"\",+$C147*+VLOOKUP($B147,'%Analysis'!$A$4:$S$204,5,0))","v":""},{"$f":"IF(ISERROR(+$C147*+VLOOKUP($B147,'%Analysis'!$A$4:$S$204,6,0)),\"\",+$C147*+VLOOKUP($B147,'%Analysis'!$A$4:$S$204,6,0))","v":""},{"$f":"IF(ISERROR(+$C147*+VLOOKUP($B147,'%Analysis'!$A$4:$S$204,7,0)),\"\",+$C147*+VLOOKUP($B147,'%Analysis'!$A$4:$S$204,7,0))","v":""},{"$f":"IF(ISERROR(+$C147*+VLOOKUP($B147,'%Analysis'!$A$4:$S$204,8,0)),\"\",+$C147*+VLOOKUP($B147,'%Analysis'!$A$4:$S$204,8,0))","v":""},{"$f":"IF(ISERROR(+$C147*+VLOOKUP($B147,'%Analysis'!$A$4:$S$204,9,0)),\"\",+$C147*+VLOOKUP($B147,'%Analysis'!$A$4:$S$204,9,0))","v":""},{"$f":"IF(ISERROR(+$C147*+VLOOKUP($B147,'%Analysis'!$A$4:$S$204,10,0)),\"\",+$C147*+VLOOKUP($B147,'%Analysis'!$A$4:$S$204,10,0))","v":""},{"$f":"IF(ISERROR(+$C147*+VLOOKUP($B147,'%Analysis'!$A$4:$S$204,11,0)),\"\",+$C147*+VLOOKUP($B147,'%Analysis'!$A$4:$S$204,11,0))","v":""},{"$f":"IF(ISERROR(+$C147*+VLOOKUP($B147,'%Analysis'!$A$4:$S$204,12,0)),\"\",+$C147*+VLOOKUP($B147,'%Analysis'!$A$4:$S$204,12,0))","v":""},{"$f":"IF(ISERROR(+$C147*+VLOOKUP($B147,'%Analysis'!$A$4:$S$204,13,0)),\"\",+$C147*+VLOOKUP($B147,'%Analysis'!$A$4:$S$204,13,0))","v":""},{"$f":"IF(ISERROR(+$C147*+VLOOKUP($B147,'%Analysis'!$A$4:$S$204,14,0)),\"\",+$C147*+VLOOKUP($B147,'%Analysis'!$A$4:$S$204,14,0))","v":""},{"$f":"IF(ISERROR(+$C147*+VLOOKUP($B147,'%Analysis'!$A$4:$S$204,15,0)),\"\",+$C147*+VLOOKUP($B147,'%Analysis'!$A$4:$S$204,15,0))","v":""},{"$f":"IF(ISERROR(+$C147*+VLOOKUP($B147,'%Analysis'!$A$4:$S$204,16,0)),\"\",+$C147*+VLOOKUP($B147,'%Analysis'!$A$4:$S$204,16,0))","v":""},{"$f":"IF(ISERROR(+$C147*+VLOOKUP($B147,'%Analysis'!$A$4:$S$204,17,0)),\"\",+$C147*+VLOOKUP($B147,'%Analysis'!$A$4:$S$204,17,0))","v":""},{"$f":"IF(ISERROR(+$C147*+VLOOKUP($B147,'%Analysis'!$A$4:$S$204,18,0)),\"\",+$C147*+VLOOKUP($B147,'%Analysis'!$A$4:$S$204,18,0))","v":""},null,null,null,{"$f":"+'%Analysis'!A149","v":0}]
[null,0,106,null,null,null,null,{"$f":"IF(ISERROR(+$C148*+VLOOKUP($B148,'%Analysis'!$A$4:$S$204,4,0)),\"\",+$C148*+VLOOKUP($B148,'%Analysis'!$A$4:$S$204,4,0))","v":""},{"$f":"IF(ISERROR(+$C148*+VLOOKUP($B148,'%Analysis'!$A$4:$S$204,5,0)),\"\",+$C148*+VLOOKUP($B148,'%Analysis'!$A$4:$S$204,5,0))","v":""},{"$f":"IF(ISERROR(+$C148*+VLOOKUP($B148,'%Analysis'!$A$4:$S$204,6,0)),\"\",+$C148*+VLOOKUP($B148,'%Analysis'!$A$4:$S$204,6,0))","v":""},{"$f":"IF(ISERROR(+$C148*+VLOOKUP($B148,'%Analysis'!$A$4:$S$204,7,0)),\"\",+$C148*+VLOOKUP($B148,'%Analysis'!$A$4:$S$204,7,0))","v":""},{"$f":"IF(ISERROR(+$C148*+VLOOKUP($B148,'%Analysis'!$A$4:$S$204,8,0)),\"\",+$C148*+VLOOKUP($B148,'%Analysis'!$A$4:$S$204,8,0))","v":""},{"$f":"IF(ISERROR(+$C148*+VLOOKUP($B148,'%Analysis'!$A$4:$S$204,9,0)),\"\",+$C148*+VLOOKUP($B148,'%Analysis'!$A$4:$S$204,9,0))","v":""},{"$f":"IF(ISERROR(+$C148*+VLOOKUP($B148,'%Analysis'!$A$4:$S$204,10,0)),\"\",+$C148*+VLOOKUP($B148,'%Analysis'!$A$4:$S$204,10,0))","v":""},{"$f":"IF(ISERROR(+$C148*+VLOOKUP($B148,'%Analysis'!$A$4:$S$204,11,0)),\"\",+$C148*+VLOOKUP($B148,'%Analysis'!$A$4:$S$204,11,0))","v":""},{"$f":"IF(ISERROR(+$C148*+VLOOKUP($B148,'%Analysis'!$A$4:$S$204,12,0)),\"\",+$C148*+VLOOKUP($B148,'%Analysis'!$A$4:$S$204,12,0))","v":""},{"$f":"IF(ISERROR(+$C148*+VLOOKUP($B148,'%Analysis'!$A$4:$S$204,13,0)),\"\",+$C148*+VLOOKUP($B148,'%Analysis'!$A$4:$S$204,13,0))","v":""},{"$f":"IF(ISERROR(+$C148*+VLOOKUP($B148,'%Analysis'!$A$4:$S$204,14,0)),\"\",+$C148*+VLOOKUP($B148,'%Analysis'!$A$4:$S$204,14,0))","v":""},{"$f":"IF(ISERROR(+$C148*+VLOOKUP($B148,'%Analysis'!$A$4:$S$204,15,0)),\"\",+$C148*+VLOOKUP($B148,'%Analysis'!$A$4:$S$204,15,0))","v":""},{"$f":"IF(ISERROR(+$C148*+VLOOKUP($B148,'%Analysis'!$A$4:$S$204,16,0)),\"\",+$C148*+VLOOKUP($B148,'%Analysis'!$A$4:$S$204,16,0))","v":""},{"$f":"IF(ISERROR(+$C148*+VLOOKUP($B148,'%Analysis'!$A$4:$S$204,17,0)),\"\",+$C148*+VLOOKUP($B148,'%Analysis'!$A$4:$S$204,17,0))","v":""},{"$f":"IF(ISERROR(+$C148*+VLOOKUP($B148,'%Analysis'!$A$4:$S$204,18,0)),\"\",+$C148*+VLOOKUP($B148,'%Analysis'!$A$4:$S$204,18,0))","v":""},null,null,null,{"$f":"+'%Analysis'!A150","v":0}]
[null,null,null,null,null,null,null,{"$f":"IF(ISERROR(+$C149*+VLOOKUP($B149,'%Analysis'!$A$4:$S$204,4,0)),\"\",+$C149*+VLOOKUP($B149,'%Analysis'!$A$4:$S$204,4,0))","v":""},{"$f":"IF(ISERROR(+$C149*+VLOOKUP($B149,'%Analysis'!$A$4:$S$204,5,0)),\"\",+$C149*+VLOOKUP($B149,'%Analysis'!$A$4:$S$204,5,0))","v":""},{"$f":"IF(ISERROR(+$C149*+VLOOKUP($B149,'%Analysis'!$A$4:$S$204,6,0)),\"\",+$C149*+VLOOKUP($B149,'%Analysis'!$A$4:$S$204,6,0))","v":""},{"$f":"IF(ISERROR(+$C149*+VLOOKUP($B149,'%Analysis'!$A$4:$S$204,7,0)),\"\",+$C149*+VLOOKUP($B149,'%Analysis'!$A$4:$S$204,7,0))","v":""},{"$f":"IF(ISERROR(+$C149*+VLOOKUP($B149,'%Analysis'!$A$4:$S$204,8,0)),\"\",+$C149*+VLOOKUP($B149,'%Analysis'!$A$4:$S$204,8,0))","v":""},{"$f":"IF(ISERROR(+$C149*+VLOOKUP($B149,'%Analysis'!$A$4:$S$204,9,0)),\"\",+$C149*+VLOOKUP($B149,'%Analysis'!$A$4:$S$204,9,0))","v":""},{"$f":"IF(ISERROR(+$C149*+VLOOKUP($B149,'%Analysis'!$A$4:$S$204,10,0)),\"\",+$C149*+VLOOKUP($B149,'%Analysis'!$A$4:$S$204,10,0))","v":""},{"$f":"IF(ISERROR(+$C149*+VLOOKUP($B149,'%Analysis'!$A$4:$S$204,11,0)),\"\",+$C149*+VLOOKUP($B149,'%Analysis'!$A$4:$S$204,11,0))","v":""},{"$f":"IF(ISERROR(+$C149*+VLOOKUP($B149,'%Analysis'!$A$4:$S$204,12,0)),\"\",+$C149*+VLOOKUP($B149,'%Analysis'!$A$4:$S$204,12,0))","v":""},{"$f":"IF(ISERROR(+$C149*+VLOOKUP($B149,'%Analysis'!$A$4:$S$204,13,0)),\"\",+$C149*+VLOOKUP($B149,'%Analysis'!$A$4:$S$204,13,0))","v":""},{"$f":"IF(ISERROR(+$C149*+VLOOKUP($B149,'%Analysis'!$A$4:$S$204,14,0)),\"\",+$C149*+VLOOKUP($B149,'%Analysis'!$A$4:$S$204,14,0))","v":""},{"$f":"IF(ISERROR(+$C149*+VLOOKUP($B149,'%Analysis'!$A$4:$S$204,15,0)),\"\",+$C149*+VLOOKUP($B149,'%Analysis'!$A$4:$S$204,15,0))","v":""},{"$f":"IF(ISERROR(+$C149*+VLOOKUP($B149,'%Analysis'!$A$4:$S$204,16,0)),\"\",+$C149*+VLOOKUP($B149,'%Analysis'!$A$4:$S$204,16,0))","v":""},{"$f":"IF(ISERROR(+$C149*+VLOOKUP($B149,'%Analysis'!$A$4:$S$204,17,0)),\"\",+$C149*+VLOOKUP($B149,'%Analysis'!$A$4:$S$204,17,0))","v":""},{"$f":"IF(ISERROR(+$C149*+VLOOKUP($B149,'%Analysis'!$A$4:$S$204,18,0)),\"\",+$C149*+VLOOKUP($B149,'%Analysis'!$A$4:$S$204,18,0))","v":""},null,null,null,{"$f":"+'%Analysis'!A151","v":0}]
[null,null,null,null,null,null,null,{"$f":"IF(ISERROR(+$C150*+VLOOKUP($B150,'%Analysis'!$A$4:$S$204,4,0)),\"\",+$C150*+VLOOKUP($B150,'%Analysis'!$A$4:$S$204,4,0))","v":""},{"$f":"IF(ISERROR(+$C150*+VLOOKUP($B150,'%Analysis'!$A$4:$S$204,5,0)),\"\",+$C150*+VLOOKUP($B150,'%Analysis'!$A$4:$S$204,5,0))","v":""},{"$f":"IF(ISERROR(+$C150*+VLOOKUP($B150,'%Analysis'!$A$4:$S$204,6,0)),\"\",+$C150*+VLOOKUP($B150,'%Analysis'!$A$4:$S$204,6,0))","v":""},{"$f":"IF(ISERROR(+$C150*+VLOOKUP($B150,'%Analysis'!$A$4:$S$204,7,0)),\"\",+$C150*+VLOOKUP($B150,'%Analysis'!$A$4:$S$204,7,0))","v":""},{"$f":"IF(ISERROR(+$C150*+VLOOKUP($B150,'%Analysis'!$A$4:$S$204,8,0)),\"\",+$C150*+VLOOKUP($B150,'%Analysis'!$A$4:$S$204,8,0))","v":""},{"$f":"IF(ISERROR(+$C150*+VLOOKUP($B150,'%Analysis'!$A$4:$S$204,9,0)),\"\",+$C150*+VLOOKUP($B150,'%Analysis'!$A$4:$S$204,9,0))","v":""},{"$f":"IF(ISERROR(+$C150*+VLOOKUP($B150,'%Analysis'!$A$4:$S$204,10,0)),\"\",+$C150*+VLOOKUP($B150,'%Analysis'!$A$4:$S$204,10,0))","v":""},{"$f":"IF(ISERROR(+$C150*+VLOOKUP($B150,'%Analysis'!$A$4:$S$204,11,0)),\"\",+$C150*+VLOOKUP($B150,'%Analysis'!$A$4:$S$204,11,0))","v":""},{"$f":"IF(ISERROR(+$C150*+VLOOKUP($B150,'%Analysis'!$A$4:$S$204,12,0)),\"\",+$C150*+VLOOKUP($B150,'%Analysis'!$A$4:$S$204,12,0))","v":""},{"$f":"IF(ISERROR(+$C150*+VLOOKUP($B150,'%Analysis'!$A$4:$S$204,13,0)),\"\",+$C150*+VLOOKUP($B150,'%Analysis'!$A$4:$S$204,13,0))","v":""},{"$f":"IF(ISERROR(+$C150*+VLOOKUP($B150,'%Analysis'!$A$4:$S$204,14,0)),\"\",+$C150*+VLOOKUP($B150,'%Analysis'!$A$4:$S$204,14,0))","v":""},{"$f":"IF(ISERROR(+$C150*+VLOOKUP($B150,'%Analysis'!$A$4:$S$204,15,0)),\"\",+$C150*+VLOOKUP($B150,'%Analysis'!$A$4:$S$204,15,0))","v":""},{"$f":"IF(ISERROR(+$C150*+VLOOKUP($B150,'%Analysis'!$A$4:$S$204,16,0)),\"\",+$C150*+VLOOKUP($B150,'%Analysis'!$A$4:$S$204,16,0))","v":""},{"$f":"IF(ISERROR(+$C150*+VLOOKUP($B150,'%Analysis'!$A$4:$S$204,17,0)),\"\",+$C150*+VLOOKUP($B150,'%Analysis'!$A$4:$S$204,17,0))","v":""},{"$f":"IF(ISERROR(+$C150*+VLOOKUP($B150,'%Analysis'!$A$4:$S$204,18,0)),\"\",+$C150*+VLOOKUP($B150,'%Analysis'!$A$4:$S$204,18,0))","v":""},null,null,null,{"$f":"+'%Analysis'!A152","v":0}]
[null,null,null,null,null,null,null,null,null,null,null,null,null,null,null,null,null,null,null,null,null,null,null,null,null,{"$f":"+'%Analysis'!A153","v":0}]
[null,null,null,null,null,null,null,null,null,null,null,null,null,null,null,null,null,null,null,null,null,null,null,null,null,{"$f":"+'%Analysis'!A154","v":0}]
[null,null,"Weight Totals",null,null,{"$f":"384.248/414.63","v":0.92672503195620193},null,{"$f":"SUM(H136:H152)","v":307.74},{"$f":"SUM(I136:I152)","v":210.38},0,1360.32,6.3,576.94000000000005,0,0,1245.6799999999998,17.100000000000001,452.92,4840.62,26.7,1347.7599999999998,129.56,null,null,null,{"$f":"+'%Analysis'!A155","v":0}]
[null,null,"Mol Weights",null,null,null,null,94.195999999999998,61.978999999999999,29.881,56.076999999999998,103.619,40.304000000000002,81.379000000000005,153.32599999999999,101.961,159.68799999999999,69.62,60.084000000000003,79.866,44.01,18.015000000000001,null,null,null,{"$f":"+'%Analysis'!A156","v":0}]
[null,null,"Gram Equivalents",null,null,{"$f":"SUM(I155:V155)","v":179.57211687535724},null,{"$f":"H153/H154","v":3.2670177077582916},{"$f":"I153/I154","v":3.3943755142870971},{"$f":"J153/J154","v":0},{"$f":"K153/K154","v":24.258073720063482},{"$f":"L153/L154","v":6.0799660293961527E-2},14.314708217546647,0,0,12.217220309726267,0.1070838134362006,6.5056018385521401,80.564210105851799,0.33430996919840733,30.623949102476704,7.1917846239245069]
[null,null,"Total Flux Equivs",null,null,null,null,{"$f":"SUM(H155:O155)","v":45.294974819949481}]
[null,null,"Formula",null,null,null,null,{"$f":"H155/$H$156","v":7.2127597393417328E-2},7.4939339910883362E-2,0,0.53555772613829522,1.3423047597585426E-3,0.31603303179764552,0,0,0.26972573355632773,2.3641433483927487E-3,0.14362745236998889,1.7786566926264968,7.3807297725037172E-3,0.67610036707623589,0.15877665574409361]
[]
[null,null,null,null,null,null,"TOTAL","K2O","Na2O","Li2O","CaO","SrO","MgO","ZnO","BaO","Al2O3","Fe2O3","B2O3","SiO2","TiO2","CO2","H2O"]
[null,null,null,null,"|","Fired",{"$f":"+H153+I153+J153+K153+L153+M153+N153+O153+P153+Q153+R153+S153+T153","v":9044.7000000000007},{"$f":"+H153","v":307.74},{"$f":"+I153","v":210.38},0,1360.32,6.3,576.94000000000005,0,0,1245.6799999999998,17.100000000000001,452.92,4840.62,26.7]
[null,null,null,null,"|","Wt %",{"$f":"G160/$G$160","v":1},{"$f":"H160/$G$160","v":3.4024345749444428E-2},2.3260030736232267E-2,0,0.15039968158147865,6.9654051543998133E-4,6.3787632536181416E-2,0,0,0.13772485544020252,1.8906099704799496E-3,5.0075734960805772E-2,0.53518856346810839,2.9520050416265878E-3]
[null,null,null,null,"|"]
[null,null,null,null,"|"]
[null,null,null,null,"|"]

{"sheet":"Recipe to Formula (2)","index":1,"n_rows":164,"n_cols":26,"rows_kept":164,"cut":false,"hidden":false,"merged":[[2,5,2,12],[4,1,4,3],[8,5,8,12],[14,5,14,12]]}
[]
[null,"EuCal",null,"version 1.91",null,null,null,null,null,true,null,null,false]
[null,null,null,"Recipe to Formula",null,"Formula - Standard Molecular Unity",null,null,null,null,null,null,null,null,null,null,null,null,null,null,null,null,null,null,null,{"$f":"+'%Analysis'!A5","v":"Al2O3"}]
[null,null,null,null,"Batch","K2O",{"$f":"C92","v":{"$error":"#DIV/0!"}},"CaO",{"$f":"F92","v":{"$error":"#DIV/0!"}},"Al2O3",{"$f":"L92","v":{"$error":"#DIV/0!"}},"SiO2",{"$f":"M92","v":{"$error":"#DIV/0!"}},null,null,null,null,null,null,null,null,null,null,null,null,{"$f":"+'%Analysis'!A6","v":"Albany Slip"}]
[null,"Recipe",null,null,"Size","Na2O",{"$f":"D92","v":{"$error":"#DIV/0!"}},"MgO",{"$f":"G92","v":{"$error":"#DIV/0!"}},"B2O3",{"$f":"+K92","v":{"$error":"#DIV/0!"}},"SiO2/Al2O3",{"$f":"M4/K4","v":{"$error":"#DIV/0!"}},null,null,null,null,null,null,null,null,null,null,null,null,{"$f":"+'%Analysis'!A7","v":"Alumina Hydrate"}]
[null,"Mineral","%","Fit 100%",100,"Li2O",{"$f":"E92","v":{"$error":"#DIV/0!"}},"SrO",{"$f":"I92","v":{"$error":"#DIV/0!"}},"Fe2O3",{"$f":"Q155/$H$156","v":{"$error":"#DIV/0!"}},null,null,null,null,null,null,null,null,null,null,null,null,null,null,{"$f":"+'%Analysis'!A8","v":"B2O3"}]
[null,null,null,{"$f":"IF(C7>0,C7/SUM($C$7:$C$18)*100,\"\")","v":""},{"$f":"IF(C7>0,D7*$E$6*0.01,\"\")","v":""},"R2O",{"$f":"SUM(G4:G6)","v":{"$error":"#DIV/0!"}},"ZnO",{"$f":"J92","v":{"$error":"#DIV/0!"}},null,null,null,null,null,null,null,null,null,null,null,null,null,null,null,null,{"$f":"+'%Analysis'!A9","v":"BaCarb"}]
[null,null,null,"",{"$f":"IF(C8>0,D8*$E$6*0.01,\"\")","v":""},"RO",{"$f":"SUM(I4:I8)","v":{"$error":"#DIV/0!"}},"BaO",{"$f":"H92","v":{"$error":"#DIV/0!"}},null,null,null,null,null,null,null,null,null,null,null,null,null,null,null,null,{"$f":"+'%Analysis'!A10","v":"BaO"}]
[null,null,null,"","","Formula - Eutectics Only",null,null,null,null,null,null,null,null,null,null,null,null,null,null,null,null,null,null,null,{"$f":"+'%Analysis'!A11","v":"Barnard Slip"}]
[null,null,null,"","","K2O",{"$f":"C89","v":{"$error":"#DIV/0!"}},"CaO",{"$f":"F89","v":{"$error":"#DIV/0!"}},"Al2O3",{"$f":"L89","v":{"$error":"#DIV/0!"}},"SiO2",{"$f":"M89","v":{"$error":"#DIV/0!"}},null,null,null,null,null,null,null,null,null,null,null,null,{"$f":"+'%Analysis'!A12","v":"Bentone MA"}]
[null,null,null,"","","Na2O",{"$f":"D89","v":{"$error":"#DIV/0!"}},"MgO",{"$f":"G89","v":{"$error":"#DIV/0!"}},"B2O3",{"$f":"K89","v":{"$error":"#DIV/0!"}},"SiO2/Al2O3",{"$f":"M10/K10","v":{"$error":"#DIV/0!"}},null,null,null,null,null,null,null,null,null,null,null,null,{"$f":"+'%Analysis'!A13","v":"Bentonite"}]
[null,null,null,"","","Li2O",{"$f":"E89","v":{"$error":"#DIV/0!"}},"SrO",{"$f":"I89","v":{"$error":"#DIV/0!"}},null,null,null,null,null,null,null,null,null,null,null,null,null,null,null,null,{"$f":"+'%Analysis'!A14","v":"BoneAsh"}]
[null,null,null,"","","R2O",{"$f":"SUM(G10:G12)","v":{"$error":"#DIV/0!"}},"ZnO",{"$f":"J89","v":{"$error":"#DIV/0!"}},null,null,null,null,null,null,null,null,null,null,null,null,null,null,null,null,{"$f":"+'%Analysis'!A15","v":"Borax"}]
[null,null,null,"","","RO",{"$f":"SUM(I10:I14)","v":{"$error":"#DIV/0!"}},"BaO",{"$f":"H89","v":{"$error":"#DIV/0!"}},null,null,null,null,null,null,null,null,null,null,null,null,null,null,null,null,{"$f":"+'%Analysis'!A16","v":"CaO"}]
[null,null,null,"","","Oxides Excess to the Eutectics",null,null,null,null,null,null,null,null,null,null,null,null,null,null,null,null,null,null,null,{"$f":"+'%Analysis'!A17","v":"ChromeOxide"}]
[null,null,null,"","","K2O","Na2O","Li2O","CaO","MgO","BaO","SrO","ZnO",null,null,null,null,null,null,null,null,null,null,null,null,{"$f":"+'%Analysis'!A18","v":"CMC Gum"}]
[null,null,null,"","",{"$f":"C90","v":{"$error":"#DIV/0!"}},{"$error":"#DIV/0!"},{"$error":"#DIV/0!"},{"$error":"#DIV/0!"},{"$error":"#DIV/0!"},{"$error":"#DIV/0!"},{"$error":"#DIV/0!"},{"$error":"#DIV/0!"},null,null,null,null,null,null,null,null,null,null,null,null,{"$f":"+'%Analysis'!A19","v":"CoCarb"}]
[null,null,null,"","","Al2O3","SiO2",null,null,null,null,"B2O3","Fe2O3",null,null,null,null,null,null,null,null,null,null,null,null,{"$f":"+'%Analysis'!A20","v":"Coleman"}]
[null,null,{"$f":"SUM(C7:C18)","v":0},{"$f":"SUM(D7:D18)","v":0},{"$f":"SUM(E7:E18)","v":0},{"$f":"L90","v":{"$error":"#DIV/0!"}},{"$f":"M90","v":{"$error":"#DIV/0!"}},null,null,null,null,{"$f":"+K90","v":{"$error":"#DIV/0!"}},{"$f":"(Q153/Q154)/$B$88","v":{"$error":"#DIV/0!"}},null,null,null,null,null,null,null,null,null,null,null,null,{"$f":"+'%Analysis'!A21","v":"CoOxide"}]
[null,null,null,null,null,null,null,null,null,null,null,null,null,null,null,null,null,null,null,null,null,null,null,null,null,{"$f":"+'%Analysis'!A22","v":"Corn Old"}]
[null,null,null,null,null,null,null,null,null,null,null,null,null,null,null,null,null,null,null,null,null,null,null,null,null,{"$f":"+'%Analysis'!A23","v":"Cornwall"}]
[null,null,null,null,null,null,null,null,null,null,null,null,null,null,null,null,null,null,null,null,null,null,null,null,null,{"$f":"+'%Analysis'!A24","v":"Cu2O"}]
[null,null,null,null,null,null,null,null,null,null,null,null,null,null,null,null,null,null,null,null,null,null,null,null,null,{"$f":"+'%Analysis'!A25","v":"CuCarb"}]
[null,null,null,null,null,null,null,null,null,null,null,null,null,null,null,null,null,null,null,null,null,null,null,null,null,{"$f":"+'%Analysis'!A26","v":"Custer"}]
[null,null,null,null,null,null,null,null,null,null,null,null,null,null,null,null,null,null,null,null,null,null,null,null,null,{"$f":"+'%Analysis'!A27","v":"Custer - Old"}]
[null,null,null,null,null,null,null,null,null,null,null,null,null,null,null,null,null,null,null,null,null,null,null,null,null,{"$f":"+'%Analysis'!A28","v":"Dolomite"}]
[null,null,null,null,null,null,null,null,null,null,null,null,null,null,null,null,null,null,null,null,null,null,null,null,null,{"$f":"+'%Analysis'!A29","v":"EPK"}]
[null,null,"The Eutectics",null,null,null,null,null,null,null,null,null,null,null,null,null,null,null,null,null,null,null,null,null,null,{"$f":"+'%Analysis'!A30","v":"EPK - Calcined"}]
[null,"#","K2O","Na2O","Li2O","CaO","MgO","BaO","SrO","ZnO","B2O3","Al2O3","SiO2","MP°C",null,null,null,null,null,null,null,null,null,null,null,{"$f":"+'%Analysis'!A31","v":"Fe2O3"}]
[null,1,1,null,null,null,null,null,null,null,2.1190000000000002,null,2.8530000000000002,630,null,null,null,null,null,null,null,null,null,null,null,{"$f":"+'%Analysis'!A32","v":"Ferro3110"}]
[null,2,1,null,null,null,null,null,null,null,null,9.7199999999999995E-2,3.4243000000000001,695,null,null,null,null,null,null,null,null,null,null,null,{"$f":"+'%Analysis'!A33","v":"Ferro3124"}]
[null,3,null,1,null,null,null,null,null,null,null,0.29220000000000002,2.44,732,null,null,null,null,null,null,null,null,null,null,null,{"$f":"+'%Analysis'!A34","v":"Ferro3134"}]
[null,4,null,1,null,null,null,null,null,null,1.3,null,1.73,790,null,null,null,null,null,null,null,null,null,null,null,{"$f":"+'%Analysis'!A35","v":"Ferro3195"}]
[null,5,null,null,1,null,null,null,null,null,0.7,null,0.3,802,null,null,null,null,null,null,null,null,null,null,null,{"$f":"+'%Analysis'!A36","v":"Flint"}]
[null,6,null,null,null,1,null,null,null,null,1.51,null,0,990,null,null,null,null,null,null,null,null,null,null,null,{"$f":"+'%Analysis'!A37","v":"G-200"}]
[null,7,null,null,1,null,null,null,null,null,null,0.22800000000000001,1.6838,1026,"CaO/ZnO","ZnO/CaO",null,null,null,null,null,null,null,null,null,{"$f":"+'%Analysis'!A38","v":"G200 HP"}]
[null,8,null,null,null,0.54400000000000004,null,null,null,0.45600000000000002,null,0.1326,1.3943000000000001,1030,{"$f":"+F37/J37","v":1.1929824561403508},{"$f":"+J37/F37","v":0.83823529411764708},null,null,null,null,null,null,null,null,null,{"$f":"+'%Analysis'!A39","v":"Gerstley Borate"}]
[null,9,null,null,null,null,null,1,null,null,null,0.40579999999999999,4.0090000000000003,1122,null,null,null,null,null,null,null,null,null,null,null,{"$f":"+'%Analysis'!A40","v":"Gerstley Borate - 1999"}]
[null,10,null,null,null,1,null,null,null,null,null,0.34889999999999999,2.4887999999999999,1165,null,null,null,null,null,null,null,null,null,null,null,{"$f":"+'%Analysis'!A41","v":"Gillespie Borate"}]
[null,11,null,null,null,null,null,null,1,null,null,0.21440000000000001,2.8,1176,null,null,null,null,null,null,null,null,null,null,null,{"$f":"+'%Analysis'!A42","v":"Goldart"}]
[null,12,null,null,null,null,1,null,null,null,null,0.33739999999999998,2.0287000000000002,1350,null,null,null,null,null,null,null,null,null,null,null,{"$f":"+'%Analysis'!A43","v":"Grolleg"}]
[null,null,null,null,null,null,null,null,null,null,null,null,null,null,null,null,null,null,null,null,null,null,null,null,null,{"$f":"+'%Analysis'!A44","v":"K2CO3"}]
[null,null,"The Eutectics by Weight",null,null,null,null,null,null,null,null,null,null,null,null,null,null,null,null,null,null,null,null,null,null,{"$f":"+'%Analysis'!A45","v":"K2O"}]
[null,"#","K2O","Na2O","Li2O","CaO","MgO","BaO","SrO","ZnO","B2O3","Al2O3","SiO2","MP°C",null,null,null,null,null,null,null,null,null,null,null,{"$f":"+'%Analysis'!A46","v":"Kaolin"}]
[null,1,22.8,null,null,null,null,null,null,null,35.700000000000003,null,41.5,630,{"$f":"SUM(C45:M45)","v":100},null,null,null,null,null,null,null,null,null,null,{"$f":"+'%Analysis'!A47","v":"KFeld"}]
[null,2,30.4,null,null,null,null,null,null,null,null,3.2,66.400000000000006,695,100,null,null,null,null,null,null,null,null,null,null,{"$f":"+'%Analysis'!A48","v":"Kingman"}]
[null,3,null,26,null,null,null,null,null,null,null,12.5,61.5,732,100,null,null,null,null,null,null,null,null,null,null,{"$f":"+'%Analysis'!A49","v":"KonaF-4"}]
[null,4,null,24.2,null,null,null,null,null,null,35.200000000000003,null,40.6,790,100,null,null,null,null,null,null,null,null,null,null,{"$f":"+'%Analysis'!A50","v":"Leucite"}]
[null,5,null,null,30.9,null,null,null,null,null,50.4,null,18.7,802,100,null,null,null,null,null,null,null,null,null,null,{"$f":"+'%Analysis'!A51","v":"Li2O"}]
[null,6,null,null,null,65.209999999999994,null,null,null,null,34.79,null,null,990,100,null,null,null,null,null,null,null,null,null,null,{"$f":"+'%Analysis'!A52","v":"LiCarb"}]
[null,7,null,null,19.366,null,null,null,null,null,null,15.067,65.566999999999993,1026,100,null,null,null,null,null,null,null,null,null,null,{"$f":"+'%Analysis'!A53","v":"LiSilicate"}]
[null,8,null,null,null,18.5,null,null,null,22.5,null,8.1999999999999993,50.8,1030,100,null,null,null,null,null,null,null,null,null,null,{"$f":"+'%Analysis'!A54","v":"Macaloid"}]
[null,9,null,null,null,null,null,35.200000000000003,null,null,null,9.5,55.3,1122,100,null,null,null,null,null,null,null,null,null,null,{"$f":"+'%Analysis'!A55","v":"MgCarb"}]
[null,10,null,null,null,23.25,null,null,null,null,null,14.75,62,1165,100,null,null,null,null,null,null,null,null,null,null,{"$f":"+'%Analysis'!A56","v":"MgO"}]
[null,11,null,null,null,null,null,null,35.277999999999999,null,null,7.4429999999999996,57.277999999999999,1176,99.998999999999995,null,null,null,null,null,null,null,null,null,null,{"$f":"+'%Analysis'!A57","v":"Mahavir Feldspar"}]
[null,12,null,null,null,null,20.5,null,null,null,null,17.5,62,1350,100,null,null,null,null,null,null,null,null,null,null,{"$f":"+'%Analysis'!A58","v":"Minspar 200"}]
[null,null,null,null,null,null,null,null,null,null,null,null,null,null,null,null,null,null,null,null,null,null,null,null,null,{"$f":"+'%Analysis'!A59","v":"MnCarb"}]
[null,null,null,null,null,null,null,null,null,null,null,null,null,null,null,null,null,null,null,null,null,null,null,null,null,{"$f":"+'%Analysis'!A60","v":"MnO2"}]
[null,null,"WHAT'S LEFT AFTER EACH EUTECTIC - BY WEIGHT",null,null,null,null,null,null,null,null,null,null,null,"NEEDED",null,null,"AVAILABLE",null,"Ratios",null,"Possible",null,"AVAILABLE",null,{"$f":"+'%Analysis'!A61","v":"Na2CO3"}]
["#",null,"K2O","Na2O","Li2O","CaO","MgO","BaO","SrO","ZnO","B2O3","Al2O3","SiO2","B2O3","Al2O3","SiO2","B2O3","Al2O3","SiO2","CaO/","ZnO","CaO","ZnO","CaO","ZnO",{"$f":"+'%Analysis'!A62","v":"Na2O"}]
["Start",null,{"$f":"+H153","v":0},{"$f":"+I153","v":0},{"$f":"+J153","v":0},{"$f":"+K153","v":0},{"$f":"+M153","v":0},{"$f":"+O153","v":0},{"$f":"+L153","v":0},{"$f":"+N153","v":0},{"$f":"+R153","v":0},{"$f":"+P153","v":0},{"$f":"+S153","v":0},null,null,null,null,null,null,null,null,null,null,null,null,{"$f":"+'%Analysis'!A63","v":"NaFeld"}]
[1,"Used",{"$f":"IF(AND(N62<=Q62,P62<=S62),C61,MIN(Q62/N62,S62/P62)*C61)","v":0},null,null,null,null,null,null,null,{"$f":"C62*(K45/C45)","v":0},null,{"$f":"C62*(M45/C45)","v":0},{"$f":"(K45/C45)*C61","v":0},null,{"$f":"(M45/C45)*C61","v":0},{"$f":"+K61","v":0},null,{"$f":"M61","v":0},null,null,null,null,null,null,{"$f":"+'%Analysis'!A64","v":"NephelineSyenite"}]
[1,"Remaining",{"$f":"C61-C62","v":0},{"$f":"D61-D62","v":0},0,0,0,0,0,0,0,0,0,null,null,null,null,null,null,null,null,null,null,null,null,{"$f":"+'%Analysis'!A65","v":"NiCarb"}]
[2,"Used",{"$f":"IF(AND(O64<=R64,P64<=S64),C63,MIN(R64/O64,S64/P64)*C63)","v":0},null,null,null,null,null,null,null,null,{"$f":"(L46/C46)*C64","v":0},{"$f":"(M46/C46)*C64","v":0},null,{"$f":"(L46/C46)*C63","v":0},{"$f":"(M46/C46)*C63","v":0},{"$f":"+K63","v":0},{"$f":"L63","v":0},{"$f":"M63","v":0},null,null,null,null,null,null,{"$f":"+'%Analysis'!A66","v":"OldHick"}]
[2,"Remaining",{"$f":"C63-C64","v":0},{"$f":"D63-D64","v":0},0,0,0,0,0,0,0,0,0,null,null,null,{"$f":"+K64","v":0},null,null,null,null,null,null,null,null,{"$f":"+'%Analysis'!A67","v":"OM4"}]
[3,"Used",null,{"$f":"IF(AND(P66<=S66,O66<=R66),D65,MIN(S66/P66,R66/O66)*D65)","v":0},null,null,null,null,null,null,null,{"$f":"D66*(L47/D47)","v":0},{"$f":"D66*(M47/D47)","v":0},null,{"$f":"D65*(L47/D47)","v":0},{"$f":"D65*(M47/D47)","v":0},{"$f":"+K65","v":0},{"$f":"L65","v":0},{"$f":"M65","v":0},null,null,null,null,null,null,{"$f":"+'%Analysis'!A68","v":"P2O5"}]
[3,"Remaining",{"$f":"C65-C66","v":0},{"$f":"D65-D66","v":0},0,0,0,0,0,0,0,0,0,null,null,null,null,null,null,null,null,null,null,null,null,{"$f":"+'%Analysis'!A69","v":"Petalite"}]
[4,"Used",null,{"$f":"IF(AND(P68<=S68,N68<=Q68),D67,MIN(S68/P68,Q68/N68)*D67)","v":0},null,null,null,null,null,null,{"$f":"D68*(K48/D48)","v":0},null,{"$f":"D68*(M48/D48)","v":0},{"$f":"+D67*(K48/D48)","v":0},null,{"$f":"D67*(M48/D48)","v":0},{"$f":"K67","v":0},null,{"$f":"M67","v":0},null,null,null,null,null,null,{"$f":"+'%Analysis'!A70","v":"PlVit"}]
[4,"Remaining",{"$f":"C67-C68","v":0},{"$f":"D67-D68","v":0},0,0,0,0,0,0,0,0,0,null,null,null,null,null,null,null,null,null,null,null,null,{"$f":"+'%Analysis'!A71","v":"Redart"}]
[5,"Used",null,null,{"$f":"IF(AND(P70<=S70,N70<=Q70),E69,MIN(S70/P70,Q70/N70)*E69)","v":0},null,null,null,null,null,{"$f":"E70*(K49/E49)","v":0},null,{"$f":"E70*(M49/E49)","v":0},{"$f":"E69*(K49/E49)","v":0},null,{"$f":"E69*(M49/E49)","v":0},{"$f":"K69","v":0},null,{"$f":"M69","v":0},null,null,null,null,null,null,{"$f":"+'%Analysis'!A72","v":"Rutile"}]
[5,"Remaining",{"$f":"C69-C70","v":0},{"$f":"D69-D70","v":0},0,0,0,0,0,0,0,0,0,null,null,null,null,null,null,null,null,"Used",null,null,null,{"$f":"+'%Analysis'!A73","v":"Silica"}]
[6,"Used",null,null,null,{"$f":"IF((N72<=K71),F71,(F50/K50)*K71)","v":0},null,null,null,null,{"$f":"F72*(K50/F50)","v":0},null,null,{"$f":"F71*(K50/F50)","v":0},null,null,null,null,null,null,null,null,null,null,null,{"$f":"+'%Analysis'!A74","v":"SiO2"}]
[6,"Remaining",{"$f":"C71-C72","v":0},0,0,0,0,0,0,0,0,0,0,null,null,null,null,null,null,null,null,null,null,null,null,{"$f":"+'%Analysis'!A75","v":"Spodumene"}]
[7,"Used",null,null,{"$f":"IF(AND(O74<=R74,P74<=S74),E71,(MIN(R74/O74,S74/P74)*E71))","v":0},null,null,null,null,null,null,{"$f":"E74*(L51/E51)","v":0},{"$f":"E74*(M51/E51)","v":0},null,{"$f":"E71*(L51/E51)","v":0},{"$f":"E71*(M51/E51)","v":0},null,{"$f":"L71","v":0},{"$f":"M71","v":0},"eutectic","available","if not limited by",null,null,null,{"$f":"+'%Analysis'!A76","v":"SrCarb"}]
[7,"Remaining",{"$f":"C73-C74","v":0},0,0,0,0,0,0,0,0,0,0,null,null,null,null,{"$f":"L75","v":0},{"$f":"M75","v":0},"ratio","ratio","Al2O3 or SiO2",null,null,null,{"$f":"+'%Analysis'!A77","v":"SrO"}]
[8,"Used",null,null,null,{"$f":"IF(U76=0,0,IF(AND(O76<=R76,P76<=S76),V76,(MIN(R76/O76,S76/P76)*V76)))","v":0},null,null,null,{"$f":"IF(U76=0,0,IF(AND(O76<R76,P76<S76),W76,(MIN(R76/O76,S76/P76)*W76)))","v":0},null,{"$f":"J76*(L52/J52)","v":0},{"$f":"J76*(M52/J52)","v":0},null,{"$f":"V76*(L52/F52)","v":0},{"$f":"V76*(M52/F52)","v":0},null,{"$f":"R75","v":0},{"$f":"S75","v":0},{"$f":"F52/J52","v":0.82222222222222219},{"$f":"IF(OR(J61=0,F61=0),0,F75/J75)","v":0},{"$f":"IF(U76<T76,F75,(J75*T76))","v":0},{"$f":"IF(U76>T76,J75,F75/T76)","v":0},null,null,{"$f":"+'%Analysis'!A78","v":"Superpax"}]
[8,"Remaining",0,0,0,0,0,0,0,{"$f":"J75-J76","v":0},{"$f":"K75-K76","v":0},{"$f":"L75-L76","v":0},{"$f":"M75-M76","v":0},null,null,null,null,{"$f":"L77","v":0},{"$f":"M77","v":0},null,null,null,null,null,null,{"$f":"+'%Analysis'!A79","v":"Talc - NYTAL"}]
[9,"Used",null,null,null,null,null,{"$f":"IF(AND(O78<=R78,P78<=S78),H77,MIN(R78/O78,S78/P78)*H77)","v":0},null,null,null,{"$f":"H78*(L53/H53)","v":0},{"$f":"H78*(M53/H53)","v":0},null,{"$f":"H77*(L53/H53)","v":0},{"$f":"H77*(M53/H53)","v":0},null,{"$f":"R77","v":0},{"$f":"S77","v":0},null,null,null,null,null,null,{"$f":"+'%Analysis'!A80","v":"Talc - Texas"}]
[9,"Remaining",{"$f":"C77-C78","v":0},0,0,0,0,0,0,{"$f":"J77-J78","v":0},{"$f":"K77-K78","v":0},{"$f":"L77-L78","v":0},{"$f":"M77-M78","v":0},null,null,null,null,null,null,null,null,null,null,null,null,{"$f":"+'%Analysis'!A81","v":"TinOxide"}]
[10,"Used",null,null,null,{"$f":"IF(AND(P80<=S80,O80<=R80),F79,MIN(S80/P80,R80/O80)*F79)","v":0},null,null,null,null,null,{"$f":"F80*(L54/F54)","v":0},{"$f":"F80*(M54/F54)","v":0},null,{"$f":"F79*(L54/F54)","v":0},{"$f":"F79*(M54/F54)","v":0},null,{"$f":"L79","v":0},{"$f":"M79","v":0},null,null,null,null,null,null,{"$f":"+'%Analysis'!A82","v":"TiO2"}]
[10,"Remaining",{"$f":"C79-C80","v":0},{"$f":"D79-D80","v":0},0,0,0,0,0,0,0,0,0,null,null,null,null,{"$f":"L81","v":0},{"$f":"M81","v":0},null,null,null,null,null,null,{"$f":"+'%Analysis'!A83","v":"Ultrox"}]
[11,"Used",null,null,null,null,null,null,{"$f":"IF(J2=TRUE,IF(AND(O82<=R82,P82<=S82),I81,MIN(R82/O82,S82/P82)*I81),0)","v":0},null,null,{"$f":"I82*(L55/I55)","v":0},{"$f":"I82*(M55/I55)","v":0},null,{"$f":"I81*(L55/I55)","v":0},{"$f":"I81*(M55/I55)","v":0},null,{"$f":"R81","v":0},{"$f":"S81","v":0},null,null,null,null,null,null,{"$f":"+'%Analysis'!A84","v":"Veegum"}]
[11,"Remaining",{"$f":"C81-C82","v":0},{"$f":"D81-D82","v":0},0,0,0,0,0,0,0,0,0,null,null,null,null,{"$f":"L83","v":0},{"$f":"M83","v":0},null,null,null,null,null,null,{"$f":"+'%Analysis'!A85","v":"VolAsh"}]
[12,"Used",null,null,null,null,{"$f":"IF(M2=TRUE,IF(AND(O84<=R84,P84<=S84),G83,MIN(R84/O84,S84/P84)*G83),0)","v":0},null,null,null,null,{"$f":"G84*(L56/G56)","v":0},{"$f":"G84*(M56/G56)","v":0},null,{"$f":"G83*(L56/G56)","v":0},{"$f":"G83*(M56/G56)","v":0},null,{"$f":"R83","v":0},{"$f":"S83","v":0},null,null,null,null,null,null,{"$f":"+'%Analysis'!A86","v":"Westex Talc"}]
[12,"Remaining",{"$f":"C83-C84","v":0},{"$f":"D83-D84","v":0},0,0,0,0,0,0,0,0,0,null,null,null,null,null,null,null,null,null,null,null,null,{"$f":"+'%Analysis'!A87","v":"Whiting"}]
[null,"Used in Eutectics",{"$f":"C61-C85","v":0},0,0,0,0,0,0,{"$f":"J61-J85","v":0},0,{"$f":"L61-L85","v":0},{"$f":"M61-M85","v":0},null,null,null,null,null,null,null,null,null,null,null,null,{"$f":"+'%Analysis'!A88","v":"Wollastonite"}]
[null,"MW",94.195999999999998,61.978999999999999,29.881,56.076999999999998,40.304000000000002,153.32599999999999,103.619,81.379000000000005,69.62,101.961,60.084000000000003,null,null,null,null,null,null,null,null,null,null,null,null,{"$f":"+'%Analysis'!A89","v":"Yellow Ochre"}]
[null,{"$f":"SUM(C88:J88)","v":0},{"$f":"C86/C87","v":0},{"$f":"D86/D87","v":0},{"$f":"E86/E87","v":0},{"$f":"F86/F87","v":0},{"$f":"IF(M2=TRUE,G86/G87,0)","v":0},{"$f":"H86/H87","v":0},{"$f":"IF(J2=TRUE,I86/I87,0)","v":0},{"$f":"J86/J87","v":0},{"$f":"K86/K87","v":0},{"$f":"L86/L87","v":0},{"$f":"M86/M87","v":0},null,null,null,null,null,null,null,null,{"$f":"V76/W76","v":{"$error":"#DIV/0!"}},null,null,null,{"$f":"+'%Analysis'!A90","v":"Zircopax"}]
[null,"Used in Eutectics",{"$f":"C88/$B$88","v":{"$error":"#DIV/0!"}},{"$error":"#DIV/0!"},{"$error":"#DIV/0!"},{"$error":"#DIV/0!"},{"$error":"#DIV/0!"},{"$error":"#DIV/0!"},{"$error":"#DIV/0!"},{"$error":"#DIV/0!"},{"$f":"K88/$B$88","v":{"$error":"#DIV/0!"}},{"$f":"L88/$B$88","v":{"$error":"#DIV/0!"}},{"$f":"M88/$B$88","v":{"$error":"#DIV/0!"}},null,null,null,null,null,null,null,null,null,null,null,null,{"$f":"+'%Analysis'!A91","v":"ZnO"}]
[null,"Excess",{"$f":"(C85/C87)/$B$88","v":{"$error":"#DIV/0!"}},{"$error":"#DIV/0!"},{"$error":"#DIV/0!"},{"$error":"#DIV/0!"},{"$error":"#DIV/0!"},{"$error":"#DIV/0!"},{"$error":"#DIV/0!"},{"$f":"(J85/J87)/$B$88","v":{"$error":"#DIV/0!"}},{"$f":"(K85/K87)/$B$88","v":{"$error":"#DIV/0!"}},{"$f":"(L85/L87)/$B$88","v":{"$error":"#DIV/0!"}},{"$f":"(M85/M87)/$B$88","v":{"$error":"#DIV/0!"}},null,null,null,null,null,null,null,null,null,null,null,null,{"$f":"+'%Analysis'!A92","v":0}]
[null,"UMF",{"$f":"C61/C87","v":0},0,0,0,0,0,0,{"$f":"J61/J87","v":0},{"$f":"K61/K87","v":0},{"$f":"L61/L87","v":0},{"$f":"M61/M87","v":0},null,null,null,null,null,null,null,null,null,null,null,null,{"$f":"+'%Analysis'!A93","v":0}]
[null,{"$f":"SUM(C91:J91)","v":0},{"$f":"C91/$B$92","v":{"$error":"#DIV/0!"}},{"$error":"#DIV/0!"},{"$error":"#DIV/0!"},{"$error":"#DIV/0!"},{"$error":"#DIV/0!"},{"$error":"#DIV/0!"},{"$error":"#DIV/0!"},{"$error":"#DIV/0!"},{"$f":"K91/$B$92","v":{"$error":"#DIV/0!"}},{"$f":"L91/$B$92","v":{"$error":"#DIV/0!"}},{"$f":"M91/$B$92","v":{"$error":"#DIV/0!"}},null,null,null,null,null,null,null,null,null,null,null,null,{"$f":"+'%Analysis'!A94","v":0}]
[null,null,null,null,null,null,null,null,null,null,null,null,null,null,null,null,null,null,null,null,null,null,null,null,null,{"$f":"+'%Analysis'!A95","v":0}]
[null,null,"K2O","Na2O","Li2O","CaO","MgO","BaO","SrO","ZnO","Al2O3","SiO2","Fe2O3",null,"B2O3","TiO2",null,null,null,null,null,null,null,null,null,{"$f":"+'%Analysis'!A96","v":0}]
[null,"Weight %",{"$f":"+C86/(SUM($C$86:$M$86))","v":{"$error":"#DIV/0!"}},{"$error":"#DIV/0!"},{"$error":"#DIV/0!"},{"$error":"#DIV/0!"},{"$error":"#DIV/0!"},{"$error":"#DIV/0!"},{"$error":"#DIV/0!"},{"$error":"#DIV/0!"},{"$f":"+L86/(SUM($C$86:$M$86))","v":{"$error":"#DIV/0!"}},{"$f":"+M86/(SUM($C$86:$M$86))","v":{"$error":"#DIV/0!"}},{"$f":"+O86/(SUM($C$86:$M$86))","v":{"$error":"#DIV/0!"}},null,{"$f":"+P86/(SUM($C$86:$M$86))","v":{"$error":"#DIV/0!"}},{"$f":"+R86/(SUM($C$86:$M$86))","v":{"$error":"#DIV/0!"}},null,null,null,null,null,null,null,null,null,{"$f":"+'%Analysis'!A97","v":0}]
[null,null,null,null,null,null,null,null,null,null,null,null,null,null,null,null,null,null,null,null,null,null,null,null,null,{"$f":"+'%Analysis'!A98","v":0}]
[null,null,null,null,null,null,null,null,null,null,null,null,null,null,null,null,null,null,null,null,null,null,null,null,null,{"$f":"+'%Analysis'!A99","v":0}]
[null,"Mineral","Percent",null,null,"Tot %",null,"K2O","Na2O","Li2O","CaO","SrO","MgO",null,"ZnO","BaO","Al2O3","Fe2O3","B2O3","SiO2","TiO2","CO2","H2O",null,null,{"$f":"+'%Analysis'!A100","v":0}]
[null,null,"Weight Totals",null,null,0.92672503195620193,null,408.9,170.5,0,1904.387201518633,0,1.4000000000000001,null,0,0,1124.7,16.299999999999997,280,5482.7,0,1319.1127984813668,280,null,null,{"$f":"+'%Analysis'!A101","v":0}]
[null,null,null,null,null,null,null,null,null,null,null,null,null,null,null,null,null,null,null,null,null,null,null,null,null,{"$f":"+'%Analysis'!A102","v":0}]
[null,null,null,null,null,null,null,null,null,null,null,null,null,null,null,null,null,null,null,null,null,null,null,null,null,{"$f":"+'%Analysis'!A103","v":0}]
[null,null,null,null,null,null,null,null,null,null,null,null,null,null,null,null,null,null,null,null,null,null,null,null,null,{"$f":"+'%Analysis'!A104","v":0}]
[null,null,null,null,null,null,null,null,null,null,null,null,null,null,null,null,null,null,null,null,null,null,null,null,null,{"$f":"+'%Analysis'!A105","v":0}]
[null,null,null,null,null,null,null,null,null,null,null,null,null,null,null,null,null,null,null,null,null,null,null,null,null,{"$f":"+'%Analysis'!A106","v":0}]
[null,null,null,null,null,null,null,null,null,null,null,null,null,null,null,null,null,null,null,null,null,null,null,null,null,{"$f":"+'%Analysis'!A107","v":0}]
[null,null,null,null,null,null,null,null,null,null,null,null,null,null,null,null,null,null,null,null,null,null,null,null,null,{"$f":"+'%Analysis'!A108","v":0}]
[null,null,null,null,null,null,null,null,null,null,null,null,null,null,null,null,null,null,null,null,null,null,null,null,null,{"$f":"+'%Analysis'!A109","v":0}]
[null,null,null,null,null,null,null,null,null,null,null,null,null,null,null,null,null,null,null,null,null,null,null,null,null,{"$f":"+'%Analysis'!A110","v":0}]
[null,null,null,null,null,null,null,null,null,null,null,null,null,null,null,null,null,null,null,null,null,null,null,null,null,{"$f":"+'%Analysis'!A111","v":0}]
[null,null,null,null,null,null,null,null,null,null,null,null,null,null,null,null,null,null,null,null,null,null,null,null,null,{"$f":"+'%Analysis'!A112","v":0}]
[null,null,null,null,null,null,null,null,null,null,null,null,null,null,null,null,null,null,null,null,null,null,null,null,null,{"$f":"+'%Analysis'!A113","v":0}]
[null,null,null,null,null,null,null,null,null,null,null,null,null,null,null,null,null,null,null,null,null,null,null,null,null,{"$f":"+'%Analysis'!A114","v":0}]
[null,null,null,null,null,null,null,null,null,null,null,null,null,null,null,null,null,null,null,null,null,null,null,null,null,{"$f":"+'%Analysis'!A115","v":0}]
[null,null,null,null,null,null,null,null,null,null,null,null,null,null,null,null,null,null,null,null,null,null,null,null,null,{"$f":"+'%Analysis'!A116","v":0}]
[null,null,null,null,null,null,null,null,null,null,null,null,null,null,null,null,null,null,null,null,null,null,null,null,null,{"$f":"+'%Analysis'!A117","v":0}]
[null,null,null,null,null,null,null,null,null,null,null,null,null,null,null,null,null,null,null,null,null,null,null,null,null,{"$f":"+'%Analysis'!A118","v":0}]
[null,null,null,null,null,null,null,null,null,null,null,null,null,null,null,null,null,null,null,null,null,null,null,null,null,{"$f":"+'%Analysis'!A119","v":0}]
[null,null,null,null,null,null,null,null,null,null,null,null,null,null,null,null,null,null,null,null,null,null,null,null,null,{"$f":"+'%Analysis'!A120","v":0}]
[null,null,null,null,null,null,null,null,null,null,null,null,null,null,null,null,null,null,null,null,null,null,null,null,null,{"$f":"+'%Analysis'!A121","v":0}]
[null,null,null,null,null,null,null,null,null,null,null,null,null,null,null,null,null,null,null,null,null,null,null,null,null,{"$f":"+'%Analysis'!A122","v":0}]
[null,null,null,null,null,null,null,null,null,null,null,null,null,null,null,null,null,null,null,null,null,null,null,null,null,{"$f":"+'%Analysis'!A123","v":0}]
[null,null,null,null,null,null,null,null,null,null,null,null,null,null,null,null,null,null,null,null,null,null,null,null,null,{"$f":"+'%Analysis'!A124","v":0}]
[null,null,null,null,null,null,null,null,null,null,null,null,null,null,null,null,null,null,null,null,null,null,null,null,null,{"$f":"+'%Analysis'!A125","v":0}]
[null,null,null,null,null,null,null,null,null,null,null,null,null,null,null,null,null,null,null,null,null,null,null,null,null,{"$f":"+'%Analysis'!A126","v":0}]
[null,null,null,null,null,null,null,null,null,null,null,null,null,null,null,null,null,null,null,null,null,null,null,null,null,{"$f":"+'%Analysis'!A127","v":0}]
[null,null,null,null,null,null,null,null,null,null,null,null,null,null,null,null,null,null,null,null,null,null,null,null,null,{"$f":"+'%Analysis'!A128","v":0}]
[null,null,null,null,null,null,null,null,null,null,null,null,null,null,null,null,null,null,null,null,null,null,null,null,null,{"$f":"+'%Analysis'!A129","v":0}]
[null,null,null,null,null,null,null,null,null,null,null,null,null,null,null,null,null,null,null,null,null,null,null,null,null,{"$f":"+'%Analysis'!A130","v":0}]
[null,null,null,null,null,null,null,null,null,null,null,null,null,null,null,null,null,null,null,null,null,null,null,null,null,{"$f":"+'%Analysis'!A131","v":0}]
[null,null,null,null,null,null,null,null,null,null,null,null,null,null,null,null,null,null,null,null,null,null,null,null,null,{"$f":"+'%Analysis'!A132","v":0}]
[null,null,null,null,null,null,null,null,null,null,null,null,null,null,null,null,null,null,null,null,null,null,null,null,null,{"$f":"+'%Analysis'!A133","v":0}]
[null,null,null,null,null,null,null,null,null,null,null,null,null,null,null,null,null,null,null,null,null,null,null,null,null,{"$f":"+'%Analysis'!A134","v":0}]
[null,null,null,null,null,null,null,null,null,null,null,null,null,null,null,null,null,null,null,null,null,null,null,null,null,{"$f":"+'%Analysis'!A135","v":0}]
[null,null,null,null,null,null,null,null,null,null,null,null,null,null,null,null,null,null,null,null,null,null,null,null,null,{"$f":"+'%Analysis'!A136","v":0}]
[null,"Mineral","Percent",null,null,"Tot %",null,"K2O","Na2O","Li2O","CaO","SrO","MgO","ZnO","BaO","Al2O3","Fe2O3","B2O3","SiO2","TiO2","CO2","H2O",null,null,null,{"$f":"+'%Analysis'!A137","v":0}]
[null,{"$f":"B7","v":0},0,null,null,null,null,{"$f":"IF(ISERROR(+$C136*+VLOOKUP($B136,'%Analysis'!$A$4:$S$204,4,0)),\"\",+$C136*+VLOOKUP($B136,'%Analysis'!$A$4:$S$204,4,0))","v":""},{"$f":"IF(ISERROR(+$C136*+VLOOKUP($B136,'%Analysis'!$A$4:$S$204,5,0)),\"\",+$C136*+VLOOKUP($B136,'%Analysis'!$A$4:$S$204,5,0))","v":""},{"$f":"IF(ISERROR(+$C136*+VLOOKUP($B136,'%Analysis'!$A$4:$S$204,6,0)),\"\",+$C136*+VLOOKUP($B136,'%Analysis'!$A$4:$S$204,6,0))","v":""},{"$f":"IF(ISERROR(+$C136*+VLOOKUP($B136,'%Analysis'!$A$4:$S$204,7,0)),\"\",+$C136*+VLOOKUP($B136,'%Analysis'!$A$4:$S$204,7,0))","v":""},{"$f":"IF(ISERROR(+$C136*+VLOOKUP($B136,'%Analysis'!$A$4:$S$204,8,0)),\"\",+$C136*+VLOOKUP($B136,'%Analysis'!$A$4:$S$204,8,0))","v":""},{"$f":"IF(ISERROR(+$C136*+VLOOKUP($B136,'%Analysis'!$A$4:$S$204,9,0)),\"\",+$C136*+VLOOKUP($B136,'%Analysis'!$A$4:$S$204,9,0))","v":""},{"$f":"IF(ISERROR(+$C136*+VLOOKUP($B136,'%Analysis'!$A$4:$S$204,10,0)),\"\",+$C136*+VLOOKUP($B136,'%Analysis'!$A$4:$S$204,10,0))","v":""},{"$f":"IF(ISERROR(+$C136*+VLOOKUP($B136,'%Analysis'!$A$4:$S$204,11,0)),\"\",+$C136*+VLOOKUP($B136,'%Analysis'!$A$4:$S$204,11,0))","v":""},{"$f":"IF(ISERROR(+$C136*+VLOOKUP($B136,'%Analysis'!$A$4:$S$204,12,0)),\"\",+$C136*+VLOOKUP($B136,'%Analysis'!$A$4:$S$204,12,0))","v":""},{"$f":"IF(ISERROR(+$C136*+VLOOKUP($B136,'%Analysis'!$A$4:$S$204,13,0)),\"\",+$C136*+VLOOKUP($B136,'%Analysis'!$A$4:$S$204,13,0))","v":""},{"$f":"IF(ISERROR(+$C136*+VLOOKUP($B136,'%Analysis'!$A$4:$S$204,14,0)),\"\",+$C136*+VLOOKUP($B136,'%Analysis'!$A$4:$S$204,14,0))","v":""},{"$f":"IF(ISERROR(+$C136*+VLOOKUP($B136,'%Analysis'!$A$4:$S$204,15,0)),\"\",+$C136*+VLOOKUP($B136,'%Analysis'!$A$4:$S$204,15,0))","v":""},{"$f":"IF(ISERROR(+$C136*+VLOOKUP($B136,'%Analysis'!$A$4:$S$204,16,0)),\"\",+$C136*+VLOOKUP($B136,'%Analysis'!$A$4:$S$204,16,0))","v":""},{"$f":"IF(ISERROR(+$C136*+VLOOKUP($B136,'%Analysis'!$A$4:$S$204,17,0)),\"\",+$C136*+VLOOKUP($B136,'%Analysis'!$A$4:$S$204,17,0))","v":""},{"$f":"IF(ISERROR(+$C136*+VLOOKUP($B136,'%Analysis'!$A$4:$S$204,18,0)),\"\",+$C136*+VLOOKUP($B136,'%Analysis'!$A$4:$S$204,18,0))","v":""},null,null,null,{"$f":"+'%Analysis'!A138","v":0}]
[null,0,0,null,null,null,null,{"$f":"IF(ISERROR(+$C137*+VLOOKUP($B137,'%Analysis'!$A$4:$S$204,4,0)),\"\",+$C137*+VLOOKUP($B137,'%Analysis'!$A$4:$S$204,4,0))","v":""},{"$f":"IF(ISERROR(+$C137*+VLOOKUP($B137,'%Analysis'!$A$4:$S$204,5,0)),\"\",+$C137*+VLOOKUP($B137,'%Analysis'!$A$4:$S$204,5,0))","v":""},{"$f":"IF(ISERROR(+$C137*+VLOOKUP($B137,'%Analysis'!$A$4:$S$204,6,0)),\"\",+$C137*+VLOOKUP($B137,'%Analysis'!$A$4:$S$204,6,0))","v":""},{"$f":"IF(ISERROR(+$C137*+VLOOKUP($B137,'%Analysis'!$A$4:$S$204,7,0)),\"\",+$C137*+VLOOKUP($B137,'%Analysis'!$A$4:$S$204,7,0))","v":""},{"$f":"IF(ISERROR(+$C137*+VLOOKUP($B137,'%Analysis'!$A$4:$S$204,8,0)),\"\",+$C137*+VLOOKUP($B137,'%Analysis'!$A$4:$S$204,8,0))","v":""},{"$f":"IF(ISERROR(+$C137*+VLOOKUP($B137,'%Analysis'!$A$4:$S$204,9,0)),\"\",+$C137*+VLOOKUP($B137,'%Analysis'!$A$4:$S$204,9,0))","v":""},{"$f":"IF(ISERROR(+$C137*+VLOOKUP($B137,'%Analysis'!$A$4:$S$204,10,0)),\"\",+$C137*+VLOOKUP($B137,'%Analysis'!$A$4:$S$204,10,0))","v":""},{"$f":"IF(ISERROR(+$C137*+VLOOKUP($B137,'%Analysis'!$A$4:$S$204,11,0)),\"\",+$C137*+VLOOKUP($B137,'%Analysis'!$A$4:$S$204,11,0))","v":""},{"$f":"IF(ISERROR(+$C137*+VLOOKUP($B137,'%Analysis'!$A$4:$S$204,12,0)),\"\",+$C137*+VLOOKUP($B137,'%Analysis'!$A$4:$S$204,12,0))","v":""},{"$f":"IF(ISERROR(+$C137*+VLOOKUP($B137,'%Analysis'!$A$4:$S$204,13,0)),\"\",+$C137*+VLOOKUP($B137,'%Analysis'!$A$4:$S$204,13,0))","v":""},{"$f":"IF(ISERROR(+$C137*+VLOOKUP($B137,'%Analysis'!$A$4:$S$204,14,0)),\"\",+$C137*+VLOOKUP($B137,'%Analysis'!$A$4:$S$204,14,0))","v":""},{"$f":"IF(ISERROR(+$C137*+VLOOKUP($B137,'%Analysis'!$A$4:$S$204,15,0)),\"\",+$C137*+VLOOKUP($B137,'%Analysis'!$A$4:$S$204,15,0))","v":""},{"$f":"IF(ISERROR(+$C137*+VLOOKUP($B137,'%Analysis'!$A$4:$S$204,16,0)),\"\",+$C137*+VLOOKUP($B137,'%Analysis'!$A$4:$S$204,16,0))","v":""},{"$f":"IF(ISERROR(+$C137*+VLOOKUP($B137,'%Analysis'!$A$4:$S$204,17,0)),\"\",+$C137*+VLOOKUP($B137,'%Analysis'!$A$4:$S$204,17,0))","v":""},{"$f":"IF(ISERROR(+$C137*+VLOOKUP($B137,'%Analysis'!$A$4:$S$204,18,0)),\"\",+$C137*+VLOOKUP($B137,'%Analysis'!$A$4:$S$204,18,0))","v":""},null,null,null,{"$f":"+'%Analysis'!A139","v":0}]
[null,0,0,null,null,null,null,{"$f":"IF(ISERROR(+$C138*+VLOOKUP($B138,'%Analysis'!$A$4:$S$204,4,0)),\"\",+$C138*+VLOOKUP($B138,'%Analysis'!$A$4:$S$204,4,0))","v":""},{"$f":"IF(ISERROR(+$C138*+VLOOKUP($B138,'%Analysis'!$A$4:$S$204,5,0)),\"\",+$C138*+VLOOKUP($B138,'%Analysis'!$A$4:$S$204,5,0))","v":""},{"$f":"IF(ISERROR(+$C138*+VLOOKUP($B138,'%Analysis'!$A$4:$S$204,6,0)),\"\",+$C138*+VLOOKUP($B138,'%Analysis'!$A$4:$S$204,6,0))","v":""},{"$f":"IF(ISERROR(+$C138*+VLOOKUP($B138,'%Analysis'!$A$4:$S$204,7,0)),\"\",+$C138*+VLOOKUP($B138,'%Analysis'!$A$4:$S$204,7,0))","v":""},{"$f":"IF(ISERROR(+$C138*+VLOOKUP($B138,'%Analysis'!$A$4:$S$204,8,0)),\"\",+$C138*+VLOOKUP($B138,'%Analysis'!$A$4:$S$204,8,0))","v":""},{"$f":"IF(ISERROR(+$C138*+VLOOKUP($B138,'%Analysis'!$A$4:$S$204,9,0)),\"\",+$C138*+VLOOKUP($B138,'%Analysis'!$A$4:$S$204,9,0))","v":""},{"$f":"IF(ISERROR(+$C138*+VLOOKUP($B138,'%Analysis'!$A$4:$S$204,10,0)),\"\",+$C138*+VLOOKUP($B138,'%Analysis'!$A$4:$S$204,10,0))","v":""},{"$f":"IF(ISERROR(+$C138*+VLOOKUP($B138,'%Analysis'!$A$4:$S$204,11,0)),\"\",+$C138*+VLOOKUP($B138,'%Analysis'!$A$4:$S$204,11,0))","v":""},{"$f":"IF(ISERROR(+$C138*+VLOOKUP($B138,'%Analysis'!$A$4:$S$204,12,0)),\"\",+$C138*+VLOOKUP($B138,'%Analysis'!$A$4:$S$204,12,0))","v":""},{"$f":"IF(ISERROR(+$C138*+VLOOKUP($B138,'%Analysis'!$A$4:$S$204,13,0)),\"\",+$C138*+VLOOKUP($B138,'%Analysis'!$A$4:$S$204,13,0))","v":""},{"$f":"IF(ISERROR(+$C138*+VLOOKUP($B138,'%Analysis'!$A$4:$S$204,14,0)),\"\",+$C138*+VLOOKUP($B138,'%Analysis'!$A$4:$S$204,14,0))","v":""},{"$f":"IF(ISERROR(+$C138*+VLOOKUP($B138,'%Analysis'!$A$4:$S$204,15,0)),\"\",+$C138*+VLOOKUP($B138,'%Analysis'!$A$4:$S$204,15,0))","v":""},{"$f":"IF(ISERROR(+$C138*+VLOOKUP($B138,'%Analysis'!$A$4:$S$204,16,0)),\"\",+$C138*+VLOOKUP($B138,'%Analysis'!$A$4:$S$204,16,0))","v":""},{"$f":"IF(ISERROR(+$C138*+VLOOKUP($B138,'%Analysis'!$A$4:$S$204,17,0)),\"\",+$C138*+VLOOKUP($B138,'%Analysis'!$A$4:$S$204,17,0))","v":""},{"$f":"IF(ISERROR(+$C138*+VLOOKUP($B138,'%Analysis'!$A$4:$S$204,18,0)),\"\",+$C138*+VLOOKUP($B138,'%Analysis'!$A$4:$S$204,18,0))","v":""},null,null,null,{"$f":"+'%Analysis'!A140","v":0}]
[null,0,0,null,null,null,null,{"$f":"IF(ISERROR(+$C139*+VLOOKUP($B139,'%Analysis'!$A$4:$S$204,4,0)),\"\",+$C139*+VLOOKUP($B139,'%Analysis'!$A$4:$S$204,4,0))","v":""},{"$f":"IF(ISERROR(+$C139*+VLOOKUP($B139,'%Analysis'!$A$4:$S$204,5,0)),\"\",+$C139*+VLOOKUP($B139,'%Analysis'!$A$4:$S$204,5,0))","v":""},{"$f":"IF(ISERROR(+$C139*+VLOOKUP($B139,'%Analysis'!$A$4:$S$204,6,0)),\"\",+$C139*+VLOOKUP($B139,'%Analysis'!$A$4:$S$204,6,0))","v":""},{"$f":"IF(ISERROR(+$C139*+VLOOKUP($B139,'%Analysis'!$A$4:$S$204,7,0)),\"\",+$C139*+VLOOKUP($B139,'%Analysis'!$A$4:$S$204,7,0))","v":""},{"$f":"IF(ISERROR(+$C139*+VLOOKUP($B139,'%Analysis'!$A$4:$S$204,8,0)),\"\",+$C139*+VLOOKUP($B139,'%Analysis'!$A$4:$S$204,8,0))","v":""},{"$f":"IF(ISERROR(+$C139*+VLOOKUP($B139,'%Analysis'!$A$4:$S$204,9,0)),\"\",+$C139*+VLOOKUP($B139,'%Analysis'!$A$4:$S$204,9,0))","v":""},{"$f":"IF(ISERROR(+$C139*+VLOOKUP($B139,'%Analysis'!$A$4:$S$204,10,0)),\"\",+$C139*+VLOOKUP($B139,'%Analysis'!$A$4:$S$204,10,0))","v":""},{"$f":"IF(ISERROR(+$C139*+VLOOKUP($B139,'%Analysis'!$A$4:$S$204,11,0)),\"\",+$C139*+VLOOKUP($B139,'%Analysis'!$A$4:$S$204,11,0))","v":""},{"$f":"IF(ISERROR(+$C139*+VLOOKUP($B139,'%Analysis'!$A$4:$S$204,12,0)),\"\",+$C139*+VLOOKUP($B139,'%Analysis'!$A$4:$S$204,12,0))","v":""},{"$f":"IF(ISERROR(+$C139*+VLOOKUP($B139,'%Analysis'!$A$4:$S$204,13,0)),\"\",+$C139*+VLOOKUP($B139,'%Analysis'!$A$4:$S$204,13,0))","v":""},{"$f":"IF(ISERROR(+$C139*+VLOOKUP($B139,'%Analysis'!$A$4:$S$204,14,0)),\"\",+$C139*+VLOOKUP($B139,'%Analysis'!$A$4:$S$204,14,0))","v":""},{"$f":"IF(ISERROR(+$C139*+VLOOKUP($B139,'%Analysis'!$A$4:$S$204,15,0)),\"\",+$C139*+VLOOKUP($B139,'%Analysis'!$A$4:$S$204,15,0))","v":""},{"$f":"IF(ISERROR(+$C139*+VLOOKUP($B139,'%Analysis'!$A$4:$S$204,16,0)),\"\",+$C139*+VLOOKUP($B139,'%Analysis'!$A$4:$S$204,16,0))","v":""},{"$f":"IF(ISERROR(+$C139*+VLOOKUP($B139,'%Analysis'!$A$4:$S$204,17,0)),\"\",+$C139*+VLOOKUP($B139,'%Analysis'!$A$4:$S$204,17,0))","v":""},{"$f":"IF(ISERROR(+$C139*+VLOOKUP($B139,'%Analysis'!$A$4:$S$204,18,0)),\"\",+$C139*+VLOOKUP($B139,'%Analysis'!$A$4:$S$204,18,0))","v":""},null,null,null,{"$f":"+'%Analysis'!A141","v":0}]
[null,0,0,null,null,null,null,{"$f":"IF(ISERROR(+$C140*+VLOOKUP($B140,'%Analysis'!$A$4:$S$204,4,0)),\"\",+$C140*+VLOOKUP($B140,'%Analysis'!$A$4:$S$204,4,0))","v":""},{"$f":"IF(ISERROR(+$C140*+VLOOKUP($B140,'%Analysis'!$A$4:$S$204,5,0)),\"\",+$C140*+VLOOKUP($B140,'%Analysis'!$A$4:$S$204,5,0))","v":""},{"$f":"IF(ISERROR(+$C140*+VLOOKUP($B140,'%Analysis'!$A$4:$S$204,6,0)),\"\",+$C140*+VLOOKUP($B140,'%Analysis'!$A$4:$S$204,6,0))","v":""},{"$f":"IF(ISERROR(+$C140*+VLOOKUP($B140,'%Analysis'!$A$4:$S$204,7,0)),\"\",+$C140*+VLOOKUP($B140,'%Analysis'!$A$4:$S$204,7,0))","v":""},{"$f":"IF(ISERROR(+$C140*+VLOOKUP($B140,'%Analysis'!$A$4:$S$204,8,0)),\"\",+$C140*+VLOOKUP($B140,'%Analysis'!$A$4:$S$204,8,0))","v":""},{"$f":"IF(ISERROR(+$C140*+VLOOKUP($B140,'%Analysis'!$A$4:$S$204,9,0)),\"\",+$C140*+VLOOKUP($B140,'%Analysis'!$A$4:$S$204,9,0))","v":""},{"$f":"IF(ISERROR(+$C140*+VLOOKUP($B140,'%Analysis'!$A$4:$S$204,10,0)),\"\",+$C140*+VLOOKUP($B140,'%Analysis'!$A$4:$S$204,10,0))","v":""},{"$f":"IF(ISERROR(+$C140*+VLOOKUP($B140,'%Analysis'!$A$4:$S$204,11,0)),\"\",+$C140*+VLOOKUP($B140,'%Analysis'!$A$4:$S$204,11,0))","v":""},{"$f":"IF(ISERROR(+$C140*+VLOOKUP($B140,'%Analysis'!$A$4:$S$204,12,0)),\"\",+$C140*+VLOOKUP($B140,'%Analysis'!$A$4:$S$204,12,0))","v":""},{"$f":"IF(ISERROR(+$C140*+VLOOKUP($B140,'%Analysis'!$A$4:$S$204,13,0)),\"\",+$C140*+VLOOKUP($B140,'%Analysis'!$A$4:$S$204,13,0))","v":""},{"$f":"IF(ISERROR(+$C140*+VLOOKUP($B140,'%Analysis'!$A$4:$S$204,14,0)),\"\",+$C140*+VLOOKUP($B140,'%Analysis'!$A$4:$S$204,14,0))","v":""},{"$f":"IF(ISERROR(+$C140*+VLOOKUP($B140,'%Analysis'!$A$4:$S$204,15,0)),\"\",+$C140*+VLOOKUP($B140,'%Analysis'!$A$4:$S$204,15,0))","v":""},{"$f":"IF(ISERROR(+$C140*+VLOOKUP($B140,'%Analysis'!$A$4:$S$204,16,0)),\"\",+$C140*+VLOOKUP($B140,'%Analysis'!$A$4:$S$204,16,0))","v":""},{"$f":"IF(ISERROR(+$C140*+VLOOKUP($B140,'%Analysis'!$A$4:$S$204,17,0)),\"\",+$C140*+VLOOKUP($B140,'%Analysis'!$A$4:$S$204,17,0))","v":""},{"$f":"IF(ISERROR(+$C140*+VLOOKUP($B140,'%Analysis'!$A$4:$S$204,18,0)),\"\",+$C140*+VLOOKUP($B140,'%Analysis'!$A$4:$S$204,18,0))","v":""},null,null,null,{"$f":"+'%Analysis'!A142","v":0}]
[null,0,0,null,null,null,null,{"$f":"IF(ISERROR(+$C141*+VLOOKUP($B141,'%Analysis'!$A$4:$S$204,4,0)),\"\",+$C141*+VLOOKUP($B141,'%Analysis'!$A$4:$S$204,4,0))","v":""},{"$f":"IF(ISERROR(+$C141*+VLOOKUP($B141,'%Analysis'!$A$4:$S$204,5,0)),\"\",+$C141*+VLOOKUP($B141,'%Analysis'!$A$4:$S$204,5,0))","v":""},{"$f":"IF(ISERROR(+$C141*+VLOOKUP($B141,'%Analysis'!$A$4:$S$204,6,0)),\"\",+$C141*+VLOOKUP($B141,'%Analysis'!$A$4:$S$204,6,0))","v":""},{"$f":"IF(ISERROR(+$C141*+VLOOKUP($B141,'%Analysis'!$A$4:$S$204,7,0)),\"\",+$C141*+VLOOKUP($B141,'%Analysis'!$A$4:$S$204,7,0))","v":""},{"$f":"IF(ISERROR(+$C141*+VLOOKUP($B141,'%Analysis'!$A$4:$S$204,8,0)),\"\",+$C141*+VLOOKUP($B141,'%Analysis'!$A$4:$S$204,8,0))","v":""},{"$f":"IF(ISERROR(+$C141*+VLOOKUP($B141,'%Analysis'!$A$4:$S$204,9,0)),\"\",+$C141*+VLOOKUP($B141,'%Analysis'!$A$4:$S$204,9,0))","v":""},{"$f":"IF(ISERROR(+$C141*+VLOOKUP($B141,'%Analysis'!$A$4:$S$204,10,0)),\"\",+$C141*+VLOOKUP($B141,'%Analysis'!$A$4:$S$204,10,0))","v":""},{"$f":"IF(ISERROR(+$C141*+VLOOKUP($B141,'%Analysis'!$A$4:$S$204,11,0)),\"\",+$C141*+VLOOKUP($B141,'%Analysis'!$A$4:$S$204,11,0))","v":""},{"$f":"IF(ISERROR(+$C141*+VLOOKUP($B141,'%Analysis'!$A$4:$S$204,12,0)),\"\",+$C141*+VLOOKUP($B141,'%Analysis'!$A$4:$S$204,12,0))","v":""},{"$f":"IF(ISERROR(+$C141*+VLOOKUP($B141,'%Analysis'!$A$4:$S$204,13,0)),\"\",+$C141*+VLOOKUP($B141,'%Analysis'!$A$4:$S$204,13,0))","v":""},{"$f":"IF(ISERROR(+$C141*+VLOOKUP($B141,'%Analysis'!$A$4:$S$204,14,0)),\"\",+$C141*+VLOOKUP($B141,'%Analysis'!$A$4:$S$204,14,0))","v":""},{"$f":"IF(ISERROR(+$C141*+VLOOKUP($B141,'%Analysis'!$A$4:$S$204,15,0)),\"\",+$C141*+VLOOKUP($B141,'%Analysis'!$A$4:$S$204,15,0))","v":""},{"$f":"IF(ISERROR(+$C141*+VLOOKUP($B141,'%Analysis'!$A$4:$S$204,16,0)),\"\",+$C141*+VLOOKUP($B141,'%Analysis'!$A$4:$S$204,16,0))","v":""},{"$f":"IF(ISERROR(+$C141*+VLOOKUP($B141,'%Analysis'!$A$4:$S$204,17,0)),\"\",+$C141*+VLOOKUP($B141,'%Analysis'!$A$4:$S$204,17,0))","v":""},{"$f":"IF(ISERROR(+$C141*+VLOOKUP($B141,'%Analysis'!$A$4:$S$204,18,0)),\"\",+$C141*+VLOOKUP($B141,'%Analysis'!$A$4:$S$204,18,0))","v":""},null,null,null,{"$f":"+'%Analysis'!A143","v":0}]
[null,0,0,null,null,null,null,{"$f":"IF(ISERROR(+$C142*+VLOOKUP($B142,'%Analysis'!$A$4:$S$204,4,0)),\"\",+$C142*+VLOOKUP($B142,'%Analysis'!$A$4:$S$204,4,0))","v":""},{"$f":"IF(ISERROR(+$C142*+VLOOKUP($B142,'%Analysis'!$A$4:$S$204,5,0)),\"\",+$C142*+VLOOKUP($B142,'%Analysis'!$A$4:$S$204,5,0))","v":""},{"$f":"IF(ISERROR(+$C142*+VLOOKUP($B142,'%Analysis'!$A$4:$S$204,6,0)),\"\",+$C142*+VLOOKUP($B142,'%Analysis'!$A$4:$S$204,6,0))","v":""},{"$f":"IF(ISERROR(+$C142*+VLOOKUP($B142,'%Analysis'!$A$4:$S$204,7,0)),\"\",+$C142*+VLOOKUP($B142,'%Analysis'!$A$4:$S$204,7,0))","v":""},{"$f":"IF(ISERROR(+$C142*+VLOOKUP($B142,'%Analysis'!$A$4:$S$204,8,0)),\"\",+$C142*+VLOOKUP($B142,'%Analysis'!$A$4:$S$204,8,0))","v":""},{"$f":"IF(ISERROR(+$C142*+VLOOKUP($B142,'%Analysis'!$A$4:$S$204,9,0)),\"\",+$C142*+VLOOKUP($B142,'%Analysis'!$A$4:$S$204,9,0))","v":""},{"$f":"IF(ISERROR(+$C142*+VLOOKUP($B142,'%Analysis'!$A$4:$S$204,10,0)),\"\",+$C142*+VLOOKUP($B142,'%Analysis'!$A$4:$S$204,10,0))","v":""},{"$f":"IF(ISERROR(+$C142*+VLOOKUP($B142,'%Analysis'!$A$4:$S$204,11,0)),\"\",+$C142*+VLOOKUP($B142,'%Analysis'!$A$4:$S$204,11,0))","v":""},{"$f":"IF(ISERROR(+$C142*+VLOOKUP($B142,'%Analysis'!$A$4:$S$204,12,0)),\"\",+$C142*+VLOOKUP($B142,'%Analysis'!$A$4:$S$204,12,0))","v":""},{"$f":"IF(ISERROR(+$C142*+VLOOKUP($B142,'%Analysis'!$A$4:$S$204,13,0)),\"\",+$C142*+VLOOKUP($B142,'%Analysis'!$A$4:$S$204,13,0))","v":""},{"$f":"IF(ISERROR(+$C142*+VLOOKUP($B142,'%Analysis'!$A$4:$S$204,14,0)),\"\",+$C142*+VLOOKUP($B142,'%Analysis'!$A$4:$S$204,14,0))","v":""},{"$f":"IF(ISERROR(+$C142*+VLOOKUP($B142,'%Analysis'!$A$4:$S$204,15,0)),\"\",+$C142*+VLOOKUP($B142,'%Analysis'!$A$4:$S$204,15,0))","v":""},{"$f":"IF(ISERROR(+$C142*+VLOOKUP($B142,'%Analysis'!$A$4:$S$204,16,0)),\"\",+$C142*+VLOOKUP($B142,'%Analysis'!$A$4:$S$204,16,0))","v":""},{"$f":"IF(ISERROR(+$C142*+VLOOKUP($B142,'%Analysis'!$A$4:$S$204,17,0)),\"\",+$C142*+VLOOKUP($B142,'%Analysis'!$A$4:$S$204,17,0))","v":""},{"$f":"IF(ISERROR(+$C142*+VLOOKUP($B142,'%Analysis'!$A$4:$S$204,18,0)),\"\",+$C142*+VLOOKUP($B142,'%Analysis'!$A$4:$S$204,18,0))","v":""},null,null,null,{"$f":"+'%Analysis'!A144","v":0}]
[null,0,0,null,null,null,null,{"$f":"IF(ISERROR(+$C143*+VLOOKUP($B143,'%Analysis'!$A$4:$S$204,4,0)),\"\",+$C143*+VLOOKUP($B143,'%Analysis'!$A$4:$S$204,4,0))","v":""},{"$f":"IF(ISERROR(+$C143*+VLOOKUP($B143,'%Analysis'!$A$4:$S$204,5,0)),\"\",+$C143*+VLOOKUP($B143,'%Analysis'!$A$4:$S$204,5,0))","v":""},{"$f":"IF(ISERROR(+$C143*+VLOOKUP($B143,'%Analysis'!$A$4:$S$204,6,0)),\"\",+$C143*+VLOOKUP($B143,'%Analysis'!$A$4:$S$204,6,0))","v":""},{"$f":"IF(ISERROR(+$C143*+VLOOKUP($B143,'%Analysis'!$A$4:$S$204,7,0)),\"\",+$C143*+VLOOKUP($B143,'%Analysis'!$A$4:$S$204,7,0))","v":""},{"$f":"IF(ISERROR(+$C143*+VLOOKUP($B143,'%Analysis'!$A$4:$S$204,8,0)),\"\",+$C143*+VLOOKUP($B143,'%Analysis'!$A$4:$S$204,8,0))","v":""},{"$f":"IF(ISERROR(+$C143*+VLOOKUP($B143,'%Analysis'!$A$4:$S$204,9,0)),\"\",+$C143*+VLOOKUP($B143,'%Analysis'!$A$4:$S$204,9,0))","v":""},{"$f":"IF(ISERROR(+$C143*+VLOOKUP($B143,'%Analysis'!$A$4:$S$204,10,0)),\"\",+$C143*+VLOOKUP($B143,'%Analysis'!$A$4:$S$204,10,0))","v":""},{"$f":"IF(ISERROR(+$C143*+VLOOKUP($B143,'%Analysis'!$A$4:$S$204,11,0)),\"\",+$C143*+VLOOKUP($B143,'%Analysis'!$A$4:$S$204,11,0))","v":""},{"$f":"IF(ISERROR(+$C143*+VLOOKUP($B143,'%Analysis'!$A$4:$S$204,12,0)),\"\",+$C143*+VLOOKUP($B143,'%Analysis'!$A$4:$S$204,12,0))","v":""},{"$f":"IF(ISERROR(+$C143*+VLOOKUP($B143,'%Analysis'!$A$4:$S$204,13,0)),\"\",+$C143*+VLOOKUP($B143,'%Analysis'!$A$4:$S$204,13,0))","v":""},{"$f":"IF(ISERROR(+$C143*+VLOOKUP($B143,'%Analysis'!$A$4:$S$204,14,0)),\"\",+$C143*+VLOOKUP($B143,'%Analysis'!$A$4:$S$204,14,0))","v":""},{"$f":"IF(ISERROR(+$C143*+VLOOKUP($B143,'%Analysis'!$A$4:$S$204,15,0)),\"\",+$C143*+VLOOKUP($B143,'%Analysis'!$A$4:$S$204,15,0))","v":""},{"$f":"IF(ISERROR(+$C143*+VLOOKUP($B143,'%Analysis'!$A$4:$S$204,16,0)),\"\",+$C143*+VLOOKUP($B143,'%Analysis'!$A$4:$S$204,16,0))","v":""},{"$f":"IF(ISERROR(+$C143*+VLOOKUP($B143,'%Analysis'!$A$4:$S$204,17,0)),\"\",+$C143*+VLOOKUP($B143,'%Analysis'!$A$4:$S$204,17,0))","v":""},{"$f":"IF(ISERROR(+$C143*+VLOOKUP($B143,'%Analysis'!$A$4:$S$204,18,0)),\"\",+$C143*+VLOOKUP($B143,'%Analysis'!$A$4:$S$204,18,0))","v":""},null,null,null,{"$f":"+'%Analysis'!A145","v":0}]
[null,0,0,null,null,null,null,{"$f":"IF(ISERROR(+$C144*+VLOOKUP($B144,'%Analysis'!$A$4:$S$204,4,0)),\"\",+$C144*+VLOOKUP($B144,'%Analysis'!$A$4:$S$204,4,0))","v":""},{"$f":"IF(ISERROR(+$C144*+VLOOKUP($B144,'%Analysis'!$A$4:$S$204,5,0)),\"\",+$C144*+VLOOKUP($B144,'%Analysis'!$A$4:$S$204,5,0))","v":""},{"$f":"IF(ISERROR(+$C144*+VLOOKUP($B144,'%Analysis'!$A$4:$S$204,6,0)),\"\",+$C144*+VLOOKUP($B144,'%Analysis'!$A$4:$S$204,6,0))","v":""},{"$f":"IF(ISERROR(+$C144*+VLOOKUP($B144,'%Analysis'!$A$4:$S$204,7,0)),\"\",+$C144*+VLOOKUP($B144,'%Analysis'!$A$4:$S$204,7,0))","v":""},{"$f":"IF(ISERROR(+$C144*+VLOOKUP($B144,'%Analysis'!$A$4:$S$204,8,0)),\"\",+$C144*+VLOOKUP($B144,'%Analysis'!$A$4:$S$204,8,0))","v":""},{"$f":"IF(ISERROR(+$C144*+VLOOKUP($B144,'%Analysis'!$A$4:$S$204,9,0)),\"\",+$C144*+VLOOKUP($B144,'%Analysis'!$A$4:$S$204,9,0))","v":""},{"$f":"IF(ISERROR(+$C144*+VLOOKUP($B144,'%Analysis'!$A$4:$S$204,10,0)),\"\",+$C144*+VLOOKUP($B144,'%Analysis'!$A$4:$S$204,10,0))","v":""},{"$f":"IF(ISERROR(+$C144*+VLOOKUP($B144,'%Analysis'!$A$4:$S$204,11,0)),\"\",+$C144*+VLOOKUP($B144,'%Analysis'!$A$4:$S$204,11,0))","v":""},{"$f":"IF(ISERROR(+$C144*+VLOOKUP($B144,'%Analysis'!$A$4:$S$204,12,0)),\"\",+$C144*+VLOOKUP($B144,'%Analysis'!$A$4:$S$204,12,0))","v":""},{"$f":"IF(ISERROR(+$C144*+VLOOKUP($B144,'%Analysis'!$A$4:$S$204,13,0)),\"\",+$C144*+VLOOKUP($B144,'%Analysis'!$A$4:$S$204,13,0))","v":""},{"$f":"IF(ISERROR(+$C144*+VLOOKUP($B144,'%Analysis'!$A$4:$S$204,14,0)),\"\",+$C144*+VLOOKUP($B144,'%Analysis'!$A$4:$S$204,14,0))","v":""},{"$f":"IF(ISERROR(+$C144*+VLOOKUP($B144,'%Analysis'!$A$4:$S$204,15,0)),\"\",+$C144*+VLOOKUP($B144,'%Analysis'!$A$4:$S$204,15,0))","v":""},{"$f":"IF(ISERROR(+$C144*+VLOOKUP($B144,'%Analysis'!$A$4:$S$204,16,0)),\"\",+$C144*+VLOOKUP($B144,'%Analysis'!$A$4:$S$204,16,0))","v":""},{"$f":"IF(ISERROR(+$C144*+VLOOKUP($B144,'%Analysis'!$A$4:$S$204,17,0)),\"\",+$C144*+VLOOKUP($B144,'%Analysis'!$A$4:$S$204,17,0))","v":""},{"$f":"IF(ISERROR(+$C144*+VLOOKUP($B144,'%Analysis'!$A$4:$S$204,18,0)),\"\",+$C144*+VLOOKUP($B144,'%Analysis'!$A$4:$S$204,18,0))","v":""},null,null,null,{"$f":"+'%Analysis'!A146","v":0}]
[null,0,0,null,null,null,null,{"$f":"IF(ISERROR(+$C145*+VLOOKUP($B145,'%Analysis'!$A$4:$S$204,4,0)),\"\",+$C145*+VLOOKUP($B145,'%Analysis'!$A$4:$S$204,4,0))","v":""},{"$f":"IF(ISERROR(+$C145*+VLOOKUP($B145,'%Analysis'!$A$4:$S$204,5,0)),\"\",+$C145*+VLOOKUP($B145,'%Analysis'!$A$4:$S$204,5,0))","v":""},{"$f":"IF(ISERROR(+$C145*+VLOOKUP($B145,'%Analysis'!$A$4:$S$204,6,0)),\"\",+$C145*+VLOOKUP($B145,'%Analysis'!$A$4:$S$204,6,0))","v":""},{"$f":"IF(ISERROR(+$C145*+VLOOKUP($B145,'%Analysis'!$A$4:$S$204,7,0)),\"\",+$C145*+VLOOKUP($B145,'%Analysis'!$A$4:$S$204,7,0))","v":""},{"$f":"IF(ISERROR(+$C145*+VLOOKUP($B145,'%Analysis'!$A$4:$S$204,8,0)),\"\",+$C145*+VLOOKUP($B145,'%Analysis'!$A$4:$S$204,8,0))","v":""},{"$f":"IF(ISERROR(+$C145*+VLOOKUP($B145,'%Analysis'!$A$4:$S$204,9,0)),\"\",+$C145*+VLOOKUP($B145,'%Analysis'!$A$4:$S$204,9,0))","v":""},{"$f":"IF(ISERROR(+$C145*+VLOOKUP($B145,'%Analysis'!$A$4:$S$204,10,0)),\"\",+$C145*+VLOOKUP($B145,'%Analysis'!$A$4:$S$204,10,0))","v":""},{"$f":"IF(ISERROR(+$C145*+VLOOKUP($B145,'%Analysis'!$A$4:$S$204,11,0)),\"\",+$C145*+VLOOKUP($B145,'%Analysis'!$A$4:$S$204,11,0))","v":""},{"$f":"IF(ISERROR(+$C145*+VLOOKUP($B145,'%Analysis'!$A$4:$S$204,12,0)),\"\",+$C145*+VLOOKUP($B145,'%Analysis'!$A$4:$S$204,12,0))","v":""},{"$f":"IF(ISERROR(+$C145*+VLOOKUP($B145,'%Analysis'!$A$4:$S$204,13,0)),\"\",+$C145*+VLOOKUP($B145,'%Analysis'!$A$4:$S$204,13,0))","v":""},{"$f":"IF(ISERROR(+$C145*+VLOOKUP($B145,'%Analysis'!$A$4:$S$204,14,0)),\"\",+$C145*+VLOOKUP($B145,'%Analysis'!$A$4:$S$204,14,0))","v":""},{"$f":"IF(ISERROR(+$C145*+VLOOKUP($B145,'%Analysis'!$A$4:$S$204,15,0)),\"\",+$C145*+VLOOKUP($B145,'%Analysis'!$A$4:$S$204,15,0))","v":""},{"$f":"IF(ISERROR(+$C145*+VLOOKUP($B145,'%Analysis'!$A$4:$S$204,16,0)),\"\",+$C145*+VLOOKUP($B145,'%Analysis'!$A$4:$S$204,16,0))","v":""},{"$f":"IF(ISERROR(+$C145*+VLOOKUP($B145,'%Analysis'!$A$4:$S$204,17,0)),\"\",+$C145*+VLOOKUP($B145,'%Analysis'!$A$4:$S$204,17,0))","v":""},{"$f":"IF(ISERROR(+$C145*+VLOOKUP($B145,'%Analysis'!$A$4:$S$204,18,0)),\"\",+$C145*+VLOOKUP($B145,'%Analysis'!$A$4:$S$204,18,0))","v":""},null,null,null,{"$f":"+'%Analysis'!A147","v":0}]
[null,0,0,null,null,null,null,{"$f":"IF(ISERROR(+$C146*+VLOOKUP($B146,'%Analysis'!$A$4:$S$204,4,0)),\"\",+$C146*+VLOOKUP($B146,'%Analysis'!$A$4:$S$204,4,0))","v":""},{"$f":"IF(ISERROR(+$C146*+VLOOKUP($B146,'%Analysis'!$A$4:$S$204,5,0)),\"\",+$C146*+VLOOKUP($B146,'%Analysis'!$A$4:$S$204,5,0))","v":""},{"$f":"IF(ISERROR(+$C146*+VLOOKUP($B146,'%Analysis'!$A$4:$S$204,6,0)),\"\",+$C146*+VLOOKUP($B146,'%Analysis'!$A$4:$S$204,6,0))","v":""},{"$f":"IF(ISERROR(+$C146*+VLOOKUP($B146,'%Analysis'!$A$4:$S$204,7,0)),\"\",+$C146*+VLOOKUP($B146,'%Analysis'!$A$4:$S$204,7,0))","v":""},{"$f":"IF(ISERROR(+$C146*+VLOOKUP($B146,'%Analysis'!$A$4:$S$204,8,0)),\"\",+$C146*+VLOOKUP($B146,'%Analysis'!$A$4:$S$204,8,0))","v":""},{"$f":"IF(ISERROR(+$C146*+VLOOKUP($B146,'%Analysis'!$A$4:$S$204,9,0)),\"\",+$C146*+VLOOKUP($B146,'%Analysis'!$A$4:$S$204,9,0))","v":""},{"$f":"IF(ISERROR(+$C146*+VLOOKUP($B146,'%Analysis'!$A$4:$S$204,10,0)),\"\",+$C146*+VLOOKUP($B146,'%Analysis'!$A$4:$S$204,10,0))","v":""},{"$f":"IF(ISERROR(+$C146*+VLOOKUP($B146,'%Analysis'!$A$4:$S$204,11,0)),\"\",+$C146*+VLOOKUP($B146,'%Analysis'!$A$4:$S$204,11,0))","v":""},{"$f":"IF(ISERROR(+$C146*+VLOOKUP($B146,'%Analysis'!$A$4:$S$204,12,0)),\"\",+$C146*+VLOOKUP($B146,'%Analysis'!$A$4:$S$204,12,0))","v":""},{"$f":"IF(ISERROR(+$C146*+VLOOKUP($B146,'%Analysis'!$A$4:$S$204,13,0)),\"\",+$C146*+VLOOKUP($B146,'%Analysis'!$A$4:$S$204,13,0))","v":""},{"$f":"IF(ISERROR(+$C146*+VLOOKUP($B146,'%Analysis'!$A$4:$S$204,14,0)),\"\",+$C146*+VLOOKUP($B146,'%Analysis'!$A$4:$S$204,14,0))","v":""},{"$f":"IF(ISERROR(+$C146*+VLOOKUP($B146,'%Analysis'!$A$4:$S$204,15,0)),\"\",+$C146*+VLOOKUP($B146,'%Analysis'!$A$4:$S$204,15,0))","v":""},{"$f":"IF(ISERROR(+$C146*+VLOOKUP($B146,'%Analysis'!$A$4:$S$204,16,0)),\"\",+$C146*+VLOOKUP($B146,'%Analysis'!$A$4:$S$204,16,0))","v":""},{"$f":"IF(ISERROR(+$C146*+VLOOKUP($B146,'%Analysis'!$A$4:$S$204,17,0)),\"\",+$C146*+VLOOKUP($B146,'%Analysis'!$A$4:$S$204,17,0))","v":""},{"$f":"IF(ISERROR(+$C146*+VLOOKUP($B146,'%Analysis'!$A$4:$S$204,18,0)),\"\",+$C146*+VLOOKUP($B146,'%Analysis'!$A$4:$S$204,18,0))","v":""},null,null,null,{"$f":"+'%Analysis'!A148","v":0}]
[null,0,0,null,null,null,null,{"$f":"IF(ISERROR(+$C147*+VLOOKUP($B147,'%Analysis'!$A$4:$S$204,4,0)),\"\",+$C147*+VLOOKUP($B147,'%Analysis'!$A$4:$S$204,4,0))","v":""},{"$f":"IF(ISERROR(+$C147*+VLOOKUP($B147,'%Analysis'!$A$4:$S$204,5,0)),\"\",+$C147*+VLOOKUP($B147,'%Analysis'!$A$4:$S$204,5,0))","v":""},{"$f":"IF(ISERROR(+$C147*+VLOOKUP($B147,'%Analysis'!$A$4:$S$204,6,0)),\"\",+$C147*+VLOOKUP($B147,'%Analysis'!$A$4:$S$204,6,0))","v":""},{"$f":"IF(ISERROR(+$C147*+VLOOKUP($B147,'%Analysis'!$A$4:$S$204,7,0)),\"\",+$C147*+VLOOKUP($B147,'%Analysis'!$A$4:$S$204,7,0))","v":""},{"$f":"IF(ISERROR(+$C147*+VLOOKUP($B147,'%Analysis'!$A$4:$S$204,8,0)),\"\",+$C147*+VLOOKUP($B147,'%Analysis'!$A$4:$S$204,8,0))","v":""},{"$f":"IF(ISERROR(+$C147*+VLOOKUP($B147,'%Analysis'!$A$4:$S$204,9,0)),\"\",+$C147*+VLOOKUP($B147,'%Analysis'!$A$4:$S$204,9,0))","v":""},{"$f":"IF(ISERROR(+$C147*+VLOOKUP($B147,'%Analysis'!$A$4:$S$204,10,0)),\"\",+$C147*+VLOOKUP($B147,'%Analysis'!$A$4:$S$204,10,0))","v":""},{"$f":"IF(ISERROR(+$C147*+VLOOKUP($B147,'%Analysis'!$A$4:$S$204,11,0)),\"\",+$C147*+VLOOKUP($B147,'%Analysis'!$A$4:$S$204,11,0))","v":""},{"$f":"IF(ISERROR(+$C147*+VLOOKUP($B147,'%Analysis'!$A$4:$S$204,12,0)),\"\",+$C147*+VLOOKUP($B147,'%Analysis'!$A$4:$S$204,12,0))","v":""},{"$f":"IF(ISERROR(+$C147*+VLOOKUP($B147,'%Analysis'!$A$4:$S$204,13,0)),\"\",+$C147*+VLOOKUP($B147,'%Analysis'!$A$4:$S$204,13,0))","v":""},{"$f":"IF(ISERROR(+$C147*+VLOOKUP($B147,'%Analysis'!$A$4:$S$204,14,0)),\"\",+$C147*+VLOOKUP($B147,'%Analysis'!$A$4:$S$204,14,0))","v":""},{"$f":"IF(ISERROR(+$C147*+VLOOKUP($B147,'%Analysis'!$A$4:$S$204,15,0)),\"\",+$C147*+VLOOKUP($B147,'%Analysis'!$A$4:$S$204,15,0))","v":""},{"$f":"IF(ISERROR(+$C147*+VLOOKUP($B147,'%Analysis'!$A$4:$S$204,16,0)),\"\",+$C147*+VLOOKUP($B147,'%Analysis'!$A$4:$S$204,16,0))","v":""},{"$f":"IF(ISERROR(+$C147*+VLOOKUP($B147,'%Analysis'!$A$4:$S$204,17,0)),\"\",+$C147*+VLOOKUP($B147,'%Analysis'!$A$4:$S$204,17,0))","v":""},{"$f":"IF(ISERROR(+$C147*+VLOOKUP($B147,'%Analysis'!$A$4:$S$204,18,0)),\"\",+$C147*+VLOOKUP($B147,'%Analysis'!$A$4:$S$204,18,0))","v":""},null,null,null,{"$f":"+'%Analysis'!A149","v":0}]
[null,0,0,null,null,null,null,{"$f":"IF(ISERROR(+$C148*+VLOOKUP($B148,'%Analysis'!$A$4:$S$204,4,0)),\"\",+$C148*+VLOOKUP($B148,'%Analysis'!$A$4:$S$204,4,0))","v":""},{"$f":"IF(ISERROR(+$C148*+VLOOKUP($B148,'%Analysis'!$A$4:$S$204,5,0)),\"\",+$C148*+VLOOKUP($B148,'%Analysis'!$A$4:$S$204,5,0))","v":""},{"$f":"IF(ISERROR(+$C148*+VLOOKUP($B148,'%Analysis'!$A$4:$S$204,6,0)),\"\",+$C148*+VLOOKUP($B148,'%Analysis'!$A$4:$S$204,6,0))","v":""},{"$f":"IF(ISERROR(+$C148*+VLOOKUP($B148,'%Analysis'!$A$4:$S$204,7,0)),\"\",+$C148*+VLOOKUP($B148,'%Analysis'!$A$4:$S$204,7,0))","v":""},{"$f":"IF(ISERROR(+$C148*+VLOOKUP($B148,'%Analysis'!$A$4:$S$204,8,0)),\"\",+$C148*+VLOOKUP($B148,'%Analysis'!$A$4:$S$204,8,0))","v":""},{"$f":"IF(ISERROR(+$C148*+VLOOKUP($B148,'%Analysis'!$A$4:$S$204,9,0)),\"\",+$C148*+VLOOKUP($B148,'%Analysis'!$A$4:$S$204,9,0))","v":""},{"$f":"IF(ISERROR(+$C148*+VLOOKUP($B148,'%Analysis'!$A$4:$S$204,10,0)),\"\",+$C148*+VLOOKUP($B148,'%Analysis'!$A$4:$S$204,10,0))","v":""},{"$f":"IF(ISERROR(+$C148*+VLOOKUP($B148,'%Analysis'!$A$4:$S$204,11,0)),\"\",+$C148*+VLOOKUP($B148,'%Analysis'!$A$4:$S$204,11,0))","v":""},{"$f":"IF(ISERROR(+$C148*+VLOOKUP($B148,'%Analysis'!$A$4:$S$204,12,0)),\"\",+$C148*+VLOOKUP($B148,'%Analysis'!$A$4:$S$204,12,0))","v":""},{"$f":"IF(ISERROR(+$C148*+VLOOKUP($B148,'%Analysis'!$A$4:$S$204,13,0)),\"\",+$C148*+VLOOKUP($B148,'%Analysis'!$A$4:$S$204,13,0))","v":""},{"$f":"IF(ISERROR(+$C148*+VLOOKUP($B148,'%Analysis'!$A$4:$S$204,14,0)),\"\",+$C148*+VLOOKUP($B148,'%Analysis'!$A$4:$S$204,14,0))","v":""},{"$f":"IF(ISERROR(+$C148*+VLOOKUP($B148,'%Analysis'!$A$4:$S$204,15,0)),\"\",+$C148*+VLOOKUP($B148,'%Analysis'!$A$4:$S$204,15,0))","v":""},{"$f":"IF(ISERROR(+$C148*+VLOOKUP($B148,'%Analysis'!$A$4:$S$204,16,0)),\"\",+$C148*+VLOOKUP($B148,'%Analysis'!$A$4:$S$204,16,0))","v":""},{"$f":"IF(ISERROR(+$C148*+VLOOKUP($B148,'%Analysis'!$A$4:$S$204,17,0)),\"\",+$C148*+VLOOKUP($B148,'%Analysis'!$A$4:$S$204,17,0))","v":""},{"$f":"IF(ISERROR(+$C148*+VLOOKUP($B148,'%Analysis'!$A$4:$S$204,18,0)),\"\",+$C148*+VLOOKUP($B148,'%Analysis'!$A$4:$S$204,18,0))","v":""},null,null,null,{"$f":"+'%Analysis'!A150","v":0}]
[null,null,null,null,null,null,null,{"$f":"IF(ISERROR(+$C149*+VLOOKUP($B149,'%Analysis'!$A$4:$S$204,4,0)),\"\",+$C149*+VLOOKUP($B149,'%Analysis'!$A$4:$S$204,4,0))","v":""},{"$f":"IF(ISERROR(+$C149*+VLOOKUP($B149,'%Analysis'!$A$4:$S$204,5,0)),\"\",+$C149*+VLOOKUP($B149,'%Analysis'!$A$4:$S$204,5,0))","v":""},{"$f":"IF(ISERROR(+$C149*+VLOOKUP($B149,'%Analysis'!$A$4:$S$204,6,0)),\"\",+$C149*+VLOOKUP($B149,'%Analysis'!$A$4:$S$204,6,0))","v":""},{"$f":"IF(ISERROR(+$C149*+VLOOKUP($B149,'%Analysis'!$A$4:$S$204,7,0)),\"\",+$C149*+VLOOKUP($B149,'%Analysis'!$A$4:$S$204,7,0))","v":""},{"$f":"IF(ISERROR(+$C149*+VLOOKUP($B149,'%Analysis'!$A$4:$S$204,8,0)),\"\",+$C149*+VLOOKUP($B149,'%Analysis'!$A$4:$S$204,8,0))","v":""},{"$f":"IF(ISERROR(+$C149*+VLOOKUP($B149,'%Analysis'!$A$4:$S$204,9,0)),\"\",+$C149*+VLOOKUP($B149,'%Analysis'!$A$4:$S$204,9,0))","v":""},{"$f":"IF(ISERROR(+$C149*+VLOOKUP($B149,'%Analysis'!$A$4:$S$204,10,0)),\"\",+$C149*+VLOOKUP($B149,'%Analysis'!$A$4:$S$204,10,0))","v":""},{"$f":"IF(ISERROR(+$C149*+VLOOKUP($B149,'%Analysis'!$A$4:$S$204,11,0)),\"\",+$C149*+VLOOKUP($B149,'%Analysis'!$A$4:$S$204,11,0))","v":""},{"$f":"IF(ISERROR(+$C149*+VLOOKUP($B149,'%Analysis'!$A$4:$S$204,12,0)),\"\",+$C149*+VLOOKUP($B149,'%Analysis'!$A$4:$S$204,12,0))","v":""},{"$f":"IF(ISERROR(+$C149*+VLOOKUP($B149,'%Analysis'!$A$4:$S$204,13,0)),\"\",+$C149*+VLOOKUP($B149,'%Analysis'!$A$4:$S$204,13,0))","v":""},{"$f":"IF(ISERROR(+$C149*+VLOOKUP($B149,'%Analysis'!$A$4:$S$204,14,0)),\"\",+$C149*+VLOOKUP($B149,'%Analysis'!$A$4:$S$204,14,0))","v":""},{"$f":"IF(ISERROR(+$C149*+VLOOKUP($B149,'%Analysis'!$A$4:$S$204,15,0)),\"\",+$C149*+VLOOKUP($B149,'%Analysis'!$A$4:$S$204,15,0))","v":""},{"$f":"IF(ISERROR(+$C149*+VLOOKUP($B149,'%Analysis'!$A$4:$S$204,16,0)),\"\",+$C149*+VLOOKUP($B149,'%Analysis'!$A$4:$S$204,16,0))","v":""},{"$f":"IF(ISERROR(+$C149*+VLOOKUP($B149,'%Analysis'!$A$4:$S$204,17,0)),\"\",+$C149*+VLOOKUP($B149,'%Analysis'!$A$4:$S$204,17,0))","v":""},{"$f":"IF(ISERROR(+$C149*+VLOOKUP($B149,'%Analysis'!$A$4:$S$204,18,0)),\"\",+$C149*+VLOOKUP($B149,'%Analysis'!$A$4:$S$204,18,0))","v":""},null,null,null,{"$f":"+'%Analysis'!A151","v":0}]
[null,null,null,null,null,null,null,{"$f":"IF(ISERROR(+$C150*+VLOOKUP($B150,'%Analysis'!$A$4:$S$204,4,0)),\"\",+$C150*+VLOOKUP($B150,'%Analysis'!$A$4:$S$204,4,0))","v":""},{"$f":"IF(ISERROR(+$C150*+VLOOKUP($B150,'%Analysis'!$A$4:$S$204,5,0)),\"\",+$C150*+VLOOKUP($B150,'%Analysis'!$A$4:$S$204,5,0))","v":""},{"$f":"IF(ISERROR(+$C150*+VLOOKUP($B150,'%Analysis'!$A$4:$S$204,6,0)),\"\",+$C150*+VLOOKUP($B150,'%Analysis'!$A$4:$S$204,6,0))","v":""},{"$f":"IF(ISERROR(+$C150*+VLOOKUP($B150,'%Analysis'!$A$4:$S$204,7,0)),\"\",+$C150*+VLOOKUP($B150,'%Analysis'!$A$4:$S$204,7,0))","v":""},{"$f":"IF(ISERROR(+$C150*+VLOOKUP($B150,'%Analysis'!$A$4:$S$204,8,0)),\"\",+$C150*+VLOOKUP($B150,'%Analysis'!$A$4:$S$204,8,0))","v":""},{"$f":"IF(ISERROR(+$C150*+VLOOKUP($B150,'%Analysis'!$A$4:$S$204,9,0)),\"\",+$C150*+VLOOKUP($B150,'%Analysis'!$A$4:$S$204,9,0))","v":""},{"$f":"IF(ISERROR(+$C150*+VLOOKUP($B150,'%Analysis'!$A$4:$S$204,10,0)),\"\",+$C150*+VLOOKUP($B150,'%Analysis'!$A$4:$S$204,10,0))","v":""},{"$f":"IF(ISERROR(+$C150*+VLOOKUP($B150,'%Analysis'!$A$4:$S$204,11,0)),\"\",+$C150*+VLOOKUP($B150,'%Analysis'!$A$4:$S$204,11,0))","v":""},{"$f":"IF(ISERROR(+$C150*+VLOOKUP($B150,'%Analysis'!$A$4:$S$204,12,0)),\"\",+$C150*+VLOOKUP($B150,'%Analysis'!$A$4:$S$204,12,0))","v":""},{"$f":"IF(ISERROR(+$C150*+VLOOKUP($B150,'%Analysis'!$A$4:$S$204,13,0)),\"\",+$C150*+VLOOKUP($B150,'%Analysis'!$A$4:$S$204,13,0))","v":""},{"$f":"IF(ISERROR(+$C150*+VLOOKUP($B150,'%Analysis'!$A$4:$S$204,14,0)),\"\",+$C150*+VLOOKUP($B150,'%Analysis'!$A$4:$S$204,14,0))","v":""},{"$f":"IF(ISERROR(+$C150*+VLOOKUP($B150,'%Analysis'!$A$4:$S$204,15,0)),\"\",+$C150*+VLOOKUP($B150,'%Analysis'!$A$4:$S$204,15,0))","v":""},{"$f":"IF(ISERROR(+$C150*+VLOOKUP($B150,'%Analysis'!$A$4:$S$204,16,0)),\"\",+$C150*+VLOOKUP($B150,'%Analysis'!$A$4:$S$204,16,0))","v":""},{"$f":"IF(ISERROR(+$C150*+VLOOKUP($B150,'%Analysis'!$A$4:$S$204,17,0)),\"\",+$C150*+VLOOKUP($B150,'%Analysis'!$A$4:$S$204,17,0))","v":""},{"$f":"IF(ISERROR(+$C150*+VLOOKUP($B150,'%Analysis'!$A$4:$S$204,18,0)),\"\",+$C150*+VLOOKUP($B150,'%Analysis'!$A$4:$S$204,18,0))","v":""},null,null,null,{"$f":"+'%Analysis'!A152","v":0}]
[null,null,null,null,null,null,null,null,null,null,null,null,null,null,null,null,null,null,null,null,null,null,null,null,null,{"$f":"+'%Analysis'!A153","v":0}]
[null,null,null,null,null,null,null,null,null,null,null,null,null,null,null,null,null,null,null,null,null,null,null,null,null,{"$f":"+'%Analysis'!A154","v":0}]
[null,null,"Weight Totals",null,null,{"$f":"384.248/414.63","v":0.92672503195620193},null,{"$f":"SUM(H136:H152)","v":0},{"$f":"SUM(I136:I152)","v":0},0,0,0,0,0,0,0,0,0,0,0,0,0,null,null,null,{"$f":"+'%Analysis'!A155","v":0}]
[null,null,"Mol Weights",null,null,null,null,94.195999999999998,61.978999999999999,29.881,56.076999999999998,103.619,40.304000000000002,81.379000000000005,153.32599999999999,101.961,159.68799999999999,69.62,60.084000000000003,79.866,44.01,18.015000000000001,null,null,null,{"$f":"+'%Analysis'!A156","v":0}]
[null,null,"Gram Equivalents",null,null,{"$f":"SUM(I155:V155)","v":0},null,{"$f":"H153/H154","v":0},{"$f":"I153/I154","v":0},{"$f":"J153/J154","v":0},{"$f":"K153/K154","v":0},{"$f":"L153/L154","v":0},0,0,0,0,0,0,0,0,0,0]
[null,null,"Total Flux Equivs",null,null,null,null,{"$f":"SUM(H155:O155)","v":0}]
[null,null,"Formula",null,null,null,null,{"$f":"H155/$H$156","v":{"$error":"#DIV/0!"}},{"$error":"#DIV/0!"},{"$error":"#DIV/0!"},{"$error":"#DIV/0!"},{"$error":"#DIV/0!"},{"$error":"#DIV/0!"},{"$error":"#DIV/0!"},{"$error":"#DIV/0!"},{"$error":"#DIV/0!"},{"$error":"#DIV/0!"},{"$error":"#DIV/0!"},{"$error":"#DIV/0!"},{"$error":"#DIV/0!"},{"$error":"#DIV/0!"},{"$error":"#DIV/0!"}]
[]
[null,null,null,null,null,null,"TOTAL","K2O","Na2O","Li2O","CaO","SrO","MgO","ZnO","BaO","Al2O3","Fe2O3","B2O3","SiO2","TiO2","CO2","H2O"]
[null,null,null,null,"|","Fired",{"$f":"+H153+I153+J153+K153+L153+M153+N153+O153+P153+Q153+R153+S153+T153","v":0},{"$f":"+H153","v":0},{"$f":"+I153","v":0},0,0,0,0,0,0,0,0,0,0,0]
[null,null,null,null,"|","Wt %",{"$f":"G160/$G$160","v":{"$error":"#DIV/0!"}},{"$f":"H160/$G$160","v":{"$error":"#DIV/0!"}},{"$error":"#DIV/0!"},{"$error":"#DIV/0!"},{"$error":"#DIV/0!"},{"$error":"#DIV/0!"},{"$error":"#DIV/0!"},{"$error":"#DIV/0!"},{"$error":"#DIV/0!"},{"$error":"#DIV/0!"},{"$error":"#DIV/0!"},{"$error":"#DIV/0!"},{"$error":"#DIV/0!"},{"$error":"#DIV/0!"}]
[null,null,null,null,"|"]
[null,null,null,null,"|"]
[null,null,null,null,"|"]

{"sheet":"Recipe to Formula (3)","index":2,"n_rows":164,"n_cols":26,"rows_kept":164,"cut":false,"hidden":false,"merged":[[2,5,2,12],[4,1,4,3],[8,5,8,12],[14,5,14,12]]}
[]
[null,"EuCal",null,"version 1.91",null,null,null,null,null,true,null,null,false]
[null,null,null,"Recipe to Formula",null,"Formula - Standard Molecular Unity",null,null,null,null,null,null,null,null,null,null,null,null,null,null,null,null,null,null,null,{"$f":"+'%Analysis'!A5","v":"Al2O3"}]
[null,null,null,null,"Batch","K2O",{"$f":"C92","v":{"$error":"#DIV/0!"}},"CaO",{"$f":"F92","v":{"$error":"#DIV/0!"}},"Al2O3",{"$f":"L92","v":{"$error":"#DIV/0!"}},"SiO2",{"$f":"M92","v":{"$error":"#DIV/0!"}},null,null,null,null,null,null,null,null,null,null,null,null,{"$f":"+'%Analysis'!A6","v":"Albany Slip"}]
[null,"Recipe",null,null,"Size","Na2O",{"$f":"D92","v":{"$error":"#DIV/0!"}},"MgO",{"$f":"G92","v":{"$error":"#DIV/0!"}},"B2O3",{"$f":"+K92","v":{"$error":"#DIV/0!"}},"SiO2/Al2O3",{"$f":"M4/K4","v":{"$error":"#DIV/0!"}},null,null,null,null,null,null,null,null,null,null,null,null,{"$f":"+'%Analysis'!A7","v":"Alumina Hydrate"}]
[null,"Mineral","%","Fit 100%",100,"Li2O",{"$f":"E92","v":{"$error":"#DIV/0!"}},"SrO",{"$f":"I92","v":{"$error":"#DIV/0!"}},"Fe2O3",{"$f":"Q155/$H$156","v":{"$error":"#DIV/0!"}},null,null,null,null,null,null,null,null,null,null,null,null,null,null,{"$f":"+'%Analysis'!A8","v":"B2O3"}]
[null,null,null,{"$f":"IF(C7>0,C7/SUM($C$7:$C$18)*100,\"\")","v":""},{"$f":"IF(C7>0,D7*$E$6*0.01,\"\")","v":""},"R2O",{"$f":"SUM(G4:G6)","v":{"$error":"#DIV/0!"}},"ZnO",{"$f":"J92","v":{"$error":"#DIV/0!"}},null,null,null,null,null,null,null,null,null,null,null,null,null,null,null,null,{"$f":"+'%Analysis'!A9","v":"BaCarb"}]
[null,null,null,"",{"$f":"IF(C8>0,D8*$E$6*0.01,\"\")","v":""},"RO",{"$f":"SUM(I4:I8)","v":{"$error":"#DIV/0!"}},"BaO",{"$f":"H92","v":{"$error":"#DIV/0!"}},null,null,null,null,null,null,null,null,null,null,null,null,null,null,null,null,{"$f":"+'%Analysis'!A10","v":"BaO"}]
[null,null,null,"","","Formula - Eutectics Only",null,null,null,null,null,null,null,null,null,null,null,null,null,null,null,null,null,null,null,{"$f":"+'%Analysis'!A11","v":"Barnard Slip"}]
[null,null,null,"","","K2O",{"$f":"C89","v":{"$error":"#DIV/0!"}},"CaO",{"$f":"F89","v":{"$error":"#DIV/0!"}},"Al2O3",{"$f":"L89","v":{"$error":"#DIV/0!"}},"SiO2",{"$f":"M89","v":{"$error":"#DIV/0!"}},null,null,null,null,null,null,null,null,null,null,null,null,{"$f":"+'%Analysis'!A12","v":"Bentone MA"}]
[null,null,null,"","","Na2O",{"$f":"D89","v":{"$error":"#DIV/0!"}},"MgO",{"$f":"G89","v":{"$error":"#DIV/0!"}},"B2O3",{"$f":"K89","v":{"$error":"#DIV/0!"}},"SiO2/Al2O3",{"$f":"M10/K10","v":{"$error":"#DIV/0!"}},null,null,null,null,null,null,null,null,null,null,null,null,{"$f":"+'%Analysis'!A13","v":"Bentonite"}]
[null,null,null,"","","Li2O",{"$f":"E89","v":{"$error":"#DIV/0!"}},"SrO",{"$f":"I89","v":{"$error":"#DIV/0!"}},null,null,null,null,null,null,null,null,null,null,null,null,null,null,null,null,{"$f":"+'%Analysis'!A14","v":"BoneAsh"}]
[null,null,null,"","","R2O",{"$f":"SUM(G10:G12)","v":{"$error":"#DIV/0!"}},"ZnO",{"$f":"J89","v":{"$error":"#DIV/0!"}},null,null,null,null,null,null,null,null,null,null,null,null,null,null,null,null,{"$f":"+'%Analysis'!A15","v":"Borax"}]
[null,null,null,"","","RO",{"$f":"SUM(I10:I14)","v":{"$error":"#DIV/0!"}},"BaO",{"$f":"H89","v":{"$error":"#DIV/0!"}},null,null,null,null,null,null,null,null,null,null,null,null,null,null,null,null,{"$f":"+'%Analysis'!A16","v":"CaO"}]
[null,null,null,"","","Oxides Excess to the Eutectics",null,null,null,null,null,null,null,null,null,null,null,null,null,null,null,null,null,null,null,{"$f":"+'%Analysis'!A17","v":"ChromeOxide"}]
[null,null,null,"","","K2O","Na2O","Li2O","CaO","MgO","BaO","SrO","ZnO",null,null,null,null,null,null,null,null,null,null,null,null,{"$f":"+'%Analysis'!A18","v":"CMC Gum"}]
[null,null,null,"","",{"$f":"C90","v":{"$error":"#DIV/0!"}},{"$error":"#DIV/0!"},{"$error":"#DIV/0!"},{"$error":"#DIV/0!"},{"$error":"#DIV/0!"},{"$error":"#DIV/0!"},{"$error":"#DIV/0!"},{"$error":"#DIV/0!"},null,null,null,null,null,null,null,null,null,null,null,null,{"$f":"+'%Analysis'!A19","v":"CoCarb"}]
[null,null,null,"","","Al2O3","SiO2",null,null,null,null,"B2O3","Fe2O3",null,null,null,null,null,null,null,null,null,null,null,null,{"$f":"+'%Analysis'!A20","v":"Coleman"}]
[null,null,{"$f":"SUM(C7:C18)","v":0},{"$f":"SUM(D7:D18)","v":0},{"$f":"SUM(E7:E18)","v":0},{"$f":"L90","v":{"$error":"#DIV/0!"}},{"$f":"M90","v":{"$error":"#DIV/0!"}},null,null,null,null,{"$f":"+K90","v":{"$error":"#DIV/0!"}},{"$f":"(Q153/Q154)/$B$88","v":{"$error":"#DIV/0!"}},null,null,null,null,null,null,null,null,null,null,null,null,{"$f":"+'%Analysis'!A21","v":"CoOxide"}]
[null,null,null,null,null,null,null,null,null,null,null,null,null,null,null,null,null,null,null,null,null,null,null,null,null,{"$f":"+'%Analysis'!A22","v":"Corn Old"}]
[null,null,null,null,null,null,null,null,null,null,null,null,null,null,null,null,null,null,null,null,null,null,null,null,null,{"$f":"+'%Analysis'!A23","v":"Cornwall"}]
[null,null,null,null,null,null,null,null,null,null,null,null,null,null,null,null,null,null,null,null,null,null,null,null,null,{"$f":"+'%Analysis'!A24","v":"Cu2O"}]
[null,null,null,null,null,null,null,null,null,null,null,null,null,null,null,null,null,null,null,null,null,null,null,null,null,{"$f":"+'%Analysis'!A25","v":"CuCarb"}]
[null,null,null,null,null,null,null,null,null,null,null,null,null,null,null,null,null,null,null,null,null,null,null,null,null,{"$f":"+'%Analysis'!A26","v":"Custer"}]
[null,null,null,null,null,null,null,null,null,null,null,null,null,null,null,null,null,null,null,null,null,null,null,null,null,{"$f":"+'%Analysis'!A27","v":"Custer - Old"}]
[null,null,null,null,null,null,null,null,null,null,null,null,null,null,null,null,null,null,null,null,null,null,null,null,null,{"$f":"+'%Analysis'!A28","v":"Dolomite"}]
[null,null,null,null,null,null,null,null,null,null,null,null,null,null,null,null,null,null,null,null,null,null,null,null,null,{"$f":"+'%Analysis'!A29","v":"EPK"}]
[null,null,"The Eutectics",null,null,null,null,null,null,null,null,null,null,null,null,null,null,null,null,null,null,null,null,null,null,{"$f":"+'%Analysis'!A30","v":"EPK - Calcined"}]
[null,"#","K2O","Na2O","Li2O","CaO","MgO","BaO","SrO","ZnO","B2O3","Al2O3","SiO2","MP°C",null,null,null,null,null,null,null,null,null,null,null,{"$f":"+'%Analysis'!A31","v":"Fe2O3"}]
[null,1,1,null,null,null,null,null,null,null,2.1190000000000002,null,2.8530000000000002,630,null,null,null,null,null,null,null,null,null,null,null,{"$f":"+'%Analysis'!A32","v":"Ferro3110"}]
[null,2,1,null,null,null,null,null,null,null,null,9.7199999999999995E-2,3.4243000000000001,695,null,null,null,null,null,null,null,null,null,null,null,{"$f":"+'%Analysis'!A33","v":"Ferro3124"}]
[null,3,null,1,null,null,null,null,null,null,null,0.29220000000000002,2.44,732,null,null,null,null,null,null,null,null,null,null,null,{"$f":"+'%Analysis'!A34","v":"Ferro3134"}]
[null,4,null,1,null,null,null,null,null,null,1.3,null,1.73,790,null,null,null,null,null,null,null,null,null,null,null,{"$f":"+'%Analysis'!A35","v":"Ferro3195"}]
[null,5,null,null,1,null,null,null,null,null,0.7,null,0.3,802,null,null,null,null,null,null,null,null,null,null,null,{"$f":"+'%Analysis'!A36","v":"Flint"}]
[null,6,null,null,null,1,null,null,null,null,1.51,null,0,990,null,null,null,null,null,null,null,null,null,null,null,{"$f":"+'%Analysis'!A37","v":"G-200"}]
[null,7,null,null,1,null,null,null,null,null,null,0.22800000000000001,1.6838,1026,"CaO/ZnO","ZnO/CaO",null,null,null,null,null,null,null,null,null,{"$f":"+'%Analysis'!A38","v":"G200 HP"}]
[null,8,null,null,null,0.54400000000000004,null,null,null,0.45600000000000002,null,0.1326,1.3943000000000001,1030,{"$f":"+F37/J37","v":1.1929824561403508},{"$f":"+J37/F37","v":0.83823529411764708},null,null,null,null,null,null,null,null,null,{"$f":"+'%Analysis'!A39","v":"Gerstley Borate"}]
[null,9,null,null,null,null,null,1,null,null,null,0.40579999999999999,4.0090000000000003,1122,null,null,null,null,null,null,null,null,null,null,null,{"$f":"+'%Analysis'!A40","v":"Gerstley Borate - 1999"}]
[null,10,null,null,null,1,null,null,null,null,null,0.34889999999999999,2.4887999999999999,1165,null,null,null,null,null,null,null,null,null,null,null,{"$f":"+'%Analysis'!A41","v":"Gillespie Borate"}]
[null,11,null,null,null,null,null,null,1,null,null,0.21440000000000001,2.8,1176,null,null,null,null,null,null,null,null,null,null,null,{"$f":"+'%Analysis'!A42","v":"Goldart"}]
[null,12,null,null,null,null,1,null,null,null,null,0.33739999999999998,2.0287000000000002,1350,null,null,null,null,null,null,null,null,null,null,null,{"$f":"+'%Analysis'!A43","v":"Grolleg"}]
[null,null,null,null,null,null,null,null,null,null,null,null,null,null,null,null,null,null,null,null,null,null,null,null,null,{"$f":"+'%Analysis'!A44","v":"K2CO3"}]
[null,null,"The Eutectics by Weight",null,null,null,null,null,null,null,null,null,null,null,null,null,null,null,null,null,null,null,null,null,null,{"$f":"+'%Analysis'!A45","v":"K2O"}]
[null,"#","K2O","Na2O","Li2O","CaO","MgO","BaO","SrO","ZnO","B2O3","Al2O3","SiO2","MP°C",null,null,null,null,null,null,null,null,null,null,null,{"$f":"+'%Analysis'!A46","v":"Kaolin"}]
[null,1,22.8,null,null,null,null,null,null,null,35.700000000000003,null,41.5,630,{"$f":"SUM(C45:M45)","v":100},null,null,null,null,null,null,null,null,null,null,{"$f":"+'%Analysis'!A47","v":"KFeld"}]
[null,2,30.4,null,null,null,null,null,null,null,null,3.2,66.400000000000006,695,100,null,null,null,null,null,null,null,null,null,null,{"$f":"+'%Analysis'!A48","v":"Kingman"}]
[null,3,null,26,null,null,null,null,null,null,null,12.5,61.5,732,100,null,null,null,null,null,null,null,null,null,null,{"$f":"+'%Analysis'!A49","v":"KonaF-4"}]
[null,4,null,24.2,null,null,null,null,null,null,35.200000000000003,null,40.6,790,100,null,null,null,null,null,null,null,null,null,null,{"$f":"+'%Analysis'!A50","v":"Leucite"}]
[null,5,null,null,30.9,null,null,null,null,null,50.4,null,18.7,802,100,null,null,null,null,null,null,null,null,null,null,{"$f":"+'%Analysis'!A51","v":"Li2O"}]
[null,6,null,null,null,65.209999999999994,null,null,null,null,34.79,null,null,990,100,null,null,null,null,null,null,null,null,null,null,{"$f":"+'%Analysis'!A52","v":"LiCarb"}]
[null,7,null,null,19.366,null,null,null,null,null,null,15.067,65.566999999999993,1026,100,null,null,null,null,null,null,null,null,null,null,{"$f":"+'%Analysis'!A53","v":"LiSilicate"}]
[null,8,null,null,null,18.5,null,null,null,22.5,null,8.1999999999999993,50.8,1030,100,null,null,null,null,null,null,null,null,null,null,{"$f":"+'%Analysis'!A54","v":"Macaloid"}]
[null,9,null,null,null,null,null,35.200000000000003,null,null,null,9.5,55.3,1122,100,null,null,null,null,null,null,null,null,null,null,{"$f":"+'%Analysis'!A55","v":"MgCarb"}]
[null,10,null,null,null,23.25,null,null,null,null,null,14.75,62,1165,100,null,null,null,null,null,null,null,null,null,null,{"$f":"+'%Analysis'!A56","v":"MgO"}]
[null,11,null,null,null,null,null,null,35.277999999999999,null,null,7.4429999999999996,57.277999999999999,1176,99.998999999999995,null,null,null,null,null,null,null,null,null,null,{"$f":"+'%Analysis'!A57","v":"Mahavir Feldspar"}]
[null,12,null,null,null,null,20.5,null,null,null,null,17.5,62,1350,100,null,null,null,null,null,null,null,null,null,null,{"$f":"+'%Analysis'!A58","v":"Minspar 200"}]
[null,null,null,null,null,null,null,null,null,null,null,null,null,null,null,null,null,null,null,null,null,null,null,null,null,{"$f":"+'%Analysis'!A59","v":"MnCarb"}]
[null,null,null,null,null,null,null,null,null,null,null,null,null,null,null,null,null,null,null,null,null,null,null,null,null,{"$f":"+'%Analysis'!A60","v":"MnO2"}]
[null,null,"WHAT'S LEFT AFTER EACH EUTECTIC - BY WEIGHT",null,null,null,null,null,null,null,null,null,null,null,"NEEDED",null,null,"AVAILABLE",null,"Ratios",null,"Possible",null,"AVAILABLE",null,{"$f":"+'%Analysis'!A61","v":"Na2CO3"}]
["#",null,"K2O","Na2O","Li2O","CaO","MgO","BaO","SrO","ZnO","B2O3","Al2O3","SiO2","B2O3","Al2O3","SiO2","B2O3","Al2O3","SiO2","CaO/","ZnO","CaO","ZnO","CaO","ZnO",{"$f":"+'%Analysis'!A62","v":"Na2O"}]
["Start",null,{"$f":"+H153","v":0},{"$f":"+I153","v":0},{"$f":"+J153","v":0},{"$f":"+K153","v":0},{"$f":"+M153","v":0},{"$f":"+O153","v":0},{"$f":"+L153","v":0},{"$f":"+N153","v":0},{"$f":"+R153","v":0},{"$f":"+P153","v":0},{"$f":"+S153","v":0},null,null,null,null,null,null,null,null,null,null,null,null,{"$f":"+'%Analysis'!A63","v":"NaFeld"}]
[1,"Used",{"$f":"IF(AND(N62<=Q62,P62<=S62),C61,MIN(Q62/N62,S62/P62)*C61)","v":0},null,null,null,null,null,null,null,{"$f":"C62*(K45/C45)","v":0},null,{"$f":"C62*(M45/C45)","v":0},{"$f":"(K45/C45)*C61","v":0},null,{"$f":"(M45/C45)*C61","v":0},{"$f":"+K61","v":0},null,{"$f":"M61","v":0},null,null,null,null,null,null,{"$f":"+'%Analysis'!A64","v":"NephelineSyenite"}]
[1,"Remaining",{"$f":"C61-C62","v":0},{"$f":"D61-D62","v":0},0,0,0,0,0,0,0,0,0,null,null,null,null,null,null,null,null,null,null,null,null,{"$f":"+'%Analysis'!A65","v":"NiCarb"}]
[2,"Used",{"$f":"IF(AND(O64<=R64,P64<=S64),C63,MIN(R64/O64,S64/P64)*C63)","v":0},null,null,null,null,null,null,null,null,{"$f":"(L46/C46)*C64","v":0},{"$f":"(M46/C46)*C64","v":0},null,{"$f":"(L46/C46)*C63","v":0},{"$f":"(M46/C46)*C63","v":0},{"$f":"+K63","v":0},{"$f":"L63","v":0},{"$f":"M63","v":0},null,null,null,null,null,null,{"$f":"+'%Analysis'!A66","v":"OldHick"}]
[2,"Remaining",{"$f":"C63-C64","v":0},{"$f":"D63-D64","v":0},0,0,0,0,0,0,0,0,0,null,null,null,{"$f":"+K64","v":0},null,null,null,null,null,null,null,null,{"$f":"+'%Analysis'!A67","v":"OM4"}]
[3,"Used",null,{"$f":"IF(AND(P66<=S66,O66<=R66),D65,MIN(S66/P66,R66/O66)*D65)","v":0},null,null,null,null,null,null,null,{"$f":"D66*(L47/D47)","v":0},{"$f":"D66*(M47/D47)","v":0},null,{"$f":"D65*(L47/D47)","v":0},{"$f":"D65*(M47/D47)","v":0},{"$f":"+K65","v":0},{"$f":"L65","v":0},{"$f":"M65","v":0},null,null,null,null,null,null,{"$f":"+'%Analysis'!A68","v":"P2O5"}]
[3,"Remaining",{"$f":"C65-C66","v":0},{"$f":"D65-D66","v":0},0,0,0,0,0,0,0,0,0,null,null,null,null,null,null,null,null,null,null,null,null,{"$f":"+'%Analysis'!A69","v":"Petalite"}]
[4,"Used",null,{"$f":"IF(AND(P68<=S68,N68<=Q68),D67,MIN(S68/P68,Q68/N68)*D67)","v":0},null,null,null,null,null,null,{"$f":"D68*(K48/D48)","v":0},null,{"$f":"D68*(M48/D48)","v":0},{"$f":"+D67*(K48/D48)","v":0},null,{"$f":"D67*(M48/D48)","v":0},{"$f":"K67","v":0},null,{"$f":"M67","v":0},null,null,null,null,null,null,{"$f":"+'%Analysis'!A70","v":"PlVit"}]
[4,"Remaining",{"$f":"C67-C68","v":0},{"$f":"D67-D68","v":0},0,0,0,0,0,0,0,0,0,null,null,null,null,null,null,null,null,null,null,null,null,{"$f":"+'%Analysis'!A71","v":"Redart"}]
[5,"Used",null,null,{"$f":"IF(AND(P70<=S70,N70<=Q70),E69,MIN(S70/P70,Q70/N70)*E69)","v":0},null,null,null,null,null,{"$f":"E70*(K49/E49)","v":0},null,{"$f":"E70*(M49/E49)","v":0},{"$f":"E69*(K49/E49)","v":0},null,{"$f":"E69*(M49/E49)","v":0},{"$f":"K69","v":0},null,{"$f":"M69","v":0},null,null,null,null,null,null,{"$f":"+'%Analysis'!A72","v":"Rutile"}]
[5,"Remaining",{"$f":"C69-C70","v":0},{"$f":"D69-D70","v":0},0,0,0,0,0,0,0,0,0,null,null,null,null,null,null,null,null,"Used",null,null,null,{"$f":"+'%Analysis'!A73","v":"Silica"}]
[6,"Used",null,null,null,{"$f":"IF((N72<=K71),F71,(F50/K50)*K71)","v":0},null,null,null,null,{"$f":"F72*(K50/F50)","v":0},null,null,{"$f":"F71*(K50/F50)","v":0},null,null,null,null,null,null,null,null,null,null,null,{"$f":"+'%Analysis'!A74","v":"SiO2"}]
[6,"Remaining",{"$f":"C71-C72","v":0},0,0,0,0,0,0,0,0,0,0,null,null,null,null,null,null,null,null,null,null,null,null,{"$f":"+'%Analysis'!A75","v":"Spodumene"}]
[7,"Used",null,null,{"$f":"IF(AND(O74<=R74,P74<=S74),E71,(MIN(R74/O74,S74/P74)*E71))","v":0},null,null,null,null,null,null,{"$f":"E74*(L51/E51)","v":0},{"$f":"E74*(M51/E51)","v":0},null,{"$f":"E71*(L51/E51)","v":0},{"$f":"E71*(M51/E51)","v":0},null,{"$f":"L71","v":0},{"$f":"M71","v":0},"eutectic","available","if not limited by",null,null,null,{"$f":"+'%Analysis'!A76","v":"SrCarb"}]
[7,"Remaining",{"$f":"C73-C74","v":0},0,0,0,0,0,0,0,0,0,0,null,null,null,null,{"$f":"L75","v":0},{"$f":"M75","v":0},"ratio","ratio","Al2O3 or SiO2",null,null,null,{"$f":"+'%Analysis'!A77","v":"SrO"}]
[8,"Used",null,null,null,{"$f":"IF(U76=0,0,IF(AND(O76<=R76,P76<=S76),V76,(MIN(R76/O76,S76/P76)*V76)))","v":0},null,null,null,{"$f":"IF(U76=0,0,IF(AND(O76<R76,P76<S76),W76,(MIN(R76/O76,S76/P76)*W76)))","v":0},null,{"$f":"J76*(L52/J52)","v":0},{"$f":"J76*(M52/J52)","v":0},null,{"$f":"V76*(L52/F52)","v":0},{"$f":"V76*(M52/F52)","v":0},null,{"$f":"R75","v":0},{"$f":"S75","v":0},{"$f":"F52/J52","v":0.82222222222222219},{"$f":"IF(OR(J61=0,F61=0),0,F75/J75)","v":0},{"$f":"IF(U76<T76,F75,(J75*T76))","v":0},{"$f":"IF(U76>T76,J75,F75/T76)","v":0},null,null,{"$f":"+'%Analysis'!A78","v":"Superpax"}]
[8,"Remaining",0,0,0,0,0,0,0,{"$f":"J75-J76","v":0},{"$f":"K75-K76","v":0},{"$f":"L75-L76","v":0},{"$f":"M75-M76","v":0},null,null,null,null,{"$f":"L77","v":0},{"$f":"M77","v":0},null,null,null,null,null,null,{"$f":"+'%Analysis'!A79","v":"Talc - NYTAL"}]
[9,"Used",null,null,null,null,null,{"$f":"IF(AND(O78<=R78,P78<=S78),H77,MIN(R78/O78,S78/P78)*H77)","v":0},null,null,null,{"$f":"H78*(L53/H53)","v":0},{"$f":"H78*(M53/H53)","v":0},null,{"$f":"H77*(L53/H53)","v":0},{"$f":"H77*(M53/H53)","v":0},null,{"$f":"R77","v":0},{"$f":"S77","v":0},null,null,null,null,null,null,{"$f":"+'%Analysis'!A80","v":"Talc - Texas"}]
[9,"Remaining",{"$f":"C77-C78","v":0},0,0,0,0,0,0,{"$f":"J77-J78","v":0},{"$f":"K77-K78","v":0},{"$f":"L77-L78","v":0},{"$f":"M77-M78","v":0},null,null,null,null,null,null,null,null,null,null,null,null,{"$f":"+'%Analysis'!A81","v":"TinOxide"}]
[10,"Used",null,null,null,{"$f":"IF(AND(P80<=S80,O80<=R80),F79,MIN(S80/P80,R80/O80)*F79)","v":0},null,null,null,null,null,{"$f":"F80*(L54/F54)","v":0},{"$f":"F80*(M54/F54)","v":0},null,{"$f":"F79*(L54/F54)","v":0},{"$f":"F79*(M54/F54)","v":0},null,{"$f":"L79","v":0},{"$f":"M79","v":0},null,null,null,null,null,null,{"$f":"+'%Analysis'!A82","v":"TiO2"}]
[10,"Remaining",{"$f":"C79-C80","v":0},{"$f":"D79-D80","v":0},0,0,0,0,0,0,0,0,0,null,null,null,null,{"$f":"L81","v":0},{"$f":"M81","v":0},null,null,null,null,null,null,{"$f":"+'%Analysis'!A83","v":"Ultrox"}]
[11,"Used",null,null,null,null,null,null,{"$f":"IF(J2=TRUE,IF(AND(O82<=R82,P82<=S82),I81,MIN(R82/O82,S82/P82)*I81),0)","v":0},null,null,{"$f":"I82*(L55/I55)","v":0},{"$f":"I82*(M55/I55)","v":0},null,{"$f":"I81*(L55/I55)","v":0},{"$f":"I81*(M55/I55)","v":0},null,{"$f":"R81","v":0},{"$f":"S81","v":0},null,null,null,null,null,null,{"$f":"+'%Analysis'!A84","v":"Veegum"}]
[11,"Remaining",{"$f":"C81-C82","v":0},{"$f":"D81-D82","v":0},0,0,0,0,0,0,0,0,0,null,null,null,null,{"$f":"L83","v":0},{"$f":"M83","v":0},null,null,null,null,null,null,{"$f":"+'%Analysis'!A85","v":"VolAsh"}]
[12,"Used",null,null,null,null,{"$f":"IF(M2=TRUE,IF(AND(O84<=R84,P84<=S84),G83,MIN(R84/O84,S84/P84)*G83),0)","v":0},null,null,null,null,{"$f":"G84*(L56/G56)","v":0},{"$f":"G84*(M56/G56)","v":0},null,{"$f":"G83*(L56/G56)","v":0},{"$f":"G83*(M56/G56)","v":0},null,{"$f":"R83","v":0},{"$f":"S83","v":0},null,null,null,null,null,null,{"$f":"+'%Analysis'!A86","v":"Westex Talc"}]
[12,"Remaining",{"$f":"C83-C84","v":0},{"$f":"D83-D84","v":0},0,0,0,0,0,0,0,0,0,null,null,null,null,null,null,null,null,null,null,null,null,{"$f":"+'%Analysis'!A87","v":"Whiting"}]
[null,"Used in Eutectics",{"$f":"C61-C85","v":0},0,0,0,0,0,0,{"$f":"J61-J85","v":0},0,{"$f":"L61-L85","v":0},{"$f":"M61-M85","v":0},null,null,null,null,null,null,null,null,null,null,null,null,{"$f":"+'%Analysis'!A88","v":"Wollastonite"}]
[null,"MW",94.195999999999998,61.978999999999999,29.881,56.076999999999998,40.304000000000002,153.32599999999999,103.619,81.379000000000005,69.62,101.961,60.084000000000003,null,null,null,null,null,null,null,null,null,null,null,null,{"$f":"+'%Analysis'!A89","v":"Yellow Ochre"}]
[null,{"$f":"SUM(C88:J88)","v":0},{"$f":"C86/C87","v":0},{"$f":"D86/D87","v":0},{"$f":"E86/E87","v":0},{"$f":"F86/F87","v":0},{"$f":"IF(M2=TRUE,G86/G87,0)","v":0},{"$f":"H86/H87","v":0},{"$f":"IF(J2=TRUE,I86/I87,0)","v":0},{"$f":"J86/J87","v":0},{"$f":"K86/K87","v":0},{"$f":"L86/L87","v":0},{"$f":"M86/M87","v":0},null,null,null,null,null,null,null,null,{"$f":"V76/W76","v":{"$error":"#DIV/0!"}},null,null,null,{"$f":"+'%Analysis'!A90","v":"Zircopax"}]
[null,"Used in Eutectics",{"$f":"C88/$B$88","v":{"$error":"#DIV/0!"}},{"$error":"#DIV/0!"},{"$error":"#DIV/0!"},{"$error":"#DIV/0!"},{"$error":"#DIV/0!"},{"$error":"#DIV/0!"},{"$error":"#DIV/0!"},{"$error":"#DIV/0!"},{"$f":"K88/$B$88","v":{"$error":"#DIV/0!"}},{"$f":"L88/$B$88","v":{"$error":"#DIV/0!"}},{"$f":"M88/$B$88","v":{"$error":"#DIV/0!"}},null,null,null,null,null,null,null,null,null,null,null,null,{"$f":"+'%Analysis'!A91","v":"ZnO"}]
[null,"Excess",{"$f":"(C85/C87)/$B$88","v":{"$error":"#DIV/0!"}},{"$error":"#DIV/0!"},{"$error":"#DIV/0!"},{"$error":"#DIV/0!"},{"$error":"#DIV/0!"},{"$error":"#DIV/0!"},{"$error":"#DIV/0!"},{"$f":"(J85/J87)/$B$88","v":{"$error":"#DIV/0!"}},{"$f":"(K85/K87)/$B$88","v":{"$error":"#DIV/0!"}},{"$f":"(L85/L87)/$B$88","v":{"$error":"#DIV/0!"}},{"$f":"(M85/M87)/$B$88","v":{"$error":"#DIV/0!"}},null,null,null,null,null,null,null,null,null,null,null,null,{"$f":"+'%Analysis'!A92","v":0}]
[null,"UMF",{"$f":"C61/C87","v":0},0,0,0,0,0,0,{"$f":"J61/J87","v":0},{"$f":"K61/K87","v":0},{"$f":"L61/L87","v":0},{"$f":"M61/M87","v":0},null,null,null,null,null,null,null,null,null,null,null,null,{"$f":"+'%Analysis'!A93","v":0}]
[null,{"$f":"SUM(C91:J91)","v":0},{"$f":"C91/$B$92","v":{"$error":"#DIV/0!"}},{"$error":"#DIV/0!"},{"$error":"#DIV/0!"},{"$error":"#DIV/0!"},{"$error":"#DIV/0!"},{"$error":"#DIV/0!"},{"$error":"#DIV/0!"},{"$error":"#DIV/0!"},{"$f":"K91/$B$92","v":{"$error":"#DIV/0!"}},{"$f":"L91/$B$92","v":{"$error":"#DIV/0!"}},{"$f":"M91/$B$92","v":{"$error":"#DIV/0!"}},null,null,null,null,null,null,null,null,null,null,null,null,{"$f":"+'%Analysis'!A94","v":0}]
[null,null,null,null,null,null,null,null,null,null,null,null,null,null,null,null,null,null,null,null,null,null,null,null,null,{"$f":"+'%Analysis'!A95","v":0}]
[null,null,"K2O","Na2O","Li2O","CaO","MgO","BaO","SrO","ZnO","Al2O3","SiO2","Fe2O3",null,"B2O3","TiO2",null,null,null,null,null,null,null,null,null,{"$f":"+'%Analysis'!A96","v":0}]
[null,"Weight %",{"$f":"+C86/(SUM($C$86:$M$86))","v":{"$error":"#DIV/0!"}},{"$error":"#DIV/0!"},{"$error":"#DIV/0!"},{"$error":"#DIV/0!"},{"$error":"#DIV/0!"},{"$error":"#DIV/0!"},{"$error":"#DIV/0!"},{"$error":"#DIV/0!"},{"$f":"+L86/(SUM($C$86:$M$86))","v":{"$error":"#DIV/0!"}},{"$f":"+M86/(SUM($C$86:$M$86))","v":{"$error":"#DIV/0!"}},{"$f":"+O86/(SUM($C$86:$M$86))","v":{"$error":"#DIV/0!"}},null,{"$f":"+P86/(SUM($C$86:$M$86))","v":{"$error":"#DIV/0!"}},{"$f":"+R86/(SUM($C$86:$M$86))","v":{"$error":"#DIV/0!"}},null,null,null,null,null,null,null,null,null,{"$f":"+'%Analysis'!A97","v":0}]
[null,null,null,null,null,null,null,null,null,null,null,null,null,null,null,null,null,null,null,null,null,null,null,null,null,{"$f":"+'%Analysis'!A98","v":0}]
[null,null,null,null,null,null,null,null,null,null,null,null,null,null,null,null,null,null,null,null,null,null,null,null,null,{"$f":"+'%Analysis'!A99","v":0}]
[null,"Mineral","Percent",null,null,"Tot %",null,"K2O","Na2O","Li2O","CaO","SrO","MgO",null,"ZnO","BaO","Al2O3","Fe2O3","B2O3","SiO2","TiO2","CO2","H2O",null,null,{"$f":"+'%Analysis'!A100","v":0}]
[null,null,"Weight Totals",null,null,0.92672503195620193,null,408.9,170.5,0,1904.387201518633,0,1.4000000000000001,null,0,0,1124.7,16.299999999999997,280,5482.7,0,1319.1127984813668,280,null,null,{"$f":"+'%Analysis'!A101","v":0}]
[null,null,null,null,null,null,null,null,null,null,null,null,null,null,null,null,null,null,null,null,null,null,null,null,null,{"$f":"+'%Analysis'!A102","v":0}]
[null,null,null,null,null,null,null,null,null,null,null,null,null,null,null,null,null,null,null,null,null,null,null,null,null,{"$f":"+'%Analysis'!A103","v":0}]
[null,null,null,null,null,null,null,null,null,null,null,null,null,null,null,null,null,null,null,null,null,null,null,null,null,{"$f":"+'%Analysis'!A104","v":0}]
[null,null,null,null,null,null,null,null,null,null,null,null,null,null,null,null,null,null,null,null,null,null,null,null,null,{"$f":"+'%Analysis'!A105","v":0}]
[null,null,null,null,null,null,null,null,null,null,null,null,null,null,null,null,null,null,null,null,null,null,null,null,null,{"$f":"+'%Analysis'!A106","v":0}]
[null,null,null,null,null,null,null,null,null,null,null,null,null,null,null,null,null,null,null,null,null,null,null,null,null,{"$f":"+'%Analysis'!A107","v":0}]
[null,null,null,null,null,null,null,null,null,null,null,null,null,null,null,null,null,null,null,null,null,null,null,null,null,{"$f":"+'%Analysis'!A108","v":0}]
[null,null,null,null,null,null,null,null,null,null,null,null,null,null,null,null,null,null,null,null,null,null,null,null,null,{"$f":"+'%Analysis'!A109","v":0}]
[null,null,null,null,null,null,null,null,null,null,null,null,null,null,null,null,null,null,null,null,null,null,null,null,null,{"$f":"+'%Analysis'!A110","v":0}]
[null,null,null,null,null,null,null,null,null,null,null,null,null,null,null,null,null,null,null,null,null,null,null,null,null,{"$f":"+'%Analysis'!A111","v":0}]
[null,null,null,null,null,null,null,null,null,null,null,null,null,null,null,null,null,null,null,null,null,null,null,null,null,{"$f":"+'%Analysis'!A112","v":0}]
[null,null,null,null,null,null,null,null,null,null,null,null,null,null,null,null,null,null,null,null,null,null,null,null,null,{"$f":"+'%Analysis'!A113","v":0}]
[null,null,null,null,null,null,null,null,null,null,null,null,null,null,null,null,null,null,null,null,null,null,null,null,null,{"$f":"+'%Analysis'!A114","v":0}]
[null,null,null,null,null,null,null,null,null,null,null,null,null,null,null,null,null,null,null,null,null,null,null,null,null,{"$f":"+'%Analysis'!A115","v":0}]
[null,null,null,null,null,null,null,null,null,null,null,null,null,null,null,null,null,null,null,null,null,null,null,null,null,{"$f":"+'%Analysis'!A116","v":0}]
[null,null,null,null,null,null,null,null,null,null,null,null,null,null,null,null,null,null,null,null,null,null,null,null,null,{"$f":"+'%Analysis'!A117","v":0}]
[null,null,null,null,null,null,null,null,null,null,null,null,null,null,null,null,null,null,null,null,null,null,null,null,null,{"$f":"+'%Analysis'!A118","v":0}]
[null,null,null,null,null,null,null,null,null,null,null,null,null,null,null,null,null,null,null,null,null,null,null,null,null,{"$f":"+'%Analysis'!A119","v":0}]
[null,null,null,null,null,null,null,null,null,null,null,null,null,null,null,null,null,null,null,null,null,null,null,null,null,{"$f":"+'%Analysis'!A120","v":0}]
[null,null,null,null,null,null,null,null,null,null,null,null,null,null,null,null,null,null,null,null,null,null,null,null,null,{"$f":"+'%Analysis'!A121","v":0}]
[null,null,null,null,null,null,null,null,null,null,null,null,null,null,null,null,null,null,null,null,null,null,null,null,null,{"$f":"+'%Analysis'!A122","v":0}]
[null,null,null,null,null,null,null,null,null,null,null,null,null,null,null,null,null,null,null,null,null,null,null,null,null,{"$f":"+'%Analysis'!A123","v":0}]
[null,null,null,null,null,null,null,null,null,null,null,null,null,null,null,null,null,null,null,null,null,null,null,null,null,{"$f":"+'%Analysis'!A124","v":0}]
[null,null,null,null,null,null,null,null,null,null,null,null,null,null,null,null,null,null,null,null,null,null,null,null,null,{"$f":"+'%Analysis'!A125","v":0}]
[null,null,null,null,null,null,null,null,null,null,null,null,null,null,null,null,null,null,null,null,null,null,null,null,null,{"$f":"+'%Analysis'!A126","v":0}]
[null,null,null,null,null,null,null,null,null,null,null,null,null,null,null,null,null,null,null,null,null,null,null,null,null,{"$f":"+'%Analysis'!A127","v":0}]
[null,null,null,null,null,null,null,null,null,null,null,null,null,null,null,null,null,null,null,null,null,null,null,null,null,{"$f":"+'%Analysis'!A128","v":0}]
[null,null,null,null,null,null,null,null,null,null,null,null,null,null,null,null,null,null,null,null,null,null,null,null,null,{"$f":"+'%Analysis'!A129","v":0}]
[null,null,null,null,null,null,null,null,null,null,null,null,null,null,null,null,null,null,null,null,null,null,null,null,null,{"$f":"+'%Analysis'!A130","v":0}]
[null,null,null,null,null,null,null,null,null,null,null,null,null,null,null,null,null,null,null,null,null,null,null,null,null,{"$f":"+'%Analysis'!A131","v":0}]
[null,null,null,null,null,null,null,null,null,null,null,null,null,null,null,null,null,null,null,null,null,null,null,null,null,{"$f":"+'%Analysis'!A132","v":0}]
[null,null,null,null,null,null,null,null,null,null,null,null,null,null,null,null,null,null,null,null,null,null,null,null,null,{"$f":"+'%Analysis'!A133","v":0}]
[null,null,null,null,null,null,null,null,null,null,null,null,null,null,null,null,null,null,null,null,null,null,null,null,null,{"$f":"+'%Analysis'!A134","v":0}]
[null,null,null,null,null,null,null,null,null,null,null,null,null,null,null,null,null,null,null,null,null,null,null,null,null,{"$f":"+'%Analysis'!A135","v":0}]
[null,null,null,null,null,null,null,null,null,null,null,null,null,null,null,null,null,null,null,null,null,null,null,null,null,{"$f":"+'%Analysis'!A136","v":0}]
[null,"Mineral","Percent",null,null,"Tot %",null,"K2O","Na2O","Li2O","CaO","SrO","MgO","ZnO","BaO","Al2O3","Fe2O3","B2O3","SiO2","TiO2","CO2","H2O",null,null,null,{"$f":"+'%Analysis'!A137","v":0}]
[null,{"$f":"B7","v":0},0,null,null,null,null,{"$f":"IF(ISERROR(+$C136*+VLOOKUP($B136,'%Analysis'!$A$4:$S$204,4,0)),\"\",+$C136*+VLOOKUP($B136,'%Analysis'!$A$4:$S$204,4,0))","v":""},{"$f":"IF(ISERROR(+$C136*+VLOOKUP($B136,'%Analysis'!$A$4:$S$204,5,0)),\"\",+$C136*+VLOOKUP($B136,'%Analysis'!$A$4:$S$204,5,0))","v":""},{"$f":"IF(ISERROR(+$C136*+VLOOKUP($B136,'%Analysis'!$A$4:$S$204,6,0)),\"\",+$C136*+VLOOKUP($B136,'%Analysis'!$A$4:$S$204,6,0))","v":""},{"$f":"IF(ISERROR(+$C136*+VLOOKUP($B136,'%Analysis'!$A$4:$S$204,7,0)),\"\",+$C136*+VLOOKUP($B136,'%Analysis'!$A$4:$S$204,7,0))","v":""},{"$f":"IF(ISERROR(+$C136*+VLOOKUP($B136,'%Analysis'!$A$4:$S$204,8,0)),\"\",+$C136*+VLOOKUP($B136,'%Analysis'!$A$4:$S$204,8,0))","v":""},{"$f":"IF(ISERROR(+$C136*+VLOOKUP($B136,'%Analysis'!$A$4:$S$204,9,0)),\"\",+$C136*+VLOOKUP($B136,'%Analysis'!$A$4:$S$204,9,0))","v":""},{"$f":"IF(ISERROR(+$C136*+VLOOKUP($B136,'%Analysis'!$A$4:$S$204,10,0)),\"\",+$C136*+VLOOKUP($B136,'%Analysis'!$A$4:$S$204,10,0))","v":""},{"$f":"IF(ISERROR(+$C136*+VLOOKUP($B136,'%Analysis'!$A$4:$S$204,11,0)),\"\",+$C136*+VLOOKUP($B136,'%Analysis'!$A$4:$S$204,11,0))","v":""},{"$f":"IF(ISERROR(+$C136*+VLOOKUP($B136,'%Analysis'!$A$4:$S$204,12,0)),\"\",+$C136*+VLOOKUP($B136,'%Analysis'!$A$4:$S$204,12,0))","v":""},{"$f":"IF(ISERROR(+$C136*+VLOOKUP($B136,'%Analysis'!$A$4:$S$204,13,0)),\"\",+$C136*+VLOOKUP($B136,'%Analysis'!$A$4:$S$204,13,0))","v":""},{"$f":"IF(ISERROR(+$C136*+VLOOKUP($B136,'%Analysis'!$A$4:$S$204,14,0)),\"\",+$C136*+VLOOKUP($B136,'%Analysis'!$A$4:$S$204,14,0))","v":""},{"$f":"IF(ISERROR(+$C136*+VLOOKUP($B136,'%Analysis'!$A$4:$S$204,15,0)),\"\",+$C136*+VLOOKUP($B136,'%Analysis'!$A$4:$S$204,15,0))","v":""},{"$f":"IF(ISERROR(+$C136*+VLOOKUP($B136,'%Analysis'!$A$4:$S$204,16,0)),\"\",+$C136*+VLOOKUP($B136,'%Analysis'!$A$4:$S$204,16,0))","v":""},{"$f":"IF(ISERROR(+$C136*+VLOOKUP($B136,'%Analysis'!$A$4:$S$204,17,0)),\"\",+$C136*+VLOOKUP($B136,'%Analysis'!$A$4:$S$204,17,0))","v":""},{"$f":"IF(ISERROR(+$C136*+VLOOKUP($B136,'%Analysis'!$A$4:$S$204,18,0)),\"\",+$C136*+VLOOKUP($B136,'%Analysis'!$A$4:$S$204,18,0))","v":""},null,null,null,{"$f":"+'%Analysis'!A138","v":0}]
[null,0,0,null,null,null,null,{"$f":"IF(ISERROR(+$C137*+VLOOKUP($B137,'%Analysis'!$A$4:$S$204,4,0)),\"\",+$C137*+VLOOKUP($B137,'%Analysis'!$A$4:$S$204,4,0))","v":""},{"$f":"IF(ISERROR(+$C137*+VLOOKUP($B137,'%Analysis'!$A$4:$S$204,5,0)),\"\",+$C137*+VLOOKUP($B137,'%Analysis'!$A$4:$S$204,5,0))","v":""},{"$f":"IF(ISERROR(+$C137*+VLOOKUP($B137,'%Analysis'!$A$4:$S$204,6,0)),\"\",+$C137*+VLOOKUP($B137,'%Analysis'!$A$4:$S$204,6,0))","v":""},{"$f":"IF(ISERROR(+$C137*+VLOOKUP($B137,'%Analysis'!$A$4:$S$204,7,0)),\"\",+$C137*+VLOOKUP($B137,'%Analysis'!$A$4:$S$204,7,0))","v":""},{"$f":"IF(ISERROR(+$C137*+VLOOKUP($B137,'%Analysis'!$A$4:$S$204,8,0)),\"\",+$C137*+VLOOKUP($B137,'%Analysis'!$A$4:$S$204,8,0))","v":""},{"$f":"IF(ISERROR(+$C137*+VLOOKUP($B137,'%Analysis'!$A$4:$S$204,9,0)),\"\",+$C137*+VLOOKUP($B137,'%Analysis'!$A$4:$S$204,9,0))","v":""},{"$f":"IF(ISERROR(+$C137*+VLOOKUP($B137,'%Analysis'!$A$4:$S$204,10,0)),\"\",+$C137*+VLOOKUP($B137,'%Analysis'!$A$4:$S$204,10,0))","v":""},{"$f":"IF(ISERROR(+$C137*+VLOOKUP($B137,'%Analysis'!$A$4:$S$204,11,0)),\"\",+$C137*+VLOOKUP($B137,'%Analysis'!$A$4:$S$204,11,0))","v":""},{"$f":"IF(ISERROR(+$C137*+VLOOKUP($B137,'%Analysis'!$A$4:$S$204,12,0)),\"\",+$C137*+VLOOKUP($B137,'%Analysis'!$A$4:$S$204,12,0))","v":""},{"$f":"IF(ISERROR(+$C137*+VLOOKUP($B137,'%Analysis'!$A$4:$S$204,13,0)),\"\",+$C137*+VLOOKUP($B137,'%Analysis'!$A$4:$S$204,13,0))","v":""},{"$f":"IF(ISERROR(+$C137*+VLOOKUP($B137,'%Analysis'!$A$4:$S$204,14,0)),\"\",+$C137*+VLOOKUP($B137,'%Analysis'!$A$4:$S$204,14,0))","v":""},{"$f":"IF(ISERROR(+$C137*+VLOOKUP($B137,'%Analysis'!$A$4:$S$204,15,0)),\"\",+$C137*+VLOOKUP($B137,'%Analysis'!$A$4:$S$204,15,0))","v":""},{"$f":"IF(ISERROR(+$C137*+VLOOKUP($B137,'%Analysis'!$A$4:$S$204,16,0)),\"\",+$C137*+VLOOKUP($B137,'%Analysis'!$A$4:$S$204,16,0))","v":""},{"$f":"IF(ISERROR(+$C137*+VLOOKUP($B137,'%Analysis'!$A$4:$S$204,17,0)),\"\",+$C137*+VLOOKUP($B137,'%Analysis'!$A$4:$S$204,17,0))","v":""},{"$f":"IF(ISERROR(+$C137*+VLOOKUP($B137,'%Analysis'!$A$4:$S$204,18,0)),\"\",+$C137*+VLOOKUP($B137,'%Analysis'!$A$4:$S$204,18,0))","v":""},null,null,null,{"$f":"+'%Analysis'!A139","v":0}]
[null,0,0,null,null,null,null,{"$f":"IF(ISERROR(+$C138*+VLOOKUP($B138,'%Analysis'!$A$4:$S$204,4,0)),\"\",+$C138*+VLOOKUP($B138,'%Analysis'!$A$4:$S$204,4,0))","v":""},{"$f":"IF(ISERROR(+$C138*+VLOOKUP($B138,'%Analysis'!$A$4:$S$204,5,0)),\"\",+$C138*+VLOOKUP($B138,'%Analysis'!$A$4:$S$204,5,0))","v":""},{"$f":"IF(ISERROR(+$C138*+VLOOKUP($B138,'%Analysis'!$A$4:$S$204,6,0)),\"\",+$C138*+VLOOKUP($B138,'%Analysis'!$A$4:$S$204,6,0))","v":""},{"$f":"IF(ISERROR(+$C138*+VLOOKUP($B138,'%Analysis'!$A$4:$S$204,7,0)),\"\",+$C138*+VLOOKUP($B138,'%Analysis'!$A$4:$S$204,7,0))","v":""},{"$f":"IF(ISERROR(+$C138*+VLOOKUP($B138,'%Analysis'!$A$4:$S$204,8,0)),\"\",+$C138*+VLOOKUP($B138,'%Analysis'!$A$4:$S$204,8,0))","v":""},{"$f":"IF(ISERROR(+$C138*+VLOOKUP($B138,'%Analysis'!$A$4:$S$204,9,0)),\"\",+$C138*+VLOOKUP($B138,'%Analysis'!$A$4:$S$204,9,0))","v":""},{"$f":"IF(ISERROR(+$C138*+VLOOKUP($B138,'%Analysis'!$A$4:$S$204,10,0)),\"\",+$C138*+VLOOKUP($B138,'%Analysis'!$A$4:$S$204,10,0))","v":""},{"$f":"IF(ISERROR(+$C138*+VLOOKUP($B138,'%Analysis'!$A$4:$S$204,11,0)),\"\",+$C138*+VLOOKUP($B138,'%Analysis'!$A$4:$S$204,11,0))","v":""},{"$f":"IF(ISERROR(+$C138*+VLOOKUP($B138,'%Analysis'!$A$4:$S$204,12,0)),\"\",+$C138*+VLOOKUP($B138,'%Analysis'!$A$4:$S$204,12,0))","v":""},{"$f":"IF(ISERROR(+$C138*+VLOOKUP($B138,'%Analysis'!$A$4:$S$204,13,0)),\"\",+$C138*+VLOOKUP($B138,'%Analysis'!$A$4:$S$204,13,0))","v":""},{"$f":"IF(ISERROR(+$C138*+VLOOKUP($B138,'%Analysis'!$A$4:$S$204,14,0)),\"\",+$C138*+VLOOKUP($B138,'%Analysis'!$A$4:$S$204,14,0))","v":""},{"$f":"IF(ISERROR(+$C138*+VLOOKUP($B138,'%Analysis'!$A$4:$S$204,15,0)),\"\",+$C138*+VLOOKUP($B138,'%Analysis'!$A$4:$S$204,15,0))","v":""},{"$f":"IF(ISERROR(+$C138*+VLOOKUP($B138,'%Analysis'!$A$4:$S$204,16,0)),\"\",+$C138*+VLOOKUP($B138,'%Analysis'!$A$4:$S$204,16,0))","v":""},{"$f":"IF(ISERROR(+$C138*+VLOOKUP($B138,'%Analysis'!$A$4:$S$204,17,0)),\"\",+$C138*+VLOOKUP($B138,'%Analysis'!$A$4:$S$204,17,0))","v":""},{"$f":"IF(ISERROR(+$C138*+VLOOKUP($B138,'%Analysis'!$A$4:$S$204,18,0)),\"\",+$C138*+VLOOKUP($B138,'%Analysis'!$A$4:$S$204,18,0))","v":""},null,null,null,{"$f":"+'%Analysis'!A140","v":0}]
[null,0,0,null,null,null,null,{"$f":"IF(ISERROR(+$C139*+VLOOKUP($B139,'%Analysis'!$A$4:$S$204,4,0)),\"\",+$C139*+VLOOKUP($B139,'%Analysis'!$A$4:$S$204,4,0))","v":""},{"$f":"IF(ISERROR(+$C139*+VLOOKUP($B139,'%Analysis'!$A$4:$S$204,5,0)),\"\",+$C139*+VLOOKUP($B139,'%Analysis'!$A$4:$S$204,5,0))","v":""},{"$f":"IF(ISERROR(+$C139*+VLOOKUP($B139,'%Analysis'!$A$4:$S$204,6,0)),\"\",+$C139*+VLOOKUP($B139,'%Analysis'!$A$4:$S$204,6,0))","v":""},{"$f":"IF(ISERROR(+$C139*+VLOOKUP($B139,'%Analysis'!$A$4:$S$204,7,0)),\"\",+$C139*+VLOOKUP($B139,'%Analysis'!$A$4:$S$204,7,0))","v":""},{"$f":"IF(ISERROR(+$C139*+VLOOKUP($B139,'%Analysis'!$A$4:$S$204,8,0)),\"\",+$C139*+VLOOKUP($B139,'%Analysis'!$A$4:$S$204,8,0))","v":""},{"$f":"IF(ISERROR(+$C139*+VLOOKUP($B139,'%Analysis'!$A$4:$S$204,9,0)),\"\",+$C139*+VLOOKUP($B139,'%Analysis'!$A$4:$S$204,9,0))","v":""},{"$f":"IF(ISERROR(+$C139*+VLOOKUP($B139,'%Analysis'!$A$4:$S$204,10,0)),\"\",+$C139*+VLOOKUP($B139,'%Analysis'!$A$4:$S$204,10,0))","v":""},{"$f":"IF(ISERROR(+$C139*+VLOOKUP($B139,'%Analysis'!$A$4:$S$204,11,0)),\"\",+$C139*+VLOOKUP($B139,'%Analysis'!$A$4:$S$204,11,0))","v":""},{"$f":"IF(ISERROR(+$C139*+VLOOKUP($B139,'%Analysis'!$A$4:$S$204,12,0)),\"\",+$C139*+VLOOKUP($B139,'%Analysis'!$A$4:$S$204,12,0))","v":""},{"$f":"IF(ISERROR(+$C139*+VLOOKUP($B139,'%Analysis'!$A$4:$S$204,13,0)),\"\",+$C139*+VLOOKUP($B139,'%Analysis'!$A$4:$S$204,13,0))","v":""},{"$f":"IF(ISERROR(+$C139*+VLOOKUP($B139,'%Analysis'!$A$4:$S$204,14,0)),\"\",+$C139*+VLOOKUP($B139,'%Analysis'!$A$4:$S$204,14,0))","v":""},{"$f":"IF(ISERROR(+$C139*+VLOOKUP($B139,'%Analysis'!$A$4:$S$204,15,0)),\"\",+$C139*+VLOOKUP($B139,'%Analysis'!$A$4:$S$204,15,0))","v":""},{"$f":"IF(ISERROR(+$C139*+VLOOKUP($B139,'%Analysis'!$A$4:$S$204,16,0)),\"\",+$C139*+VLOOKUP($B139,'%Analysis'!$A$4:$S$204,16,0))","v":""},{"$f":"IF(ISERROR(+$C139*+VLOOKUP($B139,'%Analysis'!$A$4:$S$204,17,0)),\"\",+$C139*+VLOOKUP($B139,'%Analysis'!$A$4:$S$204,17,0))","v":""},{"$f":"IF(ISERROR(+$C139*+VLOOKUP($B139,'%Analysis'!$A$4:$S$204,18,0)),\"\",+$C139*+VLOOKUP($B139,'%Analysis'!$A$4:$S$204,18,0))","v":""},null,null,null,{"$f":"+'%Analysis'!A141","v":0}]
[null,0,0,null,null,null,null,{"$f":"IF(ISERROR(+$C140*+VLOOKUP($B140,'%Analysis'!$A$4:$S$204,4,0)),\"\",+$C140*+VLOOKUP($B140,'%Analysis'!$A$4:$S$204,4,0))","v":""},{"$f":"IF(ISERROR(+$C140*+VLOOKUP($B140,'%Analysis'!$A$4:$S$204,5,0)),\"\",+$C140*+VLOOKUP($B140,'%Analysis'!$A$4:$S$204,5,0))","v":""},{"$f":"IF(ISERROR(+$C140*+VLOOKUP($B140,'%Analysis'!$A$4:$S$204,6,0)),\"\",+$C140*+VLOOKUP($B140,'%Analysis'!$A$4:$S$204,6,0))","v":""},{"$f":"IF(ISERROR(+$C140*+VLOOKUP($B140,'%Analysis'!$A$4:$S$204,7,0)),\"\",+$C140*+VLOOKUP($B140,'%Analysis'!$A$4:$S$204,7,0))","v":""},{"$f":"IF(ISERROR(+$C140*+VLOOKUP($B140,'%Analysis'!$A$4:$S$204,8,0)),\"\",+$C140*+VLOOKUP($B140,'%Analysis'!$A$4:$S$204,8,0))","v":""},{"$f":"IF(ISERROR(+$C140*+VLOOKUP($B140,'%Analysis'!$A$4:$S$204,9,0)),\"\",+$C140*+VLOOKUP($B140,'%Analysis'!$A$4:$S$204,9,0))","v":""},{"$f":"IF(ISERROR(+$C140*+VLOOKUP($B140,'%Analysis'!$A$4:$S$204,10,0)),\"\",+$C140*+VLOOKUP($B140,'%Analysis'!$A$4:$S$204,10,0))","v":""},{"$f":"IF(ISERROR(+$C140*+VLOOKUP($B140,'%Analysis'!$A$4:$S$204,11,0)),\"\",+$C140*+VLOOKUP($B140,'%Analysis'!$A$4:$S$204,11,0))","v":""},{"$f":"IF(ISERROR(+$C140*+VLOOKUP($B140,'%Analysis'!$A$4:$S$204,12,0)),\"\",+$C140*+VLOOKUP($B140,'%Analysis'!$A$4:$S$204,12,0))","v":""},{"$f":"IF(ISERROR(+$C140*+VLOOKUP($B140,'%Analysis'!$A$4:$S$204,13,0)),\"\",+$C140*+VLOOKUP($B140,'%Analysis'!$A$4:$S$204,13,0))","v":""},{"$f":"IF(ISERROR(+$C140*+VLOOKUP($B140,'%Analysis'!$A$4:$S$204,14,0)),\"\",+$C140*+VLOOKUP($B140,'%Analysis'!$A$4:$S$204,14,0))","v":""},{"$f":"IF(ISERROR(+$C140*+VLOOKUP($B140,'%Analysis'!$A$4:$S$204,15,0)),\"\",+$C140*+VLOOKUP($B140,'%Analysis'!$A$4:$S$204,15,0))","v":""},{"$f":"IF(ISERROR(+$C140*+VLOOKUP($B140,'%Analysis'!$A$4:$S$204,16,0)),\"\",+$C140*+VLOOKUP($B140,'%Analysis'!$A$4:$S$204,16,0))","v":""},{"$f":"IF(ISERROR(+$C140*+VLOOKUP($B140,'%Analysis'!$A$4:$S$204,17,0)),\"\",+$C140*+VLOOKUP($B140,'%Analysis'!$A$4:$S$204,17,0))","v":""},{"$f":"IF(ISERROR(+$C140*+VLOOKUP($B140,'%Analysis'!$A$4:$S$204,18,0)),\"\",+$C140*+VLOOKUP($B140,'%Analysis'!$A$4:$S$204,18,0))","v":""},null,null,null,{"$f":"+'%Analysis'!A142","v":0}]
[null,0,0,null,null,null,null,{"$f":"IF(ISERROR(+$C141*+VLOOKUP($B141,'%Analysis'!$A$4:$S$204,4,0)),\"\",+$C141*+VLOOKUP($B141,'%Analysis'!$A$4:$S$204,4,0))","v":""},{"$f":"IF(ISERROR(+$C141*+VLOOKUP($B141,'%Analysis'!$A$4:$S$204,5,0)),\"\",+$C141*+VLOOKUP($B141,'%Analysis'!$A$4:$S$204,5,0))","v":""},{"$f":"IF(ISERROR(+$C141*+VLOOKUP($B141,'%Analysis'!$A$4:$S$204,6,0)),\"\",+$C141*+VLOOKUP($B141,'%Analysis'!$A$4:$S$204,6,0))","v":""},{"$f":"IF(ISERROR(+$C141*+VLOOKUP($B141,'%Analysis'!$A$4:$S$204,7,0)),\"\",+$C141*+VLOOKUP($B141,'%Analysis'!$A$4:$S$204,7,0))","v":""},{"$f":"IF(ISERROR(+$C141*+VLOOKUP($B141,'%Analysis'!$A$4:$S$204,8,0)),\"\",+$C141*+VLOOKUP($B141,'%Analysis'!$A$4:$S$204,8,0))","v":""},{"$f":"IF(ISERROR(+$C141*+VLOOKUP($B141,'%Analysis'!$A$4:$S$204,9,0)),\"\",+$C141*+VLOOKUP($B141,'%Analysis'!$A$4:$S$204,9,0))","v":""},{"$f":"IF(ISERROR(+$C141*+VLOOKUP($B141,'%Analysis'!$A$4:$S$204,10,0)),\"\",+$C141*+VLOOKUP($B141,'%Analysis'!$A$4:$S$204,10,0))","v":""},{"$f":"IF(ISERROR(+$C141*+VLOOKUP($B141,'%Analysis'!$A$4:$S$204,11,0)),\"\",+$C141*+VLOOKUP($B141,'%Analysis'!$A$4:$S$204,11,0))","v":""},{"$f":"IF(ISERROR(+$C141*+VLOOKUP($B141,'%Analysis'!$A$4:$S$204,12,0)),\"\",+$C141*+VLOOKUP($B141,'%Analysis'!$A$4:$S$204,12,0))","v":""},{"$f":"IF(ISERROR(+$C141*+VLOOKUP($B141,'%Analysis'!$A$4:$S$204,13,0)),\"\",+$C141*+VLOOKUP($B141,'%Analysis'!$A$4:$S$204,13,0))","v":""},{"$f":"IF(ISERROR(+$C141*+VLOOKUP($B141,'%Analysis'!$A$4:$S$204,14,0)),\"\",+$C141*+VLOOKUP($B141,'%Analysis'!$A$4:$S$204,14,0))","v":""},{"$f":"IF(ISERROR(+$C141*+VLOOKUP($B141,'%Analysis'!$A$4:$S$204,15,0)),\"\",+$C141*+VLOOKUP($B141,'%Analysis'!$A$4:$S$204,15,0))","v":""},{"$f":"IF(ISERROR(+$C141*+VLOOKUP($B141,'%Analysis'!$A$4:$S$204,16,0)),\"\",+$C141*+VLOOKUP($B141,'%Analysis'!$A$4:$S$204,16,0))","v":""},{"$f":"IF(ISERROR(+$C141*+VLOOKUP($B141,'%Analysis'!$A$4:$S$204,17,0)),\"\",+$C141*+VLOOKUP($B141,'%Analysis'!$A$4:$S$204,17,0))","v":""},{"$f":"IF(ISERROR(+$C141*+VLOOKUP($B141,'%Analysis'!$A$4:$S$204,18,0)),\"\",+$C141*+VLOOKUP($B141,'%Analysis'!$A$4:$S$204,18,0))","v":""},null,null,null,{"$f":"+'%Analysis'!A143","v":0}]
[null,0,0,null,null,null,null,{"$f":"IF(ISERROR(+$C142*+VLOOKUP($B142,'%Analysis'!$A$4:$S$204,4,0)),\"\",+$C142*+VLOOKUP($B142,'%Analysis'!$A$4:$S$204,4,0))","v":""},{"$f":"IF(ISERROR(+$C142*+VLOOKUP($B142,'%Analysis'!$A$4:$S$204,5,0)),\"\",+$C142*+VLOOKUP($B142,'%Analysis'!$A$4:$S$204,5,0))","v":""},{"$f":"IF(ISERROR(+$C142*+VLOOKUP($B142,'%Analysis'!$A$4:$S$204,6,0)),\"\",+$C142*+VLOOKUP($B142,'%Analysis'!$A$4:$S$204,6,0))","v":""},{"$f":"IF(ISERROR(+$C142*+VLOOKUP($B142,'%Analysis'!$A$4:$S$204,7,0)),\"\",+$C142*+VLOOKUP($B142,'%Analysis'!$A$4:$S$204,7,0))","v":""},{"$f":"IF(ISERROR(+$C142*+VLOOKUP($B142,'%Analysis'!$A$4:$S$204,8,0)),\"\",+$C142*+VLOOKUP($B142,'%Analysis'!$A$4:$S$204,8,0))","v":""},{"$f":"IF(ISERROR(+$C142*+VLOOKUP($B142,'%Analysis'!$A$4:$S$204,9,0)),\"\",+$C142*+VLOOKUP($B142,'%Analysis'!$A$4:$S$204,9,0))","v":""},{"$f":"IF(ISERROR(+$C142*+VLOOKUP($B142,'%Analysis'!$A$4:$S$204,10,0)),\"\",+$C142*+VLOOKUP($B142,'%Analysis'!$A$4:$S$204,10,0))","v":""},{"$f":"IF(ISERROR(+$C142*+VLOOKUP($B142,'%Analysis'!$A$4:$S$204,11,0)),\"\",+$C142*+VLOOKUP($B142,'%Analysis'!$A$4:$S$204,11,0))","v":""},{"$f":"IF(ISERROR(+$C142*+VLOOKUP($B142,'%Analysis'!$A$4:$S$204,12,0)),\"\",+$C142*+VLOOKUP($B142,'%Analysis'!$A$4:$S$204,12,0))","v":""},{"$f":"IF(ISERROR(+$C142*+VLOOKUP($B142,'%Analysis'!$A$4:$S$204,13,0)),\"\",+$C142*+VLOOKUP($B142,'%Analysis'!$A$4:$S$204,13,0))","v":""},{"$f":"IF(ISERROR(+$C142*+VLOOKUP($B142,'%Analysis'!$A$4:$S$204,14,0)),\"\",+$C142*+VLOOKUP($B142,'%Analysis'!$A$4:$S$204,14,0))","v":""},{"$f":"IF(ISERROR(+$C142*+VLOOKUP($B142,'%Analysis'!$A$4:$S$204,15,0)),\"\",+$C142*+VLOOKUP($B142,'%Analysis'!$A$4:$S$204,15,0))","v":""},{"$f":"IF(ISERROR(+$C142*+VLOOKUP($B142,'%Analysis'!$A$4:$S$204,16,0)),\"\",+$C142*+VLOOKUP($B142,'%Analysis'!$A$4:$S$204,16,0))","v":""},{"$f":"IF(ISERROR(+$C142*+VLOOKUP($B142,'%Analysis'!$A$4:$S$204,17,0)),\"\",+$C142*+VLOOKUP($B142,'%Analysis'!$A$4:$S$204,17,0))","v":""},{"$f":"IF(ISERROR(+$C142*+VLOOKUP($B142,'%Analysis'!$A$4:$S$204,18,0)),\"\",+$C142*+VLOOKUP($B142,'%Analysis'!$A$4:$S$204,18,0))","v":""},null,null,null,{"$f":"+'%Analysis'!A144","v":0}]
[null,0,0,null,null,null,null,{"$f":"IF(ISERROR(+$C143*+VLOOKUP($B143,'%Analysis'!$A$4:$S$204,4,0)),\"\",+$C143*+VLOOKUP($B143,'%Analysis'!$A$4:$S$204,4,0))","v":""},{"$f":"IF(ISERROR(+$C143*+VLOOKUP($B143,'%Analysis'!$A$4:$S$204,5,0)),\"\",+$C143*+VLOOKUP($B143,'%Analysis'!$A$4:$S$204,5,0))","v":""},{"$f":"IF(ISERROR(+$C143*+VLOOKUP($B143,'%Analysis'!$A$4:$S$204,6,0)),\"\",+$C143*+VLOOKUP($B143,'%Analysis'!$A$4:$S$204,6,0))","v":""},{"$f":"IF(ISERROR(+$C143*+VLOOKUP($B143,'%Analysis'!$A$4:$S$204,7,0)),\"\",+$C143*+VLOOKUP($B143,'%Analysis'!$A$4:$S$204,7,0))","v":""},{"$f":"IF(ISERROR(+$C143*+VLOOKUP($B143,'%Analysis'!$A$4:$S$204,8,0)),\"\",+$C143*+VLOOKUP($B143,'%Analysis'!$A$4:$S$204,8,0))","v":""},{"$f":"IF(ISERROR(+$C143*+VLOOKUP($B143,'%Analysis'!$A$4:$S$204,9,0)),\"\",+$C143*+VLOOKUP($B143,'%Analysis'!$A$4:$S$204,9,0))","v":""},{"$f":"IF(ISERROR(+$C143*+VLOOKUP($B143,'%Analysis'!$A$4:$S$204,10,0)),\"\",+$C143*+VLOOKUP($B143,'%Analysis'!$A$4:$S$204,10,0))","v":""},{"$f":"IF(ISERROR(+$C143*+VLOOKUP($B143,'%Analysis'!$A$4:$S$204,11,0)),\"\",+$C143*+VLOOKUP($B143,'%Analysis'!$A$4:$S$204,11,0))","v":""},{"$f":"IF(ISERROR(+$C143*+VLOOKUP($B143,'%Analysis'!$A$4:$S$204,12,0)),\"\",+$C143*+VLOOKUP($B143,'%Analysis'!$A$4:$S$204,12,0))","v":""},{"$f":"IF(ISERROR(+$C143*+VLOOKUP($B143,'%Analysis'!$A$4:$S$204,13,0)),\"\",+$C143*+VLOOKUP($B143,'%Analysis'!$A$4:$S$204,13,0))","v":""},{"$f":"IF(ISERROR(+$C143*+VLOOKUP($B143,'%Analysis'!$A$4:$S$204,14,0)),\"\",+$C143*+VLOOKUP($B143,'%Analysis'!$A$4:$S$204,14,0))","v":""},{"$f":"IF(ISERROR(+$C143*+VLOOKUP($B143,'%Analysis'!$A$4:$S$204,15,0)),\"\",+$C143*+VLOOKUP($B143,'%Analysis'!$A$4:$S$204,15,0))","v":""},{"$f":"IF(ISERROR(+$C143*+VLOOKUP($B143,'%Analysis'!$A$4:$S$204,16,0)),\"\",+$C143*+VLOOKUP($B143,'%Analysis'!$A$4:$S$204,16,0))","v":""},{"$f":"IF(ISERROR(+$C143*+VLOOKUP($B143,'%Analysis'!$A$4:$S$204,17,0)),\"\",+$C143*+VLOOKUP($B143,'%Analysis'!$A$4:$S$204,17,0))","v":""},{"$f":"IF(ISERROR(+$C143*+VLOOKUP($B143,'%Analysis'!$A$4:$S$204,18,0)),\"\",+$C143*+VLOOKUP($B143,'%Analysis'!$A$4:$S$204,18,0))","v":""},null,null,null,{"$f":"+'%Analysis'!A145","v":0}]
[null,0,0,null,null,null,null,{"$f":"IF(ISERROR(+$C144*+VLOOKUP($B144,'%Analysis'!$A$4:$S$204,4,0)),\"\",+$C144*+VLOOKUP($B144,'%Analysis'!$A$4:$S$204,4,0))","v":""},{"$f":"IF(ISERROR(+$C144*+VLOOKUP($B144,'%Analysis'!$A$4:$S$204,5,0)),\"\",+$C144*+VLOOKUP($B144,'%Analysis'!$A$4:$S$204,5,0))","v":""},{"$f":"IF(ISERROR(+$C144*+VLOOKUP($B144,'%Analysis'!$A$4:$S$204,6,0)),\"\",+$C144*+VLOOKUP($B144,'%Analysis'!$A$4:$S$204,6,0))","v":""},{"$f":"IF(ISERROR(+$C144*+VLOOKUP($B144,'%Analysis'!$A$4:$S$204,7,0)),\"\",+$C144*+VLOOKUP($B144,'%Analysis'!$A$4:$S$204,7,0))","v":""},{"$f":"IF(ISERROR(+$C144*+VLOOKUP($B144,'%Analysis'!$A$4:$S$204,8,0)),\"\",+$C144*+VLOOKUP($B144,'%Analysis'!$A$4:$S$204,8,0))","v":""},{"$f":"IF(ISERROR(+$C144*+VLOOKUP($B144,'%Analysis'!$A$4:$S$204,9,0)),\"\",+$C144*+VLOOKUP($B144,'%Analysis'!$A$4:$S$204,9,0))","v":""},{"$f":"IF(ISERROR(+$C144*+VLOOKUP($B144,'%Analysis'!$A$4:$S$204,10,0)),\"\",+$C144*+VLOOKUP($B144,'%Analysis'!$A$4:$S$204,10,0))","v":""},{"$f":"IF(ISERROR(+$C144*+VLOOKUP($B144,'%Analysis'!$A$4:$S$204,11,0)),\"\",+$C144*+VLOOKUP($B144,'%Analysis'!$A$4:$S$204,11,0))","v":""},{"$f":"IF(ISERROR(+$C144*+VLOOKUP($B144,'%Analysis'!$A$4:$S$204,12,0)),\"\",+$C144*+VLOOKUP($B144,'%Analysis'!$A$4:$S$204,12,0))","v":""},{"$f":"IF(ISERROR(+$C144*+VLOOKUP($B144,'%Analysis'!$A$4:$S$204,13,0)),\"\",+$C144*+VLOOKUP($B144,'%Analysis'!$A$4:$S$204,13,0))","v":""},{"$f":"IF(ISERROR(+$C144*+VLOOKUP($B144,'%Analysis'!$A$4:$S$204,14,0)),\"\",+$C144*+VLOOKUP($B144,'%Analysis'!$A$4:$S$204,14,0))","v":""},{"$f":"IF(ISERROR(+$C144*+VLOOKUP($B144,'%Analysis'!$A$4:$S$204,15,0)),\"\",+$C144*+VLOOKUP($B144,'%Analysis'!$A$4:$S$204,15,0))","v":""},{"$f":"IF(ISERROR(+$C144*+VLOOKUP($B144,'%Analysis'!$A$4:$S$204,16,0)),\"\",+$C144*+VLOOKUP($B144,'%Analysis'!$A$4:$S$204,16,0))","v":""},{"$f":"IF(ISERROR(+$C144*+VLOOKUP($B144,'%Analysis'!$A$4:$S$204,17,0)),\"\",+$C144*+VLOOKUP($B144,'%Analysis'!$A$4:$S$204,17,0))","v":""},{"$f":"IF(ISERROR(+$C144*+VLOOKUP($B144,'%Analysis'!$A$4:$S$204,18,0)),\"\",+$C144*+VLOOKUP($B144,'%Analysis'!$A$4:$S$204,18,0))","v":""},null,null,null,{"$f":"+'%Analysis'!A146","v":0}]
[null,0,0,null,null,null,null,{"$f":"IF(ISERROR(+$C145*+VLOOKUP($B145,'%Analysis'!$A$4:$S$204,4,0)),\"\",+$C145*+VLOOKUP($B145,'%Analysis'!$A$4:$S$204,4,0))","v":""},{"$f":"IF(ISERROR(+$C145*+VLOOKUP($B145,'%Analysis'!$A$4:$S$204,5,0)),\"\",+$C145*+VLOOKUP($B145,'%Analysis'!$A$4:$S$204,5,0))","v":""},{"$f":"IF(ISERROR(+$C145*+VLOOKUP($B145,'%Analysis'!$A$4:$S$204,6,0)),\"\",+$C145*+VLOOKUP($B145,'%Analysis'!$A$4:$S$204,6,0))","v":""},{"$f":"IF(ISERROR(+$C145*+VLOOKUP($B145,'%Analysis'!$A$4:$S$204,7,0)),\"\",+$C145*+VLOOKUP($B145,'%Analysis'!$A$4:$S$204,7,0))","v":""},{"$f":"IF(ISERROR(+$C145*+VLOOKUP($B145,'%Analysis'!$A$4:$S$204,8,0)),\"\",+$C145*+VLOOKUP($B145,'%Analysis'!$A$4:$S$204,8,0))","v":""},{"$f":"IF(ISERROR(+$C145*+VLOOKUP($B145,'%Analysis'!$A$4:$S$204,9,0)),\"\",+$C145*+VLOOKUP($B145,'%Analysis'!$A$4:$S$204,9,0))","v":""},{"$f":"IF(ISERROR(+$C145*+VLOOKUP($B145,'%Analysis'!$A$4:$S$204,10,0)),\"\",+$C145*+VLOOKUP($B145,'%Analysis'!$A$4:$S$204,10,0))","v":""},{"$f":"IF(ISERROR(+$C145*+VLOOKUP($B145,'%Analysis'!$A$4:$S$204,11,0)),\"\",+$C145*+VLOOKUP($B145,'%Analysis'!$A$4:$S$204,11,0))","v":""},{"$f":"IF(ISERROR(+$C145*+VLOOKUP($B145,'%Analysis'!$A$4:$S$204,12,0)),\"\",+$C145*+VLOOKUP($B145,'%Analysis'!$A$4:$S$204,12,0))","v":""},{"$f":"IF(ISERROR(+$C145*+VLOOKUP($B145,'%Analysis'!$A$4:$S$204,13,0)),\"\",+$C145*+VLOOKUP($B145,'%Analysis'!$A$4:$S$204,13,0))","v":""},{"$f":"IF(ISERROR(+$C145*+VLOOKUP($B145,'%Analysis'!$A$4:$S$204,14,0)),\"\",+$C145*+VLOOKUP($B145,'%Analysis'!$A$4:$S$204,14,0))","v":""},{"$f":"IF(ISERROR(+$C145*+VLOOKUP($B145,'%Analysis'!$A$4:$S$204,15,0)),\"\",+$C145*+VLOOKUP($B145,'%Analysis'!$A$4:$S$204,15,0))","v":""},{"$f":"IF(ISERROR(+$C145*+VLOOKUP($B145,'%Analysis'!$A$4:$S$204,16,0)),\"\",+$C145*+VLOOKUP($B145,'%Analysis'!$A$4:$S$204,16,0))","v":""},{"$f":"IF(ISERROR(+$C145*+VLOOKUP($B145,'%Analysis'!$A$4:$S$204,17,0)),\"\",+$C145*+VLOOKUP($B145,'%Analysis'!$A$4:$S$204,17,0))","v":""},{"$f":"IF(ISERROR(+$C145*+VLOOKUP($B145,'%Analysis'!$A$4:$S$204,18,0)),\"\",+$C145*+VLOOKUP($B145,'%Analysis'!$A$4:$S$204,18,0))","v":""},null,null,null,{"$f":"+'%Analysis'!A147","v":0}]
[null,0,0,null,null,null,null,{"$f":"IF(ISERROR(+$C146*+VLOOKUP($B146,'%Analysis'!$A$4:$S$204,4,0)),\"\",+$C146*+VLOOKUP($B146,'%Analysis'!$A$4:$S$204,4,0))","v":""},{"$f":"IF(ISERROR(+$C146*+VLOOKUP($B146,'%Analysis'!$A$4:$S$204,5,0)),\"\",+$C146*+VLOOKUP($B146,'%Analysis'!$A$4:$S$204,5,0))","v":""},{"$f":"IF(ISERROR(+$C146*+VLOOKUP($B146,'%Analysis'!$A$4:$S$204,6,0)),\"\",+$C146*+VLOOKUP($B146,'%Analysis'!$A$4:$S$204,6,0))","v":""},{"$f":"IF(ISERROR(+$C146*+VLOOKUP($B146,'%Analysis'!$A$4:$S$204,7,0)),\"\",+$C146*+VLOOKUP($B146,'%Analysis'!$A$4:$S$204,7,0))","v":""},{"$f":"IF(ISERROR(+$C146*+VLOOKUP($B146,'%Analysis'!$A$4:$S$204,8,0)),\"\",+$C146*+VLOOKUP($B146,'%Analysis'!$A$4:$S$204,8,0))","v":""},{"$f":"IF(ISERROR(+$C146*+VLOOKUP($B146,'%Analysis'!$A$4:$S$204,9,0)),\"\",+$C146*+VLOOKUP($B146,'%Analysis'!$A$4:$S$204,9,0))","v":""},{"$f":"IF(ISERROR(+$C146*+VLOOKUP($B146,'%Analysis'!$A$4:$S$204,10,0)),\"\",+$C146*+VLOOKUP($B146,'%Analysis'!$A$4:$S$204,10,0))","v":""},{"$f":"IF(ISERROR(+$C146*+VLOOKUP($B146,'%Analysis'!$A$4:$S$204,11,0)),\"\",+$C146*+VLOOKUP($B146,'%Analysis'!$A$4:$S$204,11,0))","v":""},{"$f":"IF(ISERROR(+$C146*+VLOOKUP($B146,'%Analysis'!$A$4:$S$204,12,0)),\"\",+$C146*+VLOOKUP($B146,'%Analysis'!$A$4:$S$204,12,0))","v":""},{"$f":"IF(ISERROR(+$C146*+VLOOKUP($B146,'%Analysis'!$A$4:$S$204,13,0)),\"\",+$C146*+VLOOKUP($B146,'%Analysis'!$A$4:$S$204,13,0))","v":""},{"$f":"IF(ISERROR(+$C146*+VLOOKUP($B146,'%Analysis'!$A$4:$S$204,14,0)),\"\",+$C146*+VLOOKUP($B146,'%Analysis'!$A$4:$S$204,14,0))","v":""},{"$f":"IF(ISERROR(+$C146*+VLOOKUP($B146,'%Analysis'!$A$4:$S$204,15,0)),\"\",+$C146*+VLOOKUP($B146,'%Analysis'!$A$4:$S$204,15,0))","v":""},{"$f":"IF(ISERROR(+$C146*+VLOOKUP($B146,'%Analysis'!$A$4:$S$204,16,0)),\"\",+$C146*+VLOOKUP($B146,'%Analysis'!$A$4:$S$204,16,0))","v":""},{"$f":"IF(ISERROR(+$C146*+VLOOKUP($B146,'%Analysis'!$A$4:$S$204,17,0)),\"\",+$C146*+VLOOKUP($B146,'%Analysis'!$A$4:$S$204,17,0))","v":""},{"$f":"IF(ISERROR(+$C146*+VLOOKUP($B146,'%Analysis'!$A$4:$S$204,18,0)),\"\",+$C146*+VLOOKUP($B146,'%Analysis'!$A$4:$S$204,18,0))","v":""},null,null,null,{"$f":"+'%Analysis'!A148","v":0}]
[null,0,0,null,null,null,null,{"$f":"IF(ISERROR(+$C147*+VLOOKUP($B147,'%Analysis'!$A$4:$S$204,4,0)),\"\",+$C147*+VLOOKUP($B147,'%Analysis'!$A$4:$S$204,4,0))","v":""},{"$f":"IF(ISERROR(+$C147*+VLOOKUP($B147,'%Analysis'!$A$4:$S$204,5,0)),\"\",+$C147*+VLOOKUP($B147,'%Analysis'!$A$4:$S$204,5,0))","v":""},{"$f":"IF(ISERROR(+$C147*+VLOOKUP($B147,'%Analysis'!$A$4:$S$204,6,0)),\"\",+$C147*+VLOOKUP($B147,'%Analysis'!$A$4:$S$204,6,0))","v":""},{"$f":"IF(ISERROR(+$C147*+VLOOKUP($B147,'%Analysis'!$A$4:$S$204,7,0)),\"\",+$C147*+VLOOKUP($B147,'%Analysis'!$A$4:$S$204,7,0))","v":""},{"$f":"IF(ISERROR(+$C147*+VLOOKUP($B147,'%Analysis'!$A$4:$S$204,8,0)),\"\",+$C147*+VLOOKUP($B147,'%Analysis'!$A$4:$S$204,8,0))","v":""},{"$f":"IF(ISERROR(+$C147*+VLOOKUP($B147,'%Analysis'!$A$4:$S$204,9,0)),\"\",+$C147*+VLOOKUP($B147,'%Analysis'!$A$4:$S$204,9,0))","v":""},{"$f":"IF(ISERROR(+$C147*+VLOOKUP($B147,'%Analysis'!$A$4:$S$204,10,0)),\"\",+$C147*+VLOOKUP($B147,'%Analysis'!$A$4:$S$204,10,0))","v":""},{"$f":"IF(ISERROR(+$C147*+VLOOKUP($B147,'%Analysis'!$A$4:$S$204,11,0)),\"\",+$C147*+VLOOKUP($B147,'%Analysis'!$A$4:$S$204,11,0))","v":""},{"$f":"IF(ISERROR(+$C147*+VLOOKUP($B147,'%Analysis'!$A$4:$S$204,12,0)),\"\",+$C147*+VLOOKUP($B147,'%Analysis'!$A$4:$S$204,12,0))","v":""},{"$f":"IF(ISERROR(+$C147*+VLOOKUP($B147,'%Analysis'!$A$4:$S$204,13,0)),\"\",+$C147*+VLOOKUP($B147,'%Analysis'!$A$4:$S$204,13,0))","v":""},{"$f":"IF(ISERROR(+$C147*+VLOOKUP($B147,'%Analysis'!$A$4:$S$204,14,0)),\"\",+$C147*+VLOOKUP($B147,'%Analysis'!$A$4:$S$204,14,0))","v":""},{"$f":"IF(ISERROR(+$C147*+VLOOKUP($B147,'%Analysis'!$A$4:$S$204,15,0)),\"\",+$C147*+VLOOKUP($B147,'%Analysis'!$A$4:$S$204,15,0))","v":""},{"$f":"IF(ISERROR(+$C147*+VLOOKUP($B147,'%Analysis'!$A$4:$S$204,16,0)),\"\",+$C147*+VLOOKUP($B147,'%Analysis'!$A$4:$S$204,16,0))","v":""},{"$f":"IF(ISERROR(+$C147*+VLOOKUP($B147,'%Analysis'!$A$4:$S$204,17,0)),\"\",+$C147*+VLOOKUP($B147,'%Analysis'!$A$4:$S$204,17,0))","v":""},{"$f":"IF(ISERROR(+$C147*+VLOOKUP($B147,'%Analysis'!$A$4:$S$204,18,0)),\"\",+$C147*+VLOOKUP($B147,'%Analysis'!$A$4:$S$204,18,0))","v":""},null,null,null,{"$f":"+'%Analysis'!A149","v":0}]
[null,0,0,null,null,null,null,{"$f":"IF(ISERROR(+$C148*+VLOOKUP($B148,'%Analysis'!$A$4:$S$204,4,0)),\"\",+$C148*+VLOOKUP($B148,'%Analysis'!$A$4:$S$204,4,0))","v":""},{"$f":"IF(ISERROR(+$C148*+VLOOKUP($B148,'%Analysis'!$A$4:$S$204,5,0)),\"\",+$C148*+VLOOKUP($B148,'%Analysis'!$A$4:$S$204,5,0))","v":""},{"$f":"IF(ISERROR(+$C148*+VLOOKUP($B148,'%Analysis'!$A$4:$S$204,6,0)),\"\",+$C148*+VLOOKUP($B148,'%Analysis'!$A$4:$S$204,6,0))","v":""},{"$f":"IF(ISERROR(+$C148*+VLOOKUP($B148,'%Analysis'!$A$4:$S$204,7,0)),\"\",+$C148*+VLOOKUP($B148,'%Analysis'!$A$4:$S$204,7,0))","v":""},{"$f":"IF(ISERROR(+$C148*+VLOOKUP($B148,'%Analysis'!$A$4:$S$204,8,0)),\"\",+$C148*+VLOOKUP($B148,'%Analysis'!$A$4:$S$204,8,0))","v":""},{"$f":"IF(ISERROR(+$C148*+VLOOKUP($B148,'%Analysis'!$A$4:$S$204,9,0)),\"\",+$C148*+VLOOKUP($B148,'%Analysis'!$A$4:$S$204,9,0))","v":""},{"$f":"IF(ISERROR(+$C148*+VLOOKUP($B148,'%Analysis'!$A$4:$S$204,10,0)),\"\",+$C148*+VLOOKUP($B148,'%Analysis'!$A$4:$S$204,10,0))","v":""},{"$f":"IF(ISERROR(+$C148*+VLOOKUP($B148,'%Analysis'!$A$4:$S$204,11,0)),\"\",+$C148*+VLOOKUP($B148,'%Analysis'!$A$4:$S$204,11,0))","v":""},{"$f":"IF(ISERROR(+$C148*+VLOOKUP($B148,'%Analysis'!$A$4:$S$204,12,0)),\"\",+$C148*+VLOOKUP($B148,'%Analysis'!$A$4:$S$204,12,0))","v":""},{"$f":"IF(ISERROR(+$C148*+VLOOKUP($B148,'%Analysis'!$A$4:$S$204,13,0)),\"\",+$C148*+VLOOKUP($B148,'%Analysis'!$A$4:$S$204,13,0))","v":""},{"$f":"IF(ISERROR(+$C148*+VLOOKUP($B148,'%Analysis'!$A$4:$S$204,14,0)),\"\",+$C148*+VLOOKUP($B148,'%Analysis'!$A$4:$S$204,14,0))","v":""},{"$f":"IF(ISERROR(+$C148*+VLOOKUP($B148,'%Analysis'!$A$4:$S$204,15,0)),\"\",+$C148*+VLOOKUP($B148,'%Analysis'!$A$4:$S$204,15,0))","v":""},{"$f":"IF(ISERROR(+$C148*+VLOOKUP($B148,'%Analysis'!$A$4:$S$204,16,0)),\"\",+$C148*+VLOOKUP($B148,'%Analysis'!$A$4:$S$204,16,0))","v":""},{"$f":"IF(ISERROR(+$C148*+VLOOKUP($B148,'%Analysis'!$A$4:$S$204,17,0)),\"\",+$C148*+VLOOKUP($B148,'%Analysis'!$A$4:$S$204,17,0))","v":""},{"$f":"IF(ISERROR(+$C148*+VLOOKUP($B148,'%Analysis'!$A$4:$S$204,18,0)),\"\",+$C148*+VLOOKUP($B148,'%Analysis'!$A$4:$S$204,18,0))","v":""},null,null,null,{"$f":"+'%Analysis'!A150","v":0}]
[null,null,null,null,null,null,null,{"$f":"IF(ISERROR(+$C149*+VLOOKUP($B149,'%Analysis'!$A$4:$S$204,4,0)),\"\",+$C149*+VLOOKUP($B149,'%Analysis'!$A$4:$S$204,4,0))","v":""},{"$f":"IF(ISERROR(+$C149*+VLOOKUP($B149,'%Analysis'!$A$4:$S$204,5,0)),\"\",+$C149*+VLOOKUP($B149,'%Analysis'!$A$4:$S$204,5,0))","v":""},{"$f":"IF(ISERROR(+$C149*+VLOOKUP($B149,'%Analysis'!$A$4:$S$204,6,0)),\"\",+$C149*+VLOOKUP($B149,'%Analysis'!$A$4:$S$204,6,0))","v":""},{"$f":"IF(ISERROR(+$C149*+VLOOKUP($B149,'%Analysis'!$A$4:$S$204,7,0)),\"\",+$C149*+VLOOKUP($B149,'%Analysis'!$A$4:$S$204,7,0))","v":""},{"$f":"IF(ISERROR(+$C149*+VLOOKUP($B149,'%Analysis'!$A$4:$S$204,8,0)),\"\",+$C149*+VLOOKUP($B149,'%Analysis'!$A$4:$S$204,8,0))","v":""},{"$f":"IF(ISERROR(+$C149*+VLOOKUP($B149,'%Analysis'!$A$4:$S$204,9,0)),\"\",+$C149*+VLOOKUP($B149,'%Analysis'!$A$4:$S$204,9,0))","v":""},{"$f":"IF(ISERROR(+$C149*+VLOOKUP($B149,'%Analysis'!$A$4:$S$204,10,0)),\"\",+$C149*+VLOOKUP($B149,'%Analysis'!$A$4:$S$204,10,0))","v":""},{"$f":"IF(ISERROR(+$C149*+VLOOKUP($B149,'%Analysis'!$A$4:$S$204,11,0)),\"\",+$C149*+VLOOKUP($B149,'%Analysis'!$A$4:$S$204,11,0))","v":""},{"$f":"IF(ISERROR(+$C149*+VLOOKUP($B149,'%Analysis'!$A$4:$S$204,12,0)),\"\",+$C149*+VLOOKUP($B149,'%Analysis'!$A$4:$S$204,12,0))","v":""},{"$f":"IF(ISERROR(+$C149*+VLOOKUP($B149,'%Analysis'!$A$4:$S$204,13,0)),\"\",+$C149*+VLOOKUP($B149,'%Analysis'!$A$4:$S$204,13,0))","v":""},{"$f":"IF(ISERROR(+$C149*+VLOOKUP($B149,'%Analysis'!$A$4:$S$204,14,0)),\"\",+$C149*+VLOOKUP($B149,'%Analysis'!$A$4:$S$204,14,0))","v":""},{"$f":"IF(ISERROR(+$C149*+VLOOKUP($B149,'%Analysis'!$A$4:$S$204,15,0)),\"\",+$C149*+VLOOKUP($B149,'%Analysis'!$A$4:$S$204,15,0))","v":""},{"$f":"IF(ISERROR(+$C149*+VLOOKUP($B149,'%Analysis'!$A$4:$S$204,16,0)),\"\",+$C149*+VLOOKUP($B149,'%Analysis'!$A$4:$S$204,16,0))","v":""},{"$f":"IF(ISERROR(+$C149*+VLOOKUP($B149,'%Analysis'!$A$4:$S$204,17,0)),\"\",+$C149*+VLOOKUP($B149,'%Analysis'!$A$4:$S$204,17,0))","v":""},{"$f":"IF(ISERROR(+$C149*+VLOOKUP($B149,'%Analysis'!$A$4:$S$204,18,0)),\"\",+$C149*+VLOOKUP($B149,'%Analysis'!$A$4:$S$204,18,0))","v":""},null,null,null,{"$f":"+'%Analysis'!A151","v":0}]
[null,null,null,null,null,null,null,{"$f":"IF(ISERROR(+$C150*+VLOOKUP($B150,'%Analysis'!$A$4:$S$204,4,0)),\"\",+$C150*+VLOOKUP($B150,'%Analysis'!$A$4:$S$204,4,0))","v":""},{"$f":"IF(ISERROR(+$C150*+VLOOKUP($B150,'%Analysis'!$A$4:$S$204,5,0)),\"\",+$C150*+VLOOKUP($B150,'%Analysis'!$A$4:$S$204,5,0))","v":""},{"$f":"IF(ISERROR(+$C150*+VLOOKUP($B150,'%Analysis'!$A$4:$S$204,6,0)),\"\",+$C150*+VLOOKUP($B150,'%Analysis'!$A$4:$S$204,6,0))","v":""},{"$f":"IF(ISERROR(+$C150*+VLOOKUP($B150,'%Analysis'!$A$4:$S$204,7,0)),\"\",+$C150*+VLOOKUP($B150,'%Analysis'!$A$4:$S$204,7,0))","v":""},{"$f":"IF(ISERROR(+$C150*+VLOOKUP($B150,'%Analysis'!$A$4:$S$204,8,0)),\"\",+$C150*+VLOOKUP($B150,'%Analysis'!$A$4:$S$204,8,0))","v":""},{"$f":"IF(ISERROR(+$C150*+VLOOKUP($B150,'%Analysis'!$A$4:$S$204,9,0)),\"\",+$C150*+VLOOKUP($B150,'%Analysis'!$A$4:$S$204,9,0))","v":""},{"$f":"IF(ISERROR(+$C150*+VLOOKUP($B150,'%Analysis'!$A$4:$S$204,10,0)),\"\",+$C150*+VLOOKUP($B150,'%Analysis'!$A$4:$S$204,10,0))","v":""},{"$f":"IF(ISERROR(+$C150*+VLOOKUP($B150,'%Analysis'!$A$4:$S$204,11,0)),\"\",+$C150*+VLOOKUP($B150,'%Analysis'!$A$4:$S$204,11,0))","v":""},{"$f":"IF(ISERROR(+$C150*+VLOOKUP($B150,'%Analysis'!$A$4:$S$204,12,0)),\"\",+$C150*+VLOOKUP($B150,'%Analysis'!$A$4:$S$204,12,0))","v":""},{"$f":"IF(ISERROR(+$C150*+VLOOKUP($B150,'%Analysis'!$A$4:$S$204,13,0)),\"\",+$C150*+VLOOKUP($B150,'%Analysis'!$A$4:$S$204,13,0))","v":""},{"$f":"IF(ISERROR(+$C150*+VLOOKUP($B150,'%Analysis'!$A$4:$S$204,14,0)),\"\",+$C150*+VLOOKUP($B150,'%Analysis'!$A$4:$S$204,14,0))","v":""},{"$f":"IF(ISERROR(+$C150*+VLOOKUP($B150,'%Analysis'!$A$4:$S$204,15,0)),\"\",+$C150*+VLOOKUP($B150,'%Analysis'!$A$4:$S$204,15,0))","v":""},{"$f":"IF(ISERROR(+$C150*+VLOOKUP($B150,'%Analysis'!$A$4:$S$204,16,0)),\"\",+$C150*+VLOOKUP($B150,'%Analysis'!$A$4:$S$204,16,0))","v":""},{"$f":"IF(ISERROR(+$C150*+VLOOKUP($B150,'%Analysis'!$A$4:$S$204,17,0)),\"\",+$C150*+VLOOKUP($B150,'%Analysis'!$A$4:$S$204,17,0))","v":""},{"$f":"IF(ISERROR(+$C150*+VLOOKUP($B150,'%Analysis'!$A$4:$S$204,18,0)),\"\",+$C150*+VLOOKUP($B150,'%Analysis'!$A$4:$S$204,18,0))","v":""},null,null,null,{"$f":"+'%Analysis'!A152","v":0}]
[null,null,null,null,null,null,null,null,null,null,null,null,null,null,null,null,null,null,null,null,null,null,null,null,null,{"$f":"+'%Analysis'!A153","v":0}]
[null,null,null,null,null,null,null,null,null,null,null,null,null,null,null,null,null,null,null,null,null,null,null,null,null,{"$f":"+'%Analysis'!A154","v":0}]
[null,null,"Weight Totals",null,null,{"$f":"384.248/414.63","v":0.92672503195620193},null,{"$f":"SUM(H136:H152)","v":0},{"$f":"SUM(I136:I152)","v":0},0,0,0,0,0,0,0,0,0,0,0,0,0,null,null,null,{"$f":"+'%Analysis'!A155","v":0}]
[null,null,"Mol Weights",null,null,null,null,94.195999999999998,61.978999999999999,29.881,56.076999999999998,103.619,40.304000000000002,81.379000000000005,153.32599999999999,101.961,159.68799999999999,69.62,60.084000000000003,79.866,44.01,18.015000000000001,null,null,null,{"$f":"+'%Analysis'!A156","v":0}]
[null,null,"Gram Equivalents",null,null,{"$f":"SUM(I155:V155)","v":0},null,{"$f":"H153/H154","v":0},{"$f":"I153/I154","v":0},{"$f":"J153/J154","v":0},{"$f":"K153/K154","v":0},{"$f":"L153/L154","v":0},0,0,0,0,0,0,0,0,0,0]
[null,null,"Total Flux Equivs",null,null,null,null,{"$f":"SUM(H155:O155)","v":0}]
[null,null,"Formula",null,null,null,null,{"$f":"H155/$H$156","v":{"$error":"#DIV/0!"}},{"$error":"#DIV/0!"},{"$error":"#DIV/0!"},{"$error":"#DIV/0!"},{"$error":"#DIV/0!"},{"$error":"#DIV/0!"},{"$error":"#DIV/0!"},{"$error":"#DIV/0!"},{"$error":"#DIV/0!"},{"$error":"#DIV/0!"},{"$error":"#DIV/0!"},{"$error":"#DIV/0!"},{"$error":"#DIV/0!"},{"$error":"#DIV/0!"},{"$error":"#DIV/0!"}]
[]
[null,null,null,null,null,null,"TOTAL","K2O","Na2O","Li2O","CaO","SrO","MgO","ZnO","BaO","Al2O3","Fe2O3","B2O3","SiO2","TiO2","CO2","H2O"]
[null,null,null,null,"|","Fired",{"$f":"+H153+I153+J153+K153+L153+M153+N153+O153+P153+Q153+R153+S153+T153","v":0},{"$f":"+H153","v":0},{"$f":"+I153","v":0},0,0,0,0,0,0,0,0,0,0,0]
[null,null,null,null,"|","Wt %",{"$f":"G160/$G$160","v":{"$error":"#DIV/0!"}},{"$f":"H160/$G$160","v":{"$error":"#DIV/0!"}},{"$error":"#DIV/0!"},{"$error":"#DIV/0!"},{"$error":"#DIV/0!"},{"$error":"#DIV/0!"},{"$error":"#DIV/0!"},{"$error":"#DIV/0!"},{"$error":"#DIV/0!"},{"$error":"#DIV/0!"},{"$error":"#DIV/0!"},{"$error":"#DIV/0!"},{"$error":"#DIV/0!"},{"$error":"#DIV/0!"}]
[null,null,null,null,"|"]
[null,null,null,null,"|"]
[null,null,null,null,"|"]

{"sheet":"%Analysis","index":3,"n_rows":91,"n_cols":19,"rows_kept":91,"cut":false,"hidden":false,"merged":[]}
["Percent Analysis of Ceramic Glaze Ingredients"]
["This page updated courtesy of Dick White"]
[]
["Mineral","Mol Wt","Tot %","K2O","Na2O","Li2O","CaO","SrO","MgO","ZnO","BaO","Al2O3","Fe2O3","B2O3","SiO2","TiO2","CO2","H2O","Source"]
["Al2O3",101.94,{"$f":"SUM(D5:R5)","v":100},null,null,null,null,null,null,null,null,100]
["Albany Slip",462.93,99.990000000000009,3.2,0.8,null,5.81,null,2.71,null,null,14.63,5.21,null,57.82,0.4,9.41,null,"DigitalFire"]
["Alumina Hydrate",155.94,100,null,null,null,null,null,null,null,null,65.371296652558669,null,null,null,null,null,34.628703347441324]
["B2O3",null,100,null,null,null,null,null,null,null,null,null,null,100]
["BaCarb",null,100,null,null,null,null,null,null,null,77.7,null,null,null,null,null,22.3]
["BaO",null,100,null,null,null,null,null,null,null,100]
["Barnard Slip",null,96.11,2,null,null,0.3,null,0.8,null,null,10,15,null,59,0.7,8.31,null,"DigitalFire"]
["Bentone MA",null,{"$f":"SUM(D10:R10)","v":100},null,3.2,1.3,5.5,null,22.7,null,null,0.8,0.3,null,53.2,null,12.7,null,"DigitalFire"]
["Bentonite",null,{"$f":"SUM(D13:R13)","v":99.36999999999999},2.9,null,null,0.46,null,2.2599999999999998,null,null,20.7,3.47,null,64.319999999999993,0.11,null,5.15]
["BoneAsh",null,{"$f":"SUM(D14:R14)","v":55.82},null,null,null,55.82,null,null,null,null,null,null,null,null,null,null,null,"DigitalFire"]
["Borax",null,{"$f":"SUM(D15:R15)","v":100},null,16.260000000000002,null,null,null,null,null,null,null,null,36.53,null,null,null,47.21]
["CaO",null,{"$f":"SUM(D16:R16)","v":100},null,null,null,100]
["ChromeOxide"]
["CMC Gum",null,{"$f":"SUM(D18:R18)","v":0}]
["CoCarb"]
["Coleman",411,{"$f":"SUM(D20:R20)","v":100},null,null,null,27.3,null,null,null,null,null,null,50.8,null,null,null,21.9]
["CoOxide",null,{"$f":"SUM(D21:R21)","v":0}]
["Corn Old",null,{"$f":"SUM(D22:R22)","v":98.78},3.8,4,null,2.96,null,0.09,null,null,14.9,0.13,null,72.900000000000006]
["Cornwall",726.06,{"$f":"SUM(D23:R23)","v":98.7},6.5,2.2999999999999998,null,1.6,null,null,null,null,16.7,0.2,null,70.900000000000006,0.5,null,null,"CeramicArtsDaily"]
["Cu2O"]
["CuCarb"]
["Custer",618.82000000000005,{"$f":"SUM(D26:R26)","v":100.00000000000001},7,3,null,0.3,null,0.01,null,null,15,0.15,null,73.5,null,1.04,null,"Ron Roy"]
["Custer - Old",null,99.7,10.1,3,null,0.3,null,null,null,null,17.100000000000001,0.2,null,69,null,null,null,"Pacer"]
["Dolomite",184.4,100,null,null,null,30.49,null,21.9,null,null,null,null,null,null,null,47.61,null,"DigitalFire"]
["EPK",272.92,98.12,0.33,0.06,null,0.18,null,0.1,null,null,37.36,0.79,null,45.73,0.37,11.799999999999999,1.4,"DigitalFire"]
["EPK - Calcined",null,100,null,null,null,null,null,null,null,null,45.9,null,null,54.1,null,null,null,"DigitalFire"]
["Fe2O3",null,100,null,null,null,null,null,null,null,null,null,100]
["Ferro3110",261.11,100,2.36,15.24,null,6.29,null,null,null,null,3.7,null,2.64,69.77,null,null,null,"DigitalFire"]
["Ferro3124",274.12,100.05,0.68,6.4,null,14.28,null,null,null,null,10.01,null,13.74,54.94,null,null,null,"DigitalFire"]
["Ferro3134",195.57,100,null,10.14,null,19.510000000000002,null,null,null,null,2,null,22.79,45.56,null,null,null,"DigitalFire"]
["Ferro3195",339.82,100,null,5.69,null,11.36,null,null,null,null,11.98,null,22.62,48.35,null,null,null,"DigitalFire"]
["Flint",60.06,100,null,null,null,null,null,null,null,null,null,null,null,100,null,null,null,"DigitalFire"]
["G-200",553.87,99.78,10.8,3.1,null,0.8,null,0.05,null,null,18.5,0.08,null,66.3,null,0.15,null,"DigitalFire"]
["G200 HP",560.75,99.820000000000007,13.2,1.52,null,0.75,null,null,null,null,18.2,0.09,null,65.900000000000006,null,0.16,null,"Digitalfire"]
["Gerstley Borate",199.15,100,0.4,4,null,19.600000000000001,null,3.5,null,null,1,0.4,26.8,14.8,null,29.5,null,"DigitalFire"]
["Gerstley Borate - 1999",null,98.2,null,2.9,null,18.899999999999999,null,null,null,null,7,null,25.7,21.2,null,22.5,null,"GlazeMaster"]
["Gillespie Borate",null,100.02000000000001,null,3.77,null,23,0.45,3.9,null,null,1.7,null,24.5,11.8,null,30.9,null,"DigitalFire"]
["Goldart",353.77,99.98,1.9,0.2,null,0.2,null,0.48,null,null,28.8,1.4,null,55.2,1.8,10,null,"DigitalFire"]
["Grolleg",271.38,100.14,1.9,0.1,null,0.1,null,0.3,null,null,37,0.7,null,48,0.03,null,12.01,"DigitalFire"]
["K2CO3",138.19999999999999,100,68.154848046309695,null,null,null,null,null,null,null,null,null,null,null,null,31.845151953690305]
["K2O",null,100,100]
["Kaolin",253.67,100,null,null,null,null,null,null,null,null,40.21,null,null,47.29,null,null,12.5,"DigitalFire"]
["KFeld",null,100,16.920000000000002,null,null,null,null,null,null,null,18.32,null,null,64.760000000000005]
["Kingman",573.21,99.99,12.01,2.8,null,0.1,null,null,null,null,18.72,0.11,null,66.17,null,0.08,null,"DigitalFire"]
["KonaF-4",518.83000000000004,99.9,4.8,6.9,null,1.7,null,null,null,null,19.600000000000001,null,null,66.7,null,0.2,null,"DigitalFire"]
["Leucite",null,100,21.59,null,null,null,null,null,null,null,23.36,null,null,55.05]
["Li2O",null,100,null,null,100]
["LiCarb",null,100,null,null,40.74,null,null,null,null,null,null,null,null,null,null,59.26,null,"DigitalFire"]
["LiSilicate",90,100,null,null,33.222000000000001,null,null,null,null,null,null,null,null,66.778000000000006]
["Macaloid",null,99.7,null,3.2,1.3,5.5,null,22.7,null,null,0.8,0.3,null,53.2,null,12.7,null,"DigitalFire"]
["MgCarb",null,99.990000000000009,null,null,null,null,null,43.09,null,null,null,null,null,null,null,37.64,19.260000000000002,"DigitalFire"]
["MgO",null,100,null,null,null,null,null,100]
["Mahavir Feldspar",null,99.88,11.5,3,null,0.15,null,0.15,null,null,17.5,0.08,null,67,null,0.5,null,"DigitalFire"]
["Minspar 200",568.05999999999995,99.469999999999985,4.0999999999999996,6.5,null,1.5,null,null,null,null,18.2,7.0000000000000007E-2,null,68.8,null,0.3,null,"DigitalFire"]
["MnCarb",null,0]
["MnO2",null,0]
["Na2CO3",106,100,null,50,null,null,null,null,null,null,null,null,null,null,null,50,null,"DigitalFire"]
["Na2O",null,100,null,100]
["NaFeld",524.6,100,null,11.82,null,null,null,null,null,null,19.440000000000001,null,null,68.739999999999995]
["NephelineSyenite",404.8,99.970000000000013,4.8,10.5,null,0.35,null,0.02,null,null,23.6,0.08,null,60.2,null,0.42]
["NiCarb"]
["OldHick",null,{"$f":"SUM(D66:R66)","v":89.37},1.62,null,null,null,null,null,null,null,28.2,1.1200000000000001,null,56.9,1.53]
["OM4",365.59,{"$f":"SUM(D67:R67)","v":100.60000000000001},1.1000000000000001,0.2,null,0.2,null,0.5,null,null,26.3,1.3,null,59.7,2,9.3000000000000007,null,"DigitalFire"]
["P2O5"]
["Petalite",655.86,{"$f":"SUM(D69:R69)","v":100.00999999999999},null,null,4.87,null,null,null,null,null,16.649999999999999,null,null,78.489999999999995,null,null,null,"DigitalFire"]
["PlVit",null,99.999999999999986,5,0.9,null,1,null,0.5,null,null,12.7,0.5,null,76.5,0.1,2.8,null,"DigitalFire"]
["Redart",626.27,99.78,4.1500000000000004,0.38,null,0.26,null,1.59,null,null,15.51,7.05,null,64.95,1.0900000000000001,4.8,null,"DigitalFire"]
["Rutile",null,100.1,null,null,null,null,null,null,null,null,null,10,null,null,90,null,0.1,"DigitalFire"]
["Silica",60.06,100,null,null,null,null,null,null,null,null,null,null,null,100]
["SiO2",null,100,null,null,null,null,null,null,null,null,null,null,null,100]
["Spodumene",376.28,99.87,0.15,0.15,7.7,0.03,null,null,null,null,26.77,0.09,null,64.97,0.01,null,null,"GlazeMaster (Gwalia)"]
["SrCarb",null,100,null,null,null,null,70.2,null,null,null,null,null,null,null,null,29.8,null,"DigitalFire"]
["SrO",null,100,null,null,null,null,100]
["Superpax",null,32.79,null,null,null,null,null,null,null,null,null,null,null,32.79,null,null,null,"DigitalFire"]
["Talc - NYTAL",null,99.84,null,0.34,null,8.42,null,30,null,null,0.31,0.16,null,55.2,null,5.41,null,"GlazeMaster"]
["Talc - Texas",132.16,99.699999999999989,0.3,null,null,3.5,null,29.5,null,null,0.3,0.5,null,53.5,0.1,null,12,"DigitalFire (Amtalc C98)"]
["TinOxide"]
["TiO2",null,{"$f":"SUM(D82:R82)","v":100},null,null,null,null,null,null,null,null,null,null,null,null,100]
["Ultrox",null,35,null,null,null,null,null,null,null,null,null,null,null,35,null,null,null,"DigitalFire"]
["Veegum",null,0]
["VolAsh",null,98.45,4.5,3.6,null,1,null,0.35,null,null,13,3,null,73]
["Westex Talc",141.41999999999999,99.999999999999986,1,0.9,null,2.9,null,25.4,null,null,0.35,0.5,null,57.3,null,7.35,4.3,"Digitalfire"]
["Whiting",null,100,null,null,null,56.1,null,null,null,null,null,null,null,null,null,43.9,null,"Digitalfire"]
["Wollastonite",116.17,100,null,null,null,48.28,null,null,null,null,null,null,null,51.72,null,null,null,"Digitalfire"]
["Yellow Ochre"]
["Zircopax",null,{"$f":"SUM(D90:R90)","v":32.79},null,null,null,null,null,null,null,null,null,null,null,32.79,null,null,null,"DigitalFire"]
["ZnO",null,{"$f":"SUM(D91:R91)","v":100},null,null,null,null,null,null,100]

{"sheet":"Revisions","index":4,"n_rows":1,"n_cols":3,"rows_kept":1,"cut":false,"hidden":false,"merged":[]}
["version 1.91",null,"%Analysis page updated by Dick White"]